{"text_format":"3","workbook":"xlsx","n_sheets":2,"sheets":["Sheet1","修改"],"not_rendered":{"external_links":2,"defined_names":1},"read":"whole","date_system":"1900"}

{"sheet":"Sheet1","index":0,"n_rows":121,"n_cols":7,"rows_kept":121,"merged":[[0,0,0,6]]}
["漳州市龙文区2024年公开招聘中小学国企教师\n入闱资格复审人员名单"]
["序号","姓名","岗位名称","岗位代码","成绩","排名","备注"]
[1,"唐晴雯","高中语文教师","01",107.8,1]
[2,"郑素莲","高中语文教师","01",95.6,2]
[3,"王晓娟","高中数学教师","02",100.1,1]
[4,"刘佳音","高中数学教师","02",97.1,2]
[5,"罗晓蓉","高中英语教师","03",112.8,1]
[6,"苏雅真","高中英语教师","03",112.4,2]
[7,"张丽娜","高中英语教师","03",109.9,3]
[8,"洪舒婷","高中英语教师","03",109.2,4]
[9,"吴羽梅","高中英语教师","03",107.5,5]
[10,"张薰元","高中英语教师","03",106.6,6]
[11,"郭梅艳","高中化学教师","05",101.3,1]
[12,"林雅珊","高中化学教师","05",100.9,2]
[13,"张桂燕","高中化学教师","05",98.1,3]
[14,"郑祖珍","高中生物教师","06",113.4,1]
[15,"吴怡虹","高中生物教师","06",108.5,2]
[16,"黄小丽","高中生物教师","06",107.7,3]
[17,"杨愉然","高中地理教师","07",102.9,1]
[18,"黄婉荣","高中地理教师","07",99.3,2]
[19,"周若琳","高中地理教师","07",96.5,3]
[20,"陈丽贞","高中地理教师","07",92.6,4]
[21,"陈珏","高中地理教师","07",91.2,5]
[22,"林静","高中历史教师","08",103.2,1]
[23,"肖永芬","高中历史教师","08",96.6,2]
[24,"蔡冬梅","高中政治教师","09",91.4,1]
[25,"武晶晶","高中信息技术教师","10",115.7,1]
[26,"黄贤玲","高中信息技术教师","10",102.5,2]
[27,"赵舒颖","高中信息技术教师","10",102.3,3]
[28,"王鸿绿","高中体育教师","11",116.6,1]
[29,"郑辰晗","高中体育教师","11",{"v":116,"d":"116.0"},2]
[30,"颜奇琛","高中体育教师","11",114.7,3]
[31,"马李健","高中体育教师","11",113.5,4]
[32,"何佳兴","高中体育教师","11",{"v":113,"d":"113.0"},5]
[33,"吴毅鹏","高中体育教师","11",112.4,6]
[34,"王力凡","高中体育教师","11",{"v":112,"d":"112.0"},7]
[35,"方增煌","高中体育教师","11",{"v":109,"d":"109.0"},8]
[36,"郑豪伟","高中体育教师","11",108.1,9]
[37,"柯林婷","初中语文教师","12",112.5,1]
[38,"吴嘉惠","初中语文教师","12",{"v":110,"d":"110.0"},2]
[39,"黄宇斓","初中语文教师","12",109.9,3]
[40,"黄慧洁","初中语文教师","12",109.7,4]
[41,"刘光平","初中语文教师","12",109.3,5]
[42,"胡彩芳","初中语文教师","12",108.5,6]
[43,"林珏明","初中语文教师","12",107.7,7]
[44,"王盈","初中语文教师","12",107.2,8]
[45,"陈家欣","初中语文教师","12",105.8,9]
[46,"曾愉平","初中语文教师","12",105.7,10]
[47,"张睿仪","初中语文教师","12",105.1,11]
[48,"何柳芳","初中语文教师","12",103.4,12]
[49,"林晨欣","初中语文教师","12",103.1,13]
[50,"李琪","初中语文教师","12",{"v":102,"d":"102.0"},14]
[51,"卢毓纯","初中语文教师","12",101.3,15]
[52,"杨婧","初中语文教师","12",99.5,16]
[53,"林静薇","初中语文教师","12",98.9,17]
[54,"罗丹","初中语文教师","12",98.3,18]
[55,"张秀香","初中数学教师","13",{"v":97,"d":"97.0"},1]
[56,"洪丹玲","初中数学教师","13",94.1,2]
[57,"侯旭虹","初中数学教师","13",94.1,3]
[58,"林育群","初中数学教师","13",92.9,4]
[59,"陈翌雯","初中英语教师","14",113.5,1]
[60,"汪玉萍","初中英语教师","14",112.9,2]
[61,"刘婉玲","初中英语教师","14",112.2,3]
[62,"郭佳怡","初中英语教师","14",110.8,4]
[63,"洪晓玲","初中英语教师","14",110.3,5]
[64,"郑静","初中英语教师","14",110.1,6]
[65,"陈黄蓉","初中英语教师","14",109.7,7]
[66,"邱雪儿","初中英语教师","14",108.8,8]
[67,"王惠红","初中英语教师","14",108.5,9]
[68,"林木贵","初中生物教师","16",107.2,1]
[69,"罗集锦","初中生物教师","16",106.1,2]
[70,"方怡泓","初中生物教师","16",103.3,3]
[71,"翁莉莉","初中地理教师","17",100.7,1]
[72,"黎晶","初中地理教师","17",97.7,2]
[73,"林燕妮","初中地理教师","17",96.1,3]
[74,"沈泽磊","初中地理教师","17",91.7,4]
[75,"陈美芝","初中历史教师","18",120.6,1]
[76,"沈丽聪","初中历史教师","18",{"v":103,"d":"103.0"},2]
[77,"郑学智","初中历史教师","18",{"v":102,"d":"102.0"},3]
[78,"陈斯琪","初中信息技术教师","20",{"v":111,"d":"111.0"},1]
[79,"林承义","初中信息技术教师","20",109.6,2]
[80,"廖银萍","初中信息技术教师","20",106.6,3]
[81,"吴佳琼","初中音乐教师","21",113.2,1]
[82,"林亲晴","初中音乐教师","21",105.1,2]
[83,"李陧","初中音乐教师","21",101.1,3]
[84,"洪胤","初中体育教师","22",114.2,1]
[85,"邹艺涵","初中体育教师","22",110.4,2]
[86,"欧扬明","初中体育教师","22",106.6,3]
[87,"张毅伟","初中体育教师","22",105.7,4]
[88,"杨家威","初中体育教师","22",105.1,5]
[89,"吴雪霞","初中体育教师","22",104.8,6]
[90,"杨晓琳","初中美术教师","23",108.4,1]
[91,"陈毓贤","初中美术教师","23",108.2,2]
[92,"黄舒婷","初中美术教师","23",107.4,3]
[93,"郑淑敏","初中心理健康教育教师","24",119.1,1]
[94,"陈瑞敏","初中心理健康教育教师","24",111.9,2]
[95,"黄冰","初中心理健康教育教师","24",107.5,3]
[96,"王雅斌","小学英语教师","25",117.6,1]
[97,"谢妙玲","小学英语教师","25",116.1,2]
[98,"林雨薇","小学英语教师","25",114.7,3]
[99,"曾达昌","小学音乐教师","26",109.9,1]
[100,"杨炎莹","小学音乐教师","26",107.1,2]
[101,"陈琪","小学音乐教师","26",106.1,3]
[102,"李洁","小学美术教师","27",115.9,1]
[103,"王雅君","小学美术教师","27",115.3,2]
[104,"林张怡","小学美术教师","27",115.1,3]
[105,"郑伟杰","小学体育教师","28",110.9,1]
[106,"黄鹏斌","小学体育教师","28",110.8,2]
[107,"赖一杭","小学体育教师","28",108.9,3]
[108,"吕伟鸿","小学体育教师","28",107.2,4]
[109,"温集华","小学体育教师","28",106.6,5]
[110,"黄鸿","小学体育教师","28",105.8,6]
[111,"康月玲","小学科学教师","29",109.4,1]
[112,"林钧婕","小学科学教师","29",104.3,2]
[113,"刘翔玲","小学科学教师","29",103.2,3]
[114,"张诗浩","小学心理健康教育教师","30",{"v":115,"d":"115.0"},1]
[115,"王楚虹","小学心理健康教育教师","30",111.9,2]
[116,"鲁灵璇","小学心理健康教育教师","30",111.6,3]
[117,"江金霞","小学心理健康教育教师","30",109.6,4]
[118,"郑莹","小学心理健康教育教师","30",108.7,5]
[119,"陈巧莹","小学心理健康教育教师","30",106.3,6]

{"sheet":"修改","index":1,"n_rows":156,"n_cols":10,"rows_kept":156,"merged":[[0,0,0,4]]}
["漳州市龙文区2023年公开招聘中小学幼儿园国企教师\n入闱资格复审人员名单"]
["序号","岗位名称","姓名","成绩","备注","身份证","手机号","毕业院校","专业","学历"]
[1,"高中物理教师(01)","张秋宗",99.8,null,{"$f":"VLOOKUP(C3,[1]汇总!$B:$I,8,0)","v":"35062219890501101X"},{"$f":"VLOOKUP(C3,[1]汇总!$B:$K,10,0)","v":"13799838532"},"漳州师范学院","物理学","本科生"]
[2,"高中化学教师(02)","杨雅燕",117.1,null,{"$f":"VLOOKUP(C4,[1]汇总!$B:$I,8,0)","v":"350629199602250522"},{"$f":"VLOOKUP(C4,[1]汇总!$B:$K,10,0)","v":"15880133006"},"福建师范大学","高分子化学与物理","硕士研究生"]
[3,"高中地理教师(03)","谭忠清",110.2,null,{"$f":"VLOOKUP(C5,[1]汇总!$B:$I,8,0)","v":"520181199308111724"},{"$f":"VLOOKUP(C5,[1]汇总!$B:$K,10,0)","v":"18159608252"},"江西师范大学","地理科学（师范）","本科生"]
[4,"高中政治教师(04)","林佩瑜",104.6,null,{"$f":"VLOOKUP(C6,[1]汇总!$B:$I,8,0)","v":"350628199504015522"},{"$f":"VLOOKUP(C6,[1]汇总!$B:$K,10,0)","v":"18350616737"},"闽南师范大学","思想政治教育","本科生"]
[5,"高中政治教师(04)","陈沁园",104.3,null,{"$f":"VLOOKUP(C7,[1]汇总!$B:$I,8,0)","v":"350628199908083521"},{"$f":"VLOOKUP(C7,[1]汇总!$B:$K,10,0)","v":"15960658419"},"宁德师范学院","思想政治教育","本科生"]
[6,"初中政治教师(05)","杨雪萍",106.9,null,{"$f":"VLOOKUP(C8,[1]汇总!$B:$I,8,0)","v":"350600199102234021"},{"$f":"VLOOKUP(C8,[1]汇总!$B:$K,10,0)","v":"13606989054"},"闽南师范大学","思想政治教育","本科生"]
[7,"初中地理教师(06)","蔡祝旺",115.9,null,{"$f":"VLOOKUP(C9,[1]汇总!$B:$I,8,0)","v":"350681199105291011"},{"$f":"VLOOKUP(C9,[1]汇总!$B:$K,10,0)","v":"13850575520"},"安顺学院","地理科学","本科生"]
[8,"初中历史教师(07)","何铵棋",119.8,null,{"$f":"VLOOKUP(C10,[1]汇总!$B:$I,8,0)","v":"350627199811040027"},{"$f":"VLOOKUP(C10,[1]汇总!$B:$K,10,0)","v":"18960177593"},"闽南师范大学","历史学","本科生"]
[9,"初中体育教师(08)","林杰桦",105.8,null,{"$f":"VLOOKUP(C11,[1]汇总!$B:$I,8,0)","v":"350600199806272018"},{"$f":"VLOOKUP(C11,[1]汇总!$B:$K,10,0)","v":"18950895269"},"龙岩学院","体育教育","本科生"]
[10,"初中体育教师(08)","吴泳明",103.5,null,{"$f":"VLOOKUP(C12,[1]汇总!$B:$I,8,0)","v":"350629199911285016"},{"$f":"VLOOKUP(C12,[1]汇总!$B:$K,10,0)","v":"15960879033"},"闽南师范大学","体育教育","本科生"]
[11,"初中体育教师(08)","孔繁振",102.9,null,{"$f":"VLOOKUP(C13,[1]汇总!$B:$I,8,0)","v":"410426199910271014"},{"$f":"VLOOKUP(C13,[1]汇总!$B:$K,10,0)","v":"15959785057"},"三明学院","社会体育指导与管理","本科生"]
[12,"初中心理健康教育教师(09)","孙双朋",114.5,null,{"$f":"VLOOKUP(C14,[1]汇总!$B:$I,8,0)","v":"410185199409290047"},{"$f":"VLOOKUP(C14,[1]汇总!$B:$K,10,0)","v":"18959693434"},"闽南师范大学","心理学","本科生"]
[13,"小学语文教师(10)","黄跃伟",100.6,null,{"$f":"VLOOKUP(C15,[1]汇总!$B:$I,8,0)","v":"350681200003300517"},{"$f":"VLOOKUP(C15,[1]汇总!$B:$K,10,0)","v":"15959665877"},"仰恩大学","汉语言文学","本科生"]
[14,"小学语文教师(10)","林子源",99.7,null,{"$f":"VLOOKUP(C16,[1]汇总!$B:$I,8,0)","v":"350503200107301018"},{"$f":"VLOOKUP(C16,[1]汇总!$B:$K,10,0)","v":"13489728099"},"云南大学滇池学院","汉语言文学","本科生"]
[15,"小学语文教师(10)","洪景霖",99,null,{"$f":"VLOOKUP(C17,[1]汇总!$B:$I,8,0)","v":"350627199902120014"},{"$f":"VLOOKUP(C17,[1]汇总!$B:$K,10,0)","v":"15860630358"},"泉州师范学院","小学教育","本科生"]
[16,"小学语文教师(10)","罗泽坤",98.6,null,{"$f":"VLOOKUP(C18,[1]汇总!$B:$I,8,0)","v":"350622200011230037"},{"$f":"VLOOKUP(C18,[1]汇总!$B:$K,10,0)","v":"18359215978"},"宁德师范学院","小学教育","本科生"]
[17,"小学语文教师(11)","陈晓颖",109.8,null,{"$f":"VLOOKUP(C19,[1]汇总!$B:$I,8,0)","v":"350600199903060025"},{"$f":"VLOOKUP(C19,[1]汇总!$B:$K,10,0)","v":"18959638986"},"福建师范大学","汉语国际教育","本科生"]
[18,"小学语文教师(11)","黄诗珊",109.4,null,{"$f":"VLOOKUP(C20,[1]汇总!$B:$I,8,0)","v":"350628199903085069"},{"$f":"VLOOKUP(C20,[1]汇总!$B:$K,10,0)","v":"18060113530"},"泉州师范学院","小学教育","本科生"]
[19,"小学语文教师(11)","甘紫菁",109.3,null,{"$f":"VLOOKUP(C21,[1]汇总!$B:$I,8,0)","v":"350602199910101027"},{"$f":"VLOOKUP(C21,[1]汇总!$B:$K,10,0)","v":"13375966978"},"重庆师范大学涉外商贸学院","汉语言文学（师范）","本科生"]
[20,"小学语文教师(11)","王馨仪",108.7,null,{"$f":"VLOOKUP(C22,[1]汇总!$B:$I,8,0)","v":"350603200012061520"},{"$f":"VLOOKUP(C22,[1]汇总!$B:$K,10,0)","v":"15260668376"},"福州大学至诚学院","汉语言文学","本科生"]
[21,"小学语文教师(12)","范素华",112.5,null,{"$f":"VLOOKUP(C23,[1]汇总!$B:$I,8,0)","v":"350823199705261024"},{"$f":"VLOOKUP(C23,[1]汇总!$B:$K,10,0)","v":"17720795045"},"福州大学至诚学院","汉语言文学","本科生"]
[22,"小学语文教师(12)","吴雯洁",110.6,null,{"$f":"VLOOKUP(C24,[1]汇总!$B:$I,8,0)","v":"350628200001254543"},{"$f":"VLOOKUP(C24,[1]汇总!$B:$K,10,0)","v":"17759923153"},"仰恩大学","汉语言文学","本科生"]
[23,"小学语文教师(12)","雷晓芳",110.4,null,{"$f":"VLOOKUP(C25,[1]汇总!$B:$I,8,0)","v":"350424199301291424"},{"$f":"VLOOKUP(C25,[1]汇总!$B:$K,10,0)","v":"18359180186"},"闽江师范高等专科学校","初等教育（中文与社会方向）","大专"]
[24,"小学语文教师(12)","吴淑颖",110.4,null,{"$f":"VLOOKUP(C26,[1]汇总!$B:$I,8,0)","v":"350600199805022543"},{"$f":"VLOOKUP(C26,[1]汇总!$B:$K,10,0)","v":"15159675603"},"闽南师范大学","学科教学（语文）","硕士研究生"]
[25,"小学语文教师(12)","郑雅珊",109.7,null,{"$f":"VLOOKUP(C27,[1]汇总!$B:$I,8,0)","v":"350600199610121023"},{"$f":"VLOOKUP(C27,[1]汇总!$B:$K,10,0)","v":"13799829057"},"闽南师范大学","汉语言文学","本科生"]
[26,"小学语文教师(12)","黄紫红",109.6,null,{"$f":"VLOOKUP(C28,[1]汇总!$B:$I,8,0)","v":"350625200009241545"},{"$f":"VLOOKUP(C28,[1]汇总!$B:$K,10,0)","v":"15207996512"},"萍乡学院","小学教育","本科生"]
[27,"小学语文教师(12)","欧帆",109,null,{"$f":"VLOOKUP(C29,[1]汇总!$B:$I,8,0)","v":"350600199607140522"},{"$f":"VLOOKUP(C29,[1]汇总!$B:$K,10,0)","v":"15059631365"},"闽南师范大学","汉语言文学","本科生"]
[28,"小学语文教师(12)","叶雅楠",108.8,null,{"$f":"VLOOKUP(C30,[1]汇总!$B:$I,8,0)","v":"350628200201185546"},{"$f":"VLOOKUP(C30,[1]汇总!$B:$K,10,0)","v":"15396029256"},"福建师范大学","汉语言文学","本科生"]
[29,"小学语文教师(12)","叶爱萍",108.7,null,{"$f":"VLOOKUP(C31,[1]汇总!$B:$I,8,0)","v":"350628200005084545"},{"$f":"VLOOKUP(C31,[1]汇总!$B:$K,10,0)","v":"15260652650"},"闽南师范大学","学前教育","本科生"]
[30,"小学语文教师(12)","赖艺鸿",108.5,null,{"$f":"VLOOKUP(C32,[1]汇总!$B:$I,8,0)","v":"350628199711252029"},{"$f":"VLOOKUP(C32,[1]汇总!$B:$K,10,0)","v":"18859602920"},"闽南科技学院","汉语言文学","本科生"]
[31,"小学语文教师(12)","黄霖敏",108.2,null,{"$f":"VLOOKUP(C33,[1]汇总!$B:$I,8,0)","v":"350628199912055021"},{"$f":"VLOOKUP(C33,[1]汇总!$B:$K,10,0)","v":"13459694689"},"闽南科技学院","汉语言文学","本科生"]
[32,"小学语文教师(12)","林茜",108.2,null,{"$f":"VLOOKUP(C34,[1]汇总!$B:$I,8,0)","v":"350629200003023526"},{"$f":"VLOOKUP(C34,[1]汇总!$B:$K,10,0)","v":"18065659358"},"吉林师范大学博达学院","汉语言文学","本科生"]
[33,"小学语文教师(12)","林志梅",108.2,null,{"$f":"VLOOKUP(C35,[1]汇总!$B:$I,8,0)","v":"350623199807016344"},{"$f":"VLOOKUP(C35,[1]汇总!$B:$K,10,0)","v":"18960736890"},"福建幼儿师范高等专科学校","早期教育","大专"]
[34,"小学数学教师(13)","蔡锋彬",105.8,null,{"$f":"VLOOKUP(C36,[1]汇总!$B:$I,8,0)","v":"350625198905141534"},{"$f":"VLOOKUP(C36,[1]汇总!$B:$K,10,0)","v":"15006060153"},"福建师范大学","小学教育","本科生"]
[35,"小学数学教师(13)","詹江山",99.2,null,{"$f":"VLOOKUP(C37,[1]汇总!$B:$I,8,0)","v":"350783200101205036"},{"$f":"VLOOKUP(C37,[1]汇总!$B:$K,10,0)","v":"18965352532"},"宜春幼儿师范高等专科学校","数学教育","大专"]
[36,"小学数学教师(13)","曾杰辉",98.4,null,{"$f":"VLOOKUP(C38,[1]汇总!$B:$I,8,0)","v":"350583199502077710"},{"$f":"VLOOKUP(C38,[1]汇总!$B:$K,10,0)","v":"13328942760"},"宁德师范学院","化学","本科生"]
[37,"小学数学教师(13)","吴楠",97.5,null,{"$f":"VLOOKUP(C39,[1]汇总!$B:$I,8,0)","v":"350624200105122531"},{"$f":"VLOOKUP(C39,[1]汇总!$B:$K,10,0)","v":"15260129460"},"闽江师范高等专科学校","小学教育(全科教育)","大专"]
[38,"小学数学教师(14)","蓝艳丽",101.5,null,{"$f":"VLOOKUP(C40,[1]汇总!$B:$I,8,0)","v":"350681198910077646"},{"$f":"VLOOKUP(C40,[1]汇总!$B:$K,10,0)","v":"15892016321"},"福建师范大学闽南科技学院","教育技术学（教育技术学（数字媒体与制作方向））","本科生"]
[39,"小学数学教师(14)","柯敏绒",100.8,null,{"$f":"VLOOKUP(C41,[1]汇总!$B:$I,8,0)","v":"350623199604100028"},{"$f":"VLOOKUP(C41,[1]汇总!$B:$K,10,0)","v":"15606004620"},"宁德师范学院","小学教育","本科生"]
[40,"小学数学教师(14)","杨佳敏",97.7,null,{"$f":"VLOOKUP(C42,[1]汇总!$B:$I,8,0)","v":"350624199908105529"},{"$f":"VLOOKUP(C42,[1]汇总!$B:$K,10,0)","v":"13859280267"},"闽北职业技术学院","小学教育专业","大专"]
[41,"小学数学教师(14)","蓝丽霞",96.7,null,{"$f":"VLOOKUP(C43,[1]汇总!$B:$I,8,0)","v":"350629199812071522"},{"$f":"VLOOKUP(C43,[1]汇总!$B:$K,10,0)","v":"15060578612"},"漳州城市职业学院","小学教育","大专"]
[42,"小学数学教师(15)","林贞洁",108.9,null,{"$f":"VLOOKUP(C44,[1]汇总!$B:$I,8,0)","v":"350629200108280529"},{"$f":"VLOOKUP(C44,[1]汇总!$B:$K,10,0)","v":"15960879087"},"集美大学","小学教育","本科生"]
[43,"小学数学教师(15)","陈巧红",108.4,null,{"$f":"VLOOKUP(C45,[1]汇总!$B:$I,8,0)","v":"350623199812254160"},{"$f":"VLOOKUP(C45,[1]汇总!$B:$K,10,0)","v":"18759789247"},"闽南师范大学","小学教育","双学士"]
[44,"小学数学教师(15)","许信慧",107.3,null,{"$f":"VLOOKUP(C46,[1]汇总!$B:$I,8,0)","v":"350681198907242524"},{"$f":"VLOOKUP(C46,[1]汇总!$B:$K,10,0)","v":"18250696623"},"闽南师范大学","小学教育","本科生"]
[45,"小学数学教师(15)","陈淑英",107.2,null,{"$f":"VLOOKUP(C47,[1]汇总!$B:$I,8,0)","v":"350622199601250542"},{"$f":"VLOOKUP(C47,[1]汇总!$B:$K,10,0)","v":"13328942996"},"宁德师范学院","生物科学","本科生"]
[46,"小学数学教师(15)","张思婷",106.2,null,{"$f":"VLOOKUP(C48,[1]汇总!$B:$I,8,0)","v":"35062419980125302X"},{"$f":"VLOOKUP(C48,[1]汇总!$B:$K,10,0)","v":"15606053436"},"闽江师范高等专科学校","小学教育（综合理科教育）","大专"]
[47,"小学数学教师(15)","何穗锦",105.8,null,{"$f":"VLOOKUP(C49,[1]汇总!$B:$I,8,0)","v":"350623199802176621"},{"$f":"VLOOKUP(C49,[1]汇总!$B:$K,10,0)","v":"18006951008"},"龙岩学院","小学教育","本科生"]
[48,"小学数学教师(15)","王欣",105.8,null,{"$f":"VLOOKUP(C50,[1]汇总!$B:$I,8,0)","v":"350623199901287423"},{"$f":"VLOOKUP(C50,[1]汇总!$B:$K,10,0)","v":"15759118036"},"莆田学院","学前教育","本科生"]
[49,"小学数学教师(15)","陈秋萍",104.4,null,{"$f":"VLOOKUP(C51,[1]汇总!$B:$I,8,0)","v":"350623199508136629"},{"$f":"VLOOKUP(C51,[1]汇总!$B:$K,10,0)","v":"15260529996"},"莆田学院","信息与计算科学","本科生"]
[50,"小学数学教师(15)","王莹莹",104.3,null,{"$f":"VLOOKUP(C52,[1]汇总!$B:$I,8,0)","v":"350623200010173022"},{"$f":"VLOOKUP(C52,[1]汇总!$B:$K,10,0)","v":"15059611826"},"厦门工学院","信息与计算科学","本科生"]
[51,"小学数学教师(15)","胡丽敏",104.1,null,{"$f":"VLOOKUP(C53,[1]汇总!$B:$I,8,0)","v":"350622199807241043"},{"$f":"VLOOKUP(C53,[1]汇总!$B:$K,10,0)","v":"18030199993"},"集美大学诚毅学院","数学与应用数学","本科生"]
[52,"小学数学教师(15)","叶舒弘",103.1,null,{"$f":"VLOOKUP(C54,[1]汇总!$B:$I,8,0)","v":"350628199005255521"},{"$f":"VLOOKUP(C54,[1]汇总!$B:$K,10,0)","v":"18759614168"},"集美大学","教育技术学","本科生"]
[53,"小学数学教师(15)","林秋敏",102.9,null,{"$f":"VLOOKUP(C55,[1]汇总!$B:$I,8,0)","v":"350623199805215446"},{"$f":"VLOOKUP(C55,[1]汇总!$B:$K,10,0)","v":"15359717332"},"宁德师范学院","数学与应用数学","本科生"]
[54,"小学数学教师(15)","陈燕婷",102.1,null,{"$f":"VLOOKUP(C56,[1]汇总!$B:$I,8,0)","v":"350681199611041066"},{"$f":"VLOOKUP(C56,[1]汇总!$B:$K,10,0)","v":"18064572460"},"闽南师范大学","小学教育","本科生"]
[55,"小学数学教师(15)","杨淑华",102,null,{"$f":"VLOOKUP(C57,[1]汇总!$B:$I,8,0)","v":"350600199111090525"},{"$f":"VLOOKUP(C57,[1]汇总!$B:$K,10,0)","v":"13159113520"},"福建师范大学","信息与计算科学","本科生"]
[56,"小学数学教师(15)","杨舒婷",101.1,null,{"$f":"VLOOKUP(C58,[1]汇总!$B:$I,8,0)","v":"350628199501030540"},{"$f":"VLOOKUP(C58,[1]汇总!$B:$K,10,0)","v":"15060511629"},"泉州师范学院","小学教育","本科生"]
[57,"小学数学教师(15)","蔡艺晴",101,null,{"$f":"VLOOKUP(C59,[1]汇总!$B:$I,8,0)","v":"350622199308064046"},{"$f":"VLOOKUP(C59,[1]汇总!$B:$K,10,0)","v":"18859670901"},"漳州城市职业学院","初等教育（英语方向）","大专"]
[58,"小学英语教师(16)","蔡怡琳",111.2,"专业知识107",{"$f":"VLOOKUP(C60,[1]汇总!$B:$I,8,0)","v":"350628199708120041"},{"$f":"VLOOKUP(C60,[1]汇总!$B:$K,10,0)","v":"15006098299"},"吉林财经大学","英语（经贸）","本科生"]
[59,"小学音乐教师(17)","林毓",108.4,null,{"$f":"VLOOKUP(C61,[1]汇总!$B:$I,8,0)","v":"350623199806190025"},{"$f":"VLOOKUP(C61,[1]汇总!$B:$K,10,0)","v":"13003967239"},"厦门大学嘉庚学院","音乐表演","本科生"]
[60,"小学音乐教师(17)","杨伊婷",107.5,null,{"$f":"VLOOKUP(C62,[1]汇总!$B:$I,8,0)","v":"3506232000010131025"},{"$f":"VLOOKUP(C62,[1]汇总!$B:$K,10,0)","v":"15260522716"},"闽江学院","音乐学","本科生"]
[61,"小学音乐教师(17)","陈悦恩",104.7,null,{"$f":"VLOOKUP(C63,[1]汇总!$B:$I,8,0)","v":"350627200102231520"},{"$f":"VLOOKUP(C63,[1]汇总!$B:$K,10,0)","v":"18950390212"},"莆田学院","音乐学","本科生"]
[62,"小学音乐教师(17)","林楚煊",102.8,null,{"$f":"VLOOKUP(C64,[1]汇总!$B:$I,8,0)","v":"350600199912102522"},{"$f":"VLOOKUP(C64,[1]汇总!$B:$K,10,0)","v":"17850611972"},"阳光学院","音乐学","本科生"]
[63,"小学体育教师(18)","何绿梅",111.9,null,{"$f":"VLOOKUP(C65,[1]汇总!$B:$I,8,0)","v":"350623200004230529"},{"$f":"VLOOKUP(C65,[1]汇总!$B:$K,10,0)","v":"18860074407"},"集美大学","武术与民族传统体育","本科生"]
[64,"小学体育教师(18)","林伟煌",105,null,{"$f":"VLOOKUP(C66,[1]汇总!$B:$I,8,0)","v":"350627199002221514"},{"$f":"VLOOKUP(C66,[1]汇总!$B:$K,10,0)","v":"15959122372"},"福建师范大学","社会体育","本科生"]
[65,"小学体育教师(18)","郑少峰",103.1,null,{"$f":"VLOOKUP(C67,[1]汇总!$B:$I,8,0)","v":"350600199905274510"},{"$f":"VLOOKUP(C67,[1]汇总!$B:$K,10,0)","v":"17605969921"},"泉州幼儿师范高等专科学校","体育教育","本科生"]
[66,"小学体育教师(18)","李涛",102.5,null,{"$f":"VLOOKUP(C68,[1]汇总!$B:$I,8,0)","v":"500226200101014671"},{"$f":"VLOOKUP(C68,[1]汇总!$B:$K,10,0)","v":"15823123646"},"集美大学","运动训练","本科生"]
[67,"小学体育教师(18)","周志伟",101.9,null,{"$f":"VLOOKUP(C69,[1]汇总!$B:$I,8,0)","v":"430426200001258751"},{"$f":"VLOOKUP(C69,[1]汇总!$B:$K,10,0)","v":"18789351823"},"海南热带海洋学院","休闲体育（海上运动方向）","本科生"]
[68,"小学思政教师(19)","罗嫔嫔",100.4,null,{"$f":"VLOOKUP(C70,[1]汇总!$B:$I,8,0)","v":"350628200109304522"},{"$f":"VLOOKUP(C70,[1]汇总!$B:$K,10,0)","v":"18050718861"},"漳州城市职业学院","小学教育","大专"]
[69,"小学思政教师(19)","周草",98,null,{"$f":"VLOOKUP(C71,[1]汇总!$B:$I,8,0)","v":"441625199410072722"},{"$f":"VLOOKUP(C71,[1]汇总!$B:$K,10,0)","v":"13232778866"},"河源职业技术学院","学前教育","大专"]
[70,"小学科学教师(20)","李夏胤",113,null,{"$f":"VLOOKUP(C72,[1]汇总!$B:$I,8,0)","v":"350629199907132017"},{"$f":"VLOOKUP(C72,[1]汇总!$B:$K,10,0)","v":"15006029067"},"福建幼儿师范高等专科学校","科学教育","大专"]
[71,"小学科学教师(20)","陈怡玲",111.3,null,{"$f":"VLOOKUP(C73,[1]汇总!$B:$I,8,0)","v":"350600198708302522"},{"$f":"VLOOKUP(C73,[1]汇总!$B:$K,10,0)","v":"13605039533"},"龙岩学院","化学","本科生"]
[72,"小学科学教师(20)","许海毅",107,null,{"$f":"VLOOKUP(C74,[1]汇总!$B:$I,8,0)","v":"350622200009263032"},{"$f":"VLOOKUP(C74,[1]汇总!$B:$K,10,0)","v":"15859613111"},"漳州城市职业学院","科学教育","大专"]
[73,"小学心理健康教育教师(21)","张雅萍",119.5,null,{"$f":"VLOOKUP(C75,[1]汇总!$B:$I,8,0)","v":"35052520001113302X"},{"$f":"VLOOKUP(C75,[1]汇总!$B:$K,10,0)","v":"18016651108"},"泉州师范学院","学前教育","本科生"]
[74,"小学心理健康教育教师(21)","林佳菁",117.4,null,{"$f":"VLOOKUP(C76,[1]汇总!$B:$I,8,0)","v":"350628199112223023"},{"$f":"VLOOKUP(C76,[1]汇总!$B:$K,10,0)","v":"17750625363"},"赣南医学院","应用心理学","本科生"]
[75,"幼儿园教师(22)","洪伟宏",120.9,null,{"$f":"VLOOKUP(C77,[2]汇总!$B$1:$I$65536,8,0)","v":"350623199808255718"},{"$f":"VLOOKUP(C77,[2]汇总!$B$1:$K$65536,10,0)","v":"15687657063"},"昆明学院","学前教育","本科生"]
[76,"幼儿园教师(22)","连竣捷",116.1,null,{"$f":"VLOOKUP(C78,[2]汇总!$B$1:$I$65536,8,0)","v":"35062520010730153X"},{"$f":"VLOOKUP(C78,[2]汇总!$B$1:$K$65536,10,0)","v":"15059830978"},"泉州幼儿师范高等专科学校","英语教育","大专"]
[77,"幼儿园教师(22)","蒋伟钦",112.7,null,{"$f":"VLOOKUP(C79,[2]汇总!$B$1:$I$65536,8,0)","v":"350629200010140018"},{"$f":"VLOOKUP(C79,[2]汇总!$B$1:$K$65536,10,0)","v":"17750111617"},"三明学院","学前教育","本科生"]
[78,"幼儿园教师(22)","林凯",111,null,{"$f":"VLOOKUP(C80,[2]汇总!$B$1:$I$65536,8,0)","v":"350681199912190014"},{"$f":"VLOOKUP(C80,[2]汇总!$B$1:$K$65536,10,0)","v":"13235965928"},"南宁师范大学师园学院","学前教育","本科生"]
[79,"幼儿园教师(23)","汤佩",121.6,null,{"$f":"VLOOKUP(C81,[2]汇总!$B$1:$I$65536,8,0)","v":"350628200101030029"},{"$f":"VLOOKUP(C81,[2]汇总!$B$1:$K$65536,10,0)","v":"15060517910"},"福建师范大学","学前教育","本科生"]
[80,"幼儿园教师(23)","饶珺",120.3,null,{"$f":"VLOOKUP(C82,[2]汇总!$B$1:$I$65536,8,0)","v":"350802199804123522"},{"$f":"VLOOKUP(C82,[2]汇总!$B$1:$K$65536,10,0)","v":"15359911147"},"福建师范大学","学前教育","本科生"]
[81,"幼儿园教师(23)","吴雅梅",119.4,null,{"$f":"VLOOKUP(C83,[2]汇总!$B$1:$I$65536,8,0)","v":"350627199707112043"},{"$f":"VLOOKUP(C83,[2]汇总!$B$1:$K$65536,10,0)","v":"15860219083"},"漳州城市职业学院","学前教育","大专"]
[82,"幼儿园教师(23)","卢玉清",115.4,null,{"$f":"VLOOKUP(C84,[2]汇总!$B$1:$I$65536,8,0)","v":"350822200107104925"},{"$f":"VLOOKUP(C84,[2]汇总!$B$1:$K$65536,10,0)","v":"15880661691"},"泉州幼儿师范高等专科学校","学前教育","大专"]
[83,"幼儿园教师(24)","叶婧鸣",124.9,null,{"$f":"VLOOKUP(C85,[2]汇总!$B$1:$I$65536,8,0)","v":"350628199402190020"},{"$f":"VLOOKUP(C85,[2]汇总!$B$1:$K$65536,10,0)","v":"18876550207"},"泉州师范学院","学前教育","本科生"]
[84,"幼儿园教师(24)","何林欣",122.6,null,{"$f":"VLOOKUP(C86,[2]汇总!$B$1:$I$65536,8,0)","v":"350628200011081041"},{"$f":"VLOOKUP(C86,[2]汇总!$B$1:$K$65536,10,0)","v":"13695909003"},"福建幼儿师范高等专科院校","学前教育","大专"]
[85,"幼儿园教师(24)","黄玲珑",122.4,null,{"$f":"VLOOKUP(C87,[2]汇总!$B$1:$I$65536,8,0)","v":"350627200007040021"},{"$f":"VLOOKUP(C87,[2]汇总!$B$1:$K$65536,10,0)","v":"17365136716"},"泉州师范学院","学前教育","本科生"]
[86,"幼儿园教师(24)","蔡小青",122,null,{"$f":"VLOOKUP(C88,[2]汇总!$B$1:$I$65536,8,0)","v":"3050602200105082041"},{"$f":"VLOOKUP(C88,[2]汇总!$B$1:$K$65536,10,0)","v":"18960125127"},"福建师范大学","学前教育","本科生"]
[87,"幼儿园教师(24)","王滢滢",121.7,null,{"$f":"VLOOKUP(C89,[2]汇总!$B$1:$I$65536,8,0)","v":"350623200109296962"},{"$f":"VLOOKUP(C89,[2]汇总!$B$1:$K$65536,10,0)","v":"15260521958"},"三明医学科技职业学院","学前教育","大专"]
[88,"幼儿园教师(24)","杨洁",121.6,null,{"$f":"VLOOKUP(C90,[2]汇总!$B$1:$I$65536,8,0)","v":"350822199905024940"},{"$f":"VLOOKUP(C90,[2]汇总!$B$1:$K$65536,10,0)","v":"15280367558"},"泉州职业技术大学","学前教育","本科生"]
[89,"幼儿园教师(24)","黄艺娟",121.5,null,{"$f":"VLOOKUP(C91,[2]汇总!$B$1:$I$65536,8,0)","v":"350681200009120525"},{"$f":"VLOOKUP(C91,[2]汇总!$B$1:$K$65536,10,0)","v":"13806945203"},"泉州幼儿师范高等专科学校","学前教育","大专"]
[90,"幼儿园教师(24)","杨翠芳",121.1,null,{"$f":"VLOOKUP(C92,[2]汇总!$B$1:$I$65536,8,0)","v":"350623200012138220"},{"$f":"VLOOKUP(C92,[2]汇总!$B$1:$K$65536,10,0)","v":"14759641562"},"泉州幼儿师范高等专科学校","学前教育","大专"]
[91,"幼儿园教师(24)","陈喜娟",121,null,{"$f":"VLOOKUP(C93,[2]汇总!$B$1:$I$65536,8,0)","v":"350626199703303022"},{"$f":"VLOOKUP(C93,[2]汇总!$B$1:$K$65536,10,0)","v":"15260052869"},"集美大学诚毅学院","学前教育","本科生"]
[92,"幼儿园教师(24)","张小霞",121,null,{"$f":"VLOOKUP(C94,[2]汇总!$B$1:$I$65536,8,0)","v":"350603199905291520"},{"$f":"VLOOKUP(C94,[2]汇总!$B$1:$K$65536,10,0)","v":"18059760662"},"福建幼儿师范高等专科学校","学前教育","大专"]
[93,"幼儿园教师(24)","卢雅青",120.9,null,{"$f":"VLOOKUP(C95,[2]汇总!$B$1:$I$65536,8,0)","v":"350681200110180522"},{"$f":"VLOOKUP(C95,[2]汇总!$B$1:$K$65536,10,0)","v":"15880523365"},"湄洲湾职业技术学院","学前教育","大专"]
[94,"幼儿园教师(24)","吴嘉艳",120.8,null,{"$f":"VLOOKUP(C96,[2]汇总!$B$1:$I$65536,8,0)","v":"350627199004091522"},{"$f":"VLOOKUP(C96,[2]汇总!$B$1:$K$65536,10,0)","v":"18876318238"},"闽南师范大学","学前教育","本科生"]
[95,"幼儿园教师(24)","许晨珑",120.7,null,{"$f":"VLOOKUP(C97,[2]汇总!$B$1:$I$65536,8,0)","v":"350623200011071861"},{"$f":"VLOOKUP(C97,[2]汇总!$B$1:$K$65536,10,0)","v":"15260526152"},"泉州职业技术大学","学前教育","本科生"]
[96,"幼儿园教师(24)","杨琬基",120.6,null,{"$f":"VLOOKUP(C98,[2]汇总!$B$1:$I$65536,8,0)","v":"350628200001242526"},{"$f":"VLOOKUP(C98,[2]汇总!$B$1:$K$65536,10,0)","v":"15259607679"},"龙岩学院","学前教育","本科生"]
[97,"幼儿园教师(24)","朱伊凡",120.4,null,{"$f":"VLOOKUP(C99,[2]汇总!$B$1:$I$65536,8,0)","v":"350681200110303545"},{"$f":"VLOOKUP(C99,[2]汇总!$B$1:$K$65536,10,0)","v":"13774768837"},"龙岩学院","学前教育","本科生"]
[98,"幼儿园教师(24)","林泳靓",120.4,null,{"$f":"VLOOKUP(C100,[2]汇总!$B$1:$I$65536,8,0)","v":"350625200003170520"},{"$f":"VLOOKUP(C100,[2]汇总!$B$1:$K$65536,10,0)","v":"15006056309"},"三明医学科技学院","学前教育","大专"]
[99,"幼儿园教师(24)","任晓雪",120.2,null,{"$f":"VLOOKUP(C101,[2]汇总!$B$1:$I$65536,8,0)","v":"350681199404303529"},{"$f":"VLOOKUP(C101,[2]汇总!$B$1:$K$65536,10,0)","v":"18559060919"},"闽南师范大学","学前教育（独立本科段）","本科生"]
[100,"幼儿园教师(24)","陈艳婷",120.2,null,{"$f":"VLOOKUP(C102,[2]汇总!$B$1:$I$65536,8,0)","v":"350623199810210041"},{"$f":"VLOOKUP(C102,[2]汇总!$B$1:$K$65536,10,0)","v":"18959123891"},"福建师范大学","学前教育","本科生"]
[101,"幼儿园教师(24)","吴浥璇",120.1,null,{"$f":"VLOOKUP(C103,[2]汇总!$B$1:$I$65536,8,0)","v":"350627200004181523"},{"$f":"VLOOKUP(C103,[2]汇总!$B$1:$K$65536,10,0)","v":"15159671355"},"福建师范大学","学前教育","本科生"]
[102,"幼儿园教师(24)","郑泽玉",120,null,{"$f":"VLOOKUP(C104,[2]汇总!$B$1:$I$65536,8,0)","v":"350681199807244746"},{"$f":"VLOOKUP(C104,[2]汇总!$B$1:$K$65536,10,0)","v":"18039022289"},"莆田学院","学前教育","本科生"]
[103,"幼儿园教师(24)","郑欣如",120,null,{"$f":"VLOOKUP(C105,[2]汇总!$B$1:$I$65536,8,0)","v":"350629200107151522"},{"$f":"VLOOKUP(C105,[2]汇总!$B$1:$K$65536,10,0)","v":"15305079026"},"江汉大学文理学院","学前教育","本科生"]
[104,"幼儿园教师(24)","连英月",120,null,{"$f":"VLOOKUP(C106,[2]汇总!$B$1:$I$65536,8,0)","v":"350625199905081548"},{"$f":"VLOOKUP(C106,[2]汇总!$B$1:$K$65536,10,0)","v":"13859241283"},"三明医学科技职业学院","学前教育","大专"]
[105,"幼儿园教师(24)","邱思佳",119.9,null,{"$f":"VLOOKUP(C107,[2]汇总!$B$1:$I$65536,8,0)","v":"350600199705082522"},{"$f":"VLOOKUP(C107,[2]汇总!$B$1:$K$65536,10,0)","v":"19959620715"},"集美大学诚毅学院","学前教育（师范类）","本科生"]
[106,"幼儿园教师(24)","蔡毓敏",119.9,null,{"$f":"VLOOKUP(C108,[2]汇总!$B$1:$I$65536,8,0)","v":"350623199806210540"},{"$f":"VLOOKUP(C108,[2]汇总!$B$1:$K$65536,10,0)","v":"18759628907"},"云南师范大学商学院","学前教育","本科生"]
[107,"幼儿园教师(24)","蔡辰宇",119.9,null,{"$f":"VLOOKUP(C109,[2]汇总!$B$1:$I$65536,8,0)","v":"35068120000919054X"},{"$f":"VLOOKUP(C109,[2]汇总!$B$1:$K$65536,10,0)","v":"18805028239"},"福州外语外贸学院","学前教育","本科生"]
[108,"幼儿园教师(24)","罗惠欣",119.9,null,{"$f":"VLOOKUP(C110,[2]汇总!$B$1:$I$65536,8,0)","v":"3506221999051300"},{"$f":"VLOOKUP(C110,[2]汇总!$B$1:$K$65536,10,0)","v":"15260137735"},"宁德职业技术学院","学前教育","大专"]
[109,"幼儿园教师(24)","戴冬森",119.8,null,{"$f":"VLOOKUP(C111,[2]汇总!$B$1:$I$65536,8,0)","v":"35062319970516152X"},{"$f":"VLOOKUP(C111,[2]汇总!$B$1:$K$65536,10,0)","v":"18959626938"},"龙岩学院","学前教育","本科生"]
[110,"幼儿园教师(24)","林翠霞",119.7,null,{"$f":"VLOOKUP(C112,[2]汇总!$B$1:$I$65536,8,0)","v":"500106199611226424"},{"$f":"VLOOKUP(C112,[2]汇总!$B$1:$K$65536,10,0)","v":"17746063770"},"闽北职业技术学院","学前教育","大专"]
[111,"幼儿园教师(24)","吴愉婷",119.7,null,{"$f":"VLOOKUP(C113,[2]汇总!$B$1:$I$65536,8,0)","v":"350627200007052022"},{"$f":"VLOOKUP(C113,[2]汇总!$B$1:$K$65536,10,0)","v":"15759619902"},"泉州华光职业学院","学前教育","大专"]
[112,"幼儿园教师(24)","王玲",119.6,null,{"$f":"VLOOKUP(C114,[2]汇总!$B$1:$I$65536,8,0)","v":"350623199907203024"},{"$f":"VLOOKUP(C114,[2]汇总!$B$1:$K$65536,10,0)","v":"18760626915"},"闽西职业技术学院","学前教育","大专"]
[113,"幼儿园教师(24)","林雅芳",119.5,null,{"$f":"VLOOKUP(C115,[2]汇总!$B$1:$I$65536,8,0)","v":"350628200201207549"},{"$f":"VLOOKUP(C115,[2]汇总!$B$1:$K$65536,10,0)","v":"18759697342"},"漳州城市职业学院","学前教育","大专"]
[114,"幼儿园教师(24)","黄丽萍",119.5,null,{"$f":"VLOOKUP(C116,[2]汇总!$B$1:$I$65536,8,0)","v":"350623199910123420"},{"$f":"VLOOKUP(C116,[2]汇总!$B$1:$K$65536,10,0)","v":"15259619796"},"漳州城市职业学院","学前教育","大专"]
[115,"幼儿园教师(24)","陈凯琳",119.5,null,{"$f":"VLOOKUP(C117,[2]汇总!$B$1:$I$65536,8,0)","v":"350623200105104820"},{"$f":"VLOOKUP(C117,[2]汇总!$B$1:$K$65536,10,0)","v":"15859628915"},"龙岩学院","学前教育","本科生"]
[116,"幼儿园教师(24)","肖玮",119.5,null,{"$f":"VLOOKUP(C118,[2]汇总!$B$1:$I$65536,8,0)","v":"350824200007124964"},{"$f":"VLOOKUP(C118,[2]汇总!$B$1:$K$65536,10,0)","v":"13806982560"},"闽南师范大学","学前教育","本科生"]
[117,"幼儿园教师(24)","卢婉平",119.5,null,{"$f":"VLOOKUP(C119,[2]汇总!$B$1:$I$65536,8,0)","v":"350628199812245050"},{"$f":"VLOOKUP(C119,[2]汇总!$B$1:$K$65536,10,0)","v":"13015633605"},"宁德师范学院","学前教育","本科生"]
[118,"幼儿园教师(24)","林晴宜",119.3,null,{"$f":"VLOOKUP(C120,[2]汇总!$B$1:$I$65536,8,0)","v":"350623199906135744"},{"$f":"VLOOKUP(C120,[2]汇总!$B$1:$K$65536,10,0)","v":"18050612331"},"曲靖师范学院","学前教育","本科生"]
[119,"幼儿园教师(24)","曾丽雅",119.1,null,{"$f":"VLOOKUP(C121,[2]汇总!$B$1:$I$65536,8,0)","v":"350681200011096528"},{"$f":"VLOOKUP(C121,[2]汇总!$B$1:$K$65536,10,0)","v":"13695947395"},"泉州师范幼儿高等学校","学前教育","大专"]
[120,"幼儿园教师(24)","王雪玲",119,null,{"$f":"VLOOKUP(C122,[2]汇总!$B$1:$I$65536,8,0)","v":"350600199909114522"},{"$f":"VLOOKUP(C122,[2]汇总!$B$1:$K$65536,10,0)","v":"18859690603"},"闽西职业技术学院","学前教育","大专"]
[121,"幼儿园教师(24)","邱荔珍",119,null,{"$f":"VLOOKUP(C123,[2]汇总!$B$1:$I$65536,8,0)","v":"350623200007195722"},{"$f":"VLOOKUP(C123,[2]汇总!$B$1:$K$65536,10,0)","v":"18060255082"},"三明医学科技职业学院","早期教育","大专"]
[122,"幼儿园教师(24)","林函静",119,null,{"$f":"VLOOKUP(C124,[2]汇总!$B$1:$I$65536,8,0)","v":"350625199704221524"},{"$f":"VLOOKUP(C124,[2]汇总!$B$1:$K$65536,10,0)","v":"13806900539"},"泉州师范学院","学前教育","本科生"]
[123,"幼儿园教师(24)","郑裕榕",119,null,{"$f":"VLOOKUP(C125,[2]汇总!$B$1:$I$65536,8,0)","v":"350681199809170525"},{"$f":"VLOOKUP(C125,[2]汇总!$B$1:$K$65536,10,0)","v":"13960183197"},"福建幼儿师范高等专科学校","学前教育","大专"]
[124,"幼儿园教师(24)","林荫",119,null,{"$f":"VLOOKUP(C126,[2]汇总!$B$1:$I$65536,8,0)","v":"350623199911266044"},{"$f":"VLOOKUP(C126,[2]汇总!$B$1:$K$65536,10,0)","v":"13489662871"},"福建幼儿师范高等专科学校","学前教育","大专"]
[125,"幼儿园教师(24)","林舒婷",118.8,null,{"$f":"VLOOKUP(C127,[2]汇总!$B$1:$I$65536,8,0)","v":"350628200109231028"},{"$f":"VLOOKUP(C127,[2]汇总!$B$1:$K$65536,10,0)","v":"15715075916"},"湄洲湾职业技术学院","学前教育","大专"]
[126,"幼儿园教师(24)","卢伊捷",118.8,null,{"$f":"VLOOKUP(C128,[2]汇总!$B$1:$I$65536,8,0)","v":"350628200210080041"},{"$f":"VLOOKUP(C128,[2]汇总!$B$1:$K$65536,10,0)","v":"17744052960"},"泉州幼儿师范高等专科学校","学前教育","大专"]
[127,"幼儿园教师(24)","游婉娉",118.8,null,{"$f":"VLOOKUP(C129,[2]汇总!$B$1:$I$65536,8,0)","v":"350628200006010046"},{"$f":"VLOOKUP(C129,[2]汇总!$B$1:$K$65536,10,0)","v":15960614798},"阳光学院","学前教育","本科生"]
[128,"幼儿园教师(24)","梁琴",118.6,null,{"$f":"VLOOKUP(C130,[2]汇总!$B$1:$I$65536,8,0)","v":"350824200110172227"},{"$f":"VLOOKUP(C130,[2]汇总!$B$1:$K$65536,10,0)","v":"18250283697"},"漳州城市职业学院","早期教育","大专"]
[129,"幼儿园教师(24)","陈璐",118.5,null,{"$f":"VLOOKUP(C131,[2]汇总!$B$1:$I$65536,8,0)","v":"350627200010190020"},{"$f":"VLOOKUP(C131,[2]汇总!$B$1:$K$65536,10,0)","v":"18965273770"},"阳光学院","学前教育","本科生"]
[130,"幼儿园教师(24)","张舒淇",118.5,null,{"$f":"VLOOKUP(C132,[2]汇总!$B$1:$I$65536,8,0)","v":"35062720010105004X"},{"$f":"VLOOKUP(C132,[2]汇总!$B$1:$K$65536,10,0)","v":"15859603506"},"阳光学院","学前教育","本科生"]
[131,"幼儿园教师(24)","潘良仔",118.4,null,{"$f":"VLOOKUP(C133,[2]汇总!$B$1:$I$65536,8,0)","v":"350623198806090628"},{"$f":"VLOOKUP(C133,[2]汇总!$B$1:$K$65536,10,0)","v":"18060982655"},"福建教育学院","小学教育","大专"]
[132,"幼儿园教师(24)","李涵霏",118.3,null,{"$f":"VLOOKUP(C134,[2]汇总!$B$1:$I$65536,8,0)","v":"350602200107140524"},{"$f":"VLOOKUP(C134,[2]汇总!$B$1:$K$65536,10,0)","v":"18850226270"},"龙岩学院","学前教育","本科生"]
[133,"幼儿园教师(24)","陈诗晗",118.3,null,{"$f":"VLOOKUP(C135,[2]汇总!$B$1:$I$65536,8,0)","v":"350628199801044522"},{"$f":"VLOOKUP(C135,[2]汇总!$B$1:$K$65536,10,0)","v":"18250196013"},"福建教育学院","学前教育","大专"]
[134,"幼儿园教师(24)","卢智丽",118.2,null,{"$f":"VLOOKUP(C136,[2]汇总!$B$1:$I$65536,8,0)","v":"350681199605260545"},{"$f":"VLOOKUP(C136,[2]汇总!$B$1:$K$65536,10,0)","v":"18250095173"},"龙岩学院","学前教育","本科生"]
[135,"幼儿园教师(24)","陈舒琪",118.2,null,{"$f":"VLOOKUP(C137,[2]汇总!$B$1:$I$65536,8,0)","v":"350600199911270022"},{"$f":"VLOOKUP(C137,[2]汇总!$B$1:$K$65536,10,0)","v":"18759606695"},"集美大学诚毅学院","学前教育","本科生"]
[136,"幼儿园教师(24)","林玉婕",118.2,null,{"$f":"VLOOKUP(C138,[2]汇总!$B$1:$I$65536,8,0)","v":"350629200208010526"},{"$f":"VLOOKUP(C138,[2]汇总!$B$1:$K$65536,10,0)","v":"18876313962"},"漳州城市职业学院","学前教育","大专"]
[137,"幼儿园教师(24)","赖雅婷",118.2,null,{"$f":"VLOOKUP(C139,[2]汇总!$B$1:$I$65536,8,0)","v":"350627199609125027"},{"$f":"VLOOKUP(C139,[2]汇总!$B$1:$K$65536,10,0)","v":"15280160339"},"福建师范大学","学前教育","本科生"]
[138,"幼儿园教师(24)","王小倩",118.1,null,{"$f":"VLOOKUP(C140,[2]汇总!$B$1:$I$65536,8,0)","v":"350625199510220523"},{"$f":"VLOOKUP(C140,[2]汇总!$B$1:$K$65536,10,0)","v":"18850177510"},"厦门城市职业学院","学前教育","大专"]
[139,"幼儿园教师(24)","谢燕华",118.1,null,{"$f":"VLOOKUP(C141,[2]汇总!$B$1:$I$65536,8,0)","v":"360721199808217222"},{"$f":"VLOOKUP(C141,[2]汇总!$B$1:$K$65536,10,0)","v":"18270702900"},"江西师范大学","学前教育","大专"]
[140,"幼儿园教师(24)","林秀丹",118,null,{"$f":"VLOOKUP(C142,[2]汇总!$B$1:$I$65536,8,0)","v":"350625199810020021"},{"$f":"VLOOKUP(C142,[2]汇总!$B$1:$K$65536,10,0)","v":"15280633692"},"宁德师范学院","学前教育","本科生"]
[141,"幼儿园教师(24)","郭祎婧",117.9,null,{"$f":"VLOOKUP(C143,[2]汇总!$B$1:$I$65536,8,0)","v":"350629199508131025"},{"$f":"VLOOKUP(C143,[2]汇总!$B$1:$K$65536,10,0)","v":"15006029538"},"闽北职业技术学院","学前教育","大专"]
[142,"幼儿园教师(24)","江欣露",117.9,null,{"$f":"VLOOKUP(C144,[2]汇总!$B$1:$I$65536,8,0)","v":"350627200006010023"},{"$f":"VLOOKUP(C144,[2]汇总!$B$1:$K$65536,10,0)","v":"18060267783"},"福州外语外贸学院","学前教育","本科生"]
[143,"幼儿园教师(24)","陈舒怡",117.9,null,{"$f":"VLOOKUP(C145,[2]汇总!$B$1:$I$65536,8,0)","v":"350681200107303528"},{"$f":"VLOOKUP(C145,[2]汇总!$B$1:$K$65536,10,0)","v":"13859215821"},"福建幼儿师范高等专科学校","学前教育","大专"]
[144,"幼儿园教师(24)","庄舒祺",117.9,null,{"$f":"VLOOKUP(C146,[2]汇总!$B$1:$I$65536,8,0)","v":"350681200102045224"},{"$f":"VLOOKUP(C146,[2]汇总!$B$1:$K$65536,10,0)","v":"18350660762"},"泉州幼儿师范高等专科学校","学前教育","大专"]
[145,"幼儿园教师(24)","吴佳玉",117.9,null,{"$f":"VLOOKUP(C147,[2]汇总!$B$1:$I$65536,8,0)","v":"350628200301134543"},{"$f":"VLOOKUP(C147,[2]汇总!$B$1:$K$65536,10,0)","v":"15006090736"},"漳州城市职业学院","学前教育","大专"]
[146,"幼儿园教师(24)","朱缀云",117.8,null,{"$f":"VLOOKUP(C148,[2]汇总!$B$1:$I$65536,8,0)","v":"350681199804113548"},{"$f":"VLOOKUP(C148,[2]汇总!$B$1:$K$65536,10,0)","v":"15170657571"},"南昌理工学院","学前教育","本科生"]
[147,"幼儿园教师(24)","李晓丽",117.8,null,{"$f":"VLOOKUP(C149,[2]汇总!$B$1:$I$65536,8,0)","v":"350681199908117527"},{"$f":"VLOOKUP(C149,[2]汇总!$B$1:$K$65536,10,0)","v":"18760306462"},"泉州幼儿师范高等专科学校","学前教育","大专"]
[148,"幼儿园教师(24)","王李良",117.8,null,{"$f":"VLOOKUP(C150,[2]汇总!$B$1:$I$65536,8,0)","v":"350625200001200511"},{"$f":"VLOOKUP(C150,[2]汇总!$B$1:$K$65536,10,0)","v":"17606051126"},"泉州幼儿师范高等专科学校","学前教育","大专"]
[149,"幼儿园教师(24)","林晓晴",117.7,null,{"$f":"VLOOKUP(C151,[2]汇总!$B$1:$I$65536,8,0)","v":"350625200204111527"},{"$f":"VLOOKUP(C151,[2]汇总!$B$1:$K$65536,10,0)","v":"18760627655"},"三明医学科技职业学院","学前教育","大专"]
[150,"幼儿园教师(24)","肖凌敏",117.7,null,{"$f":"VLOOKUP(C152,[2]汇总!$B$1:$I$65536,8,0)","v":"350627199912254024"},{"$f":"VLOOKUP(C152,[2]汇总!$B$1:$K$65536,10,0)","v":"15006053206"},"泉州幼儿师范高等专科学校","学前教育","大专"]
[151,"幼儿园教师(24)","高怡新",117.7,null,{"$f":"VLOOKUP(C153,[2]汇总!$B$1:$I$65536,8,0)","v":"350425200007222921"},{"$f":"VLOOKUP(C153,[2]汇总!$B$1:$K$65536,10,0)","v":"18759698252"},"福建华南女子职业学院","学前教育","大专"]
[152,"幼儿园教师(24)","吴舒婷",117.6,null,{"$f":"VLOOKUP(C154,[2]汇总!$B$1:$I$65536,8,0)","v":"350627199703202025"},{"$f":"VLOOKUP(C154,[2]汇总!$B$1:$K$65536,10,0)","v":"18059653029"},"集美大学诚毅学院","学前教育","本科生"]
[153,"幼儿园教师(24)","吴凡",117.6,null,{"$f":"VLOOKUP(C155,[2]汇总!$B$1:$I$65536,8,0)","v":"350602200201243028"},{"$f":"VLOOKUP(C155,[2]汇总!$B$1:$K$65536,10,0)","v":"13063178419"},"漳州城市职业学院","学前教育","大专"]
[154,"幼儿园教师(24)","郭艺娜",117.6,null,{"$f":"VLOOKUP(C156,[2]汇总!$B$1:$I$65536,8,0)","v":"350603199402271026"},{"$f":"VLOOKUP(C156,[2]汇总!$B$1:$K$65536,10,0)","v":"15205096260"},"闽江师范高等专科学校","学前教育","大专"]