{"text_format":"3","workbook":"xlsx","n_sheets":1,"sheets":["Sheet1"],"not_rendered":{"external_links":1,"defined_names":2},"read":"whole","date_system":"1900"}

{"sheet":"Sheet1","index":0,"n_rows":47,"n_cols":7,"rows_kept":47,"merged":[[1,0,1,6]]}
["附件1："]
["封丘县2024年公开招聘乡镇事业人员面试成绩、总成绩及进入体检人员名单"]
["序号","姓名","岗位代码","笔试成绩","面试成绩","总成绩","备注"]
[1,"职宏霖","0101",77.5,{"$f":"VLOOKUP(B:B,[1]登记表打印!$B:$F,5,0)","v":80.55},{"v":79.025,"d":"79.03"},"*"]
[2,"申姣姣","0101",73.7,{"$f":"VLOOKUP(B:B,[1]登记表打印!$B:$F,5,0)","v":{"v":80.7,"d":"80.70"}},{"v":77.2,"d":"77.20"},"*"]
[3,"何彦海","0101",71.4,{"$f":"VLOOKUP(B:B,[1]登记表打印!$B:$F,5,0)","v":82.96},77.18,"*"]
[4,"常歆玥","0101",77.4,{"$f":"VLOOKUP(B:B,[1]登记表打印!$B:$F,5,0)","v":76.95},{"v":77.175,"d":"77.18"},"*"]
[5,"林令辉","0101",69.3,{"$f":"VLOOKUP(B:B,[1]登记表打印!$B:$F,5,0)","v":83.47},{"v":76.385,"d":"76.39"},"*"]
[6,"刘冉","0101",70.8,{"$f":"VLOOKUP(B:B,[1]登记表打印!$B:$F,5,0)","v":81.55},{"v":76.175,"d":"76.18"},"*"]
[7,"程欣瑶","0101",70.8,{"$f":"VLOOKUP(B:B,[1]登记表打印!$B:$F,5,0)","v":{"v":80.5,"d":"80.50"}},75.65,"*"]
[8,"林朝岳","0101",68.3,{"$f":"VLOOKUP(B:B,[1]登记表打印!$B:$F,5,0)","v":82.06},75.18]
[9,"刘从辉","0101",76.7,{"$f":"VLOOKUP(B:B,[1]登记表打印!$B:$F,5,0)","v":73.33},{"v":75.015,"d":"75.02"}]
[10,"孙悦","0101",66,{"$f":"VLOOKUP(B:B,[1]登记表打印!$B:$F,5,0)","v":82.39},{"v":74.195,"d":"74.20"}]
[11,"张杰","0101",69,{"$f":"VLOOKUP(B:B,[1]登记表打印!$B:$F,5,0)","v":76.03},{"v":72.515,"d":"72.52"}]
[12,"牟晨鑫","0101",63.7,{"$f":"VLOOKUP(B:B,[1]登记表打印!$B:$F,5,0)","v":81.32},72.51]
[13,"武泽鹏","0101",58.3,{"$f":"VLOOKUP(B:B,[1]登记表打印!$B:$F,5,0)","v":84.65},{"v":71.475,"d":"71.48"}]
[14,"赵云","0101",64.6,{"$f":"VLOOKUP(B:B,[1]登记表打印!$B:$F,5,0)","v":77.09},{"v":70.845,"d":"70.85"}]
[15,"赵心欣","0101",58.4,{"$f":"VLOOKUP(B:B,[1]登记表打印!$B:$F,5,0)","v":77.79},{"v":68.095,"d":"68.10"}]
[16,"谢昊洋","0101",57.2,{"$f":"VLOOKUP(B:B,[1]登记表打印!$B:$F,5,0)","v":78.29},{"v":67.745,"d":"67.75"}]
[17,"王浈涵","0101",61.6,{"$f":"VLOOKUP(B:B,[1]登记表打印!$B:$F,5,0)","v":73.33},{"v":67.465,"d":"67.47"}]
[18,"孙一鸣","0101",70.2,{"$f":"VLOOKUP(B:B,[1]登记表打印!$B:$F,5,0)","v":{"v":59,"d":"59.00"}},{"v":64.6,"d":"64.60"}]
[19,"于琦","0101",68,{"$f":"VLOOKUP(B:B,[1]登记表打印!$B:$F,5,0)","v":"缺考"},"/"]
[20,"化淑丹","0102",72.6,{"$f":"VLOOKUP(B:B,[1]登记表打印!$B:$F,5,0)","v":83.49},{"v":78.045,"d":"78.05"},"*"]
[21,"胡志娟","0102",71.9,{"$f":"VLOOKUP(B:B,[1]登记表打印!$B:$F,5,0)","v":83.32},77.61,"*"]
[22,"杨子轩","0102",69.1,{"$f":"VLOOKUP(B:B,[1]登记表打印!$B:$F,5,0)","v":85.21},{"v":77.155,"d":"77.16"},"*"]
[23,"杜明慧","0102",69.1,{"$f":"VLOOKUP(B:B,[1]登记表打印!$B:$F,5,0)","v":81.22},75.16,"*"]
[24,"张阳阳","0102",68.8,{"$f":"VLOOKUP(B:B,[1]登记表打印!$B:$F,5,0)","v":81.37},{"v":75.085,"d":"75.09"}]
[25,"王紫涵","0102",66.3,{"$f":"VLOOKUP(B:B,[1]登记表打印!$B:$F,5,0)","v":80.57},{"v":73.435,"d":"73.44"}]
[26,"云依凡","0102",64.6,{"$f":"VLOOKUP(B:B,[1]登记表打印!$B:$F,5,0)","v":81.83},{"v":73.215,"d":"73.22"}]
[27,"赵敏鑫","0102",64.2,{"$f":"VLOOKUP(B:B,[1]登记表打印!$B:$F,5,0)","v":81.08},72.64]
[28,"张万冉","0102",63.5,{"$f":"VLOOKUP(B:B,[1]登记表打印!$B:$F,5,0)","v":{"v":79.8,"d":"79.80"}},71.65]
[29,"魏金灿","0102",61.6,{"$f":"VLOOKUP(B:B,[1]登记表打印!$B:$F,5,0)","v":73.57},{"v":67.585,"d":"67.59"}]
[30,"刘畅","0102",64.1,{"$f":"VLOOKUP(B:B,[1]登记表打印!$B:$F,5,0)","v":"缺考"},"/"]
[31,"车晨阳","0102",61.6,{"$f":"VLOOKUP(B:B,[1]登记表打印!$B:$F,5,0)","v":"缺考"},"/"]
[32,"史梦雪","0103",77,{"$f":"VLOOKUP(B:B,[1]登记表打印!$B:$F,5,0)","v":85.09},{"v":81.045,"d":"81.05"},"*"]
[33,"王睿鹏","0103",72.3,{"$f":"VLOOKUP(B:B,[1]登记表打印!$B:$F,5,0)","v":80.36},76.33,"*"]
[34,"张文欣","0103",68.2,{"$f":"VLOOKUP(B:B,[1]登记表打印!$B:$F,5,0)","v":83.87},{"v":76.035,"d":"76.04"},"*"]
[35,"乔青青","0103",71.7,{"$f":"VLOOKUP(B:B,[1]登记表打印!$B:$F,5,0)","v":80.21},{"v":75.955,"d":"75.96"},"*"]
[36,"王彦娟","0103",64.3,{"$f":"VLOOKUP(B:B,[1]登记表打印!$B:$F,5,0)","v":85.15},{"v":74.725,"d":"74.73"},"*"]
[37,"秦鹏举","0103",68.1,{"$f":"VLOOKUP(B:B,[1]登记表打印!$B:$F,5,0)","v":78.83},{"v":73.465,"d":"73.47"}]
[38,"李欣如","0103",65.4,{"$f":"VLOOKUP(B:B,[1]登记表打印!$B:$F,5,0)","v":80.27},{"v":72.835,"d":"72.84"}]
[39,"李英鑫","0103",61.9,{"$f":"VLOOKUP(B:B,[1]登记表打印!$B:$F,5,0)","v":78.05},{"v":69.975,"d":"69.98"}]
[40,"曹启超","0103",64.7,{"$f":"VLOOKUP(B:B,[1]登记表打印!$B:$F,5,0)","v":{"v":72.4,"d":"72.40"}},68.55]
[41,"逯超峰","0103",52.2,{"$f":"VLOOKUP(B:B,[1]登记表打印!$B:$F,5,0)","v":77.89},{"v":65.045,"d":"65.05"}]
[42,"唐家兴","0103",55.2,{"$f":"VLOOKUP(B:B,[1]登记表打印!$B:$F,5,0)","v":{"v":71.5,"d":"71.50"}},63.35]
[43,"叶梅辰","0103",68.3,{"$f":"VLOOKUP(B:B,[1]登记表打印!$B:$F,5,0)","v":"缺考"},"/"]
[44,"荆晓丽","0103",63.5,{"$f":"VLOOKUP(B:B,[1]登记表打印!$B:$F,5,0)","v":"缺考"},"/"]