{"text_format":"3","workbook":"xlsx","n_sheets":2,"sheets":["000270401010","000270401011"],"not_rendered":{"external_links":1},"read":"whole","date_system":"1900"}

{"sheet":"000270401010","index":0,"n_rows":39,"n_cols":5,"rows_kept":39,"merged":[[0,0,0,4],[1,0,1,4]]}
["2024年省管局局属幼儿园幼儿教师岗绘画成绩统计表"]
["岗位代码：000270401010"]
["序号","考生姓名","面试准考证号","绘画成绩","排名"]
["01","赵瑞璟",{"$f":"VLOOKUP(B4,'[1]000270401010'!$B$4:$C$39,2,FALSE)","v":10025},{"v":18.6666666666667,"d":"18.67"},1]
["02","戴嘉欣",{"$f":"VLOOKUP(B5,'[1]000270401010'!$B$4:$C$39,2,FALSE)","v":10041},{"v":18.6666666666667,"d":"18.67"},1]
["03","雷茜茜",{"$f":"VLOOKUP(B6,'[1]000270401010'!$B$4:$C$39,2,FALSE)","v":10004},{"v":17.6666666666667,"d":"17.67"},3]
["04","祝玥",{"$f":"VLOOKUP(B7,'[1]000270401010'!$B$4:$C$39,2,FALSE)","v":10026},{"v":17.6666666666667,"d":"17.67"},3]
["05","刘澳珍",{"$f":"VLOOKUP(B8,'[1]000270401010'!$B$4:$C$39,2,FALSE)","v":10052},{"v":17,"d":"17.00"},5]
["06","刘睿扬",{"$f":"VLOOKUP(B9,'[1]000270401010'!$B$4:$C$39,2,FALSE)","v":10031},{"v":16.3333333333333,"d":"16.33"},6]
["07","谢千惠",{"$f":"VLOOKUP(B10,'[1]000270401010'!$B$4:$C$39,2,FALSE)","v":10001},{"v":16,"d":"16.00"},7]
["08","程海芳",{"$f":"VLOOKUP(B11,'[1]000270401010'!$B$4:$C$39,2,FALSE)","v":10027},{"v":15.6666666666667,"d":"15.67"},8]
["09","王媛媛",{"$f":"VLOOKUP(B12,'[1]000270401010'!$B$4:$C$39,2,FALSE)","v":10002},{"v":14.6666666666667,"d":"14.67"},9]
["10","黄娟娟",{"$f":"VLOOKUP(B13,'[1]000270401010'!$B$4:$C$39,2,FALSE)","v":10023},{"v":14.6666666666667,"d":"14.67"},9]
["11","李晶",{"$f":"VLOOKUP(B14,'[1]000270401010'!$B$4:$C$39,2,FALSE)","v":10055},{"v":14.6666666666667,"d":"14.67"},9]
["12","熊璨",{"$f":"VLOOKUP(B15,'[1]000270401010'!$B$4:$C$39,2,FALSE)","v":10021},{"v":14.3333333333333,"d":"14.33"},12]
["13","付梦菲",{"$f":"VLOOKUP(B16,'[1]000270401010'!$B$4:$C$39,2,FALSE)","v":10013},{"v":14.3333333333333,"d":"14.33"},12]
["14","肖涵珏",{"$f":"VLOOKUP(B17,'[1]000270401010'!$B$4:$C$39,2,FALSE)","v":10047},{"v":14.3333333333333,"d":"14.33"},12]
["15","张钰滢",{"$f":"VLOOKUP(B18,'[1]000270401010'!$B$4:$C$39,2,FALSE)","v":10039},{"v":14,"d":"14.00"},15]
["16","黎娇",{"$f":"VLOOKUP(B19,'[1]000270401010'!$B$4:$C$39,2,FALSE)","v":10058},{"v":14,"d":"14.00"},15]
["17","孙沁",{"$f":"VLOOKUP(B20,'[1]000270401010'!$B$4:$C$39,2,FALSE)","v":10014},{"v":14,"d":"14.00"},15]
["18","席慧霖",{"$f":"VLOOKUP(B21,'[1]000270401010'!$B$4:$C$39,2,FALSE)","v":10011},{"v":14,"d":"14.00"},15]
["19","陈欣",{"$f":"VLOOKUP(B22,'[1]000270401010'!$B$4:$C$39,2,FALSE)","v":10049},{"v":13.6666666666667,"d":"13.67"},19]
["20","李晓丹",{"$f":"VLOOKUP(B23,'[1]000270401010'!$B$4:$C$39,2,FALSE)","v":10016},{"v":13.6666666666667,"d":"13.67"},19]
["21","李淑敏",{"$f":"VLOOKUP(B24,'[1]000270401010'!$B$4:$C$39,2,FALSE)","v":10043},{"v":13.6666666666667,"d":"13.67"},19]
["22","杨子薇",{"$f":"VLOOKUP(B25,'[1]000270401010'!$B$4:$C$39,2,FALSE)","v":10007},{"v":13.3333333333333,"d":"13.33"},22]
["23","全倩倩",{"$f":"VLOOKUP(B26,'[1]000270401010'!$B$4:$C$39,2,FALSE)","v":10018},{"v":13.3333333333333,"d":"13.33"},22]
["24","余婷",{"$f":"VLOOKUP(B27,'[1]000270401010'!$B$4:$C$39,2,FALSE)","v":10036},{"v":13,"d":"13.00"},24]
["25","伍新凤",{"$f":"VLOOKUP(B28,'[1]000270401010'!$B$4:$C$39,2,FALSE)","v":10029},{"v":13,"d":"13.00"},24]
["26","李小敏",{"$f":"VLOOKUP(B29,'[1]000270401010'!$B$4:$C$39,2,FALSE)","v":10069},{"v":13,"d":"13.00"},24]
["27","张倩",{"$f":"VLOOKUP(B30,'[1]000270401010'!$B$4:$C$39,2,FALSE)","v":10003},{"v":12.6666666666667,"d":"12.67"},27]
["28","袁景怡",{"$f":"VLOOKUP(B31,'[1]000270401010'!$B$4:$C$39,2,FALSE)","v":10008},{"v":12.6666666666667,"d":"12.67"},27]
["29","冯逴",{"$f":"VLOOKUP(B32,'[1]000270401010'!$B$4:$C$39,2,FALSE)","v":10005},{"v":12.6666666666667,"d":"12.67"},27]
["30","邓萍",{"$f":"VLOOKUP(B33,'[1]000270401010'!$B$4:$C$39,2,FALSE)","v":10061},{"v":12.3333333333333,"d":"12.33"},30]
["31","潘琳",{"$f":"VLOOKUP(B34,'[1]000270401010'!$B$4:$C$39,2,FALSE)","v":10010},{"v":10.3333333333333,"d":"10.33"},31]
["32","邹玉文",{"$f":"VLOOKUP(B35,'[1]000270401010'!$B$4:$C$39,2,FALSE)","v":10037},{"v":10.3333333333333,"d":"10.33"},31]
["33","郭慧",{"$f":"VLOOKUP(B36,'[1]000270401010'!$B$4:$C$39,2,FALSE)","v":10066},{"v":10,"d":"10.00"},33]
["34","王玉婵",{"$f":"VLOOKUP(B37,'[1]000270401010'!$B$4:$C$39,2,FALSE)","v":10006},{"v":9.33333333333333,"d":"9.33"},34]
["35","梅忠涛",{"$f":"VLOOKUP(B38,'[1]000270401010'!$B$4:$C$39,2,FALSE)","v":10050},{"v":9.33333333333333,"d":"9.33"},34]
["36","胡小燕",{"$f":"VLOOKUP(B39,'[1]000270401010'!$B$4:$C$39,2,FALSE)","v":10048},"弃考"]

{"sheet":"000270401011","index":1,"n_rows":63,"n_cols":5,"rows_kept":63,"merged":[[0,0,0,4],[1,0,1,4]]}
["2024年省管局局属幼儿园幼儿教师岗绘画成绩统计表"]
["岗位代码：000270401011"]
["序号","考生姓名","面试准考证号","绘画成绩","排名"]
["01","熊凯露",11023,{"v":19,"d":"19.00"},1]
["02","刘彦婷",11002,{"v":18.3333333333333,"d":"18.33"},2]
["03","张雅涵",11131,{"v":18,"d":"18.00"},3]
["04","徐菁",11092,{"v":17.6666666666667,"d":"17.67"},4]
["05","陈笑",11018,{"v":17.3333333333333,"d":"17.33"},5]
["06","李嘉星",11133,{"v":16.3333333333333,"d":"16.33"},6]
["07","刘嘉笑",11130,{"v":16.3333333333333,"d":"16.33"},6]
["08","唐金丹",11051,{"v":16.3333333333333,"d":"16.33"},6]
["09","徐璐瑶",11010,{"v":16.3333333333333,"d":"16.33"},6]
["10","潘桂欢",11079,{"v":16,"d":"16.00"},10]
["11","蔡明霞",11094,{"v":16,"d":"16.00"},11]
["12","江佳乐",11008,{"v":15.6666666666667,"d":"15.67"},12]
["13","晏萍娜",11100,{"v":15.6666666666667,"d":"15.67"},13]
["14","张萍",11096,{"v":15.6666666666667,"d":"15.67"},13]
["15","徐飘",11015,{"v":15.6666666666667,"d":"15.67"},13]
["16","许江伟",11091,{"v":15.3333333333333,"d":"15.33"},16]
["17","王妞妞",11071,{"v":15.3333333333333,"d":"15.33"},17]
["18","王嘉仪",11115,{"v":15,"d":"15.00"},18]
["19","刘思影",11037,{"v":15,"d":"15.00"},18]
["20","李慧",11021,{"v":15,"d":"15.00"},18]
["21","涂嘉欣",11128,{"v":15,"d":"15.00"},18]
["22","邹佳",11166,{"v":14.6666666666667,"d":"14.67"},22]
["23","杨煜",11102,{"v":14.6666666666667,"d":"14.67"},22]
["24","陈颖秋",11042,{"v":14.6666666666667,"d":"14.67"},22]
["25","桂钰婷",11163,{"v":14.6666666666667,"d":"14.67"},22]
["26","周子寒",11025,{"v":14.6666666666667,"d":"14.67"},22]
["27","黄锋韬",11113,{"v":14.6666666666667,"d":"14.67"},22]
["28","晏晗琦",11031,{"v":14.6666666666667,"d":"14.67"},22]
["29","占炬岭",11059,{"v":14.3333333333333,"d":"14.33"},29]
["30","张颖",11134,{"v":14.3333333333333,"d":"14.33"},29]
["31","王佳雯",11068,{"v":14,"d":"14.00"},31]
["32","甘媚",11120,{"v":14,"d":"14.00"},31]
["33","黄力",11110,{"v":13.6666666666667,"d":"13.67"},33]
["34","王芊钰",11084,{"v":13.6666666666667,"d":"13.67"},33]
["35","张懿",11032,{"v":13.6666666666667,"d":"13.67"},33]
["36","廖慧伶",11112,{"v":13.3333333333333,"d":"13.33"},36]
["37","谢丁",11045,{"v":13.3333333333333,"d":"13.33"},36]
["38","周诗睿",11050,{"v":13.3333333333333,"d":"13.33"},36]
["39","熊雅芬",11022,{"v":13.3333333333333,"d":"13.33"},36]
["40","甘丽玲",11179,{"v":13,"d":"13.00"},40]
["41","吴桂丽",11099,{"v":13,"d":"13.00"},40]
["42","詹娅欧",11098,{"v":13,"d":"13.00"},40]
["43","饶星月",11105,{"v":13,"d":"13.00"},40]
["44","饶铖芳",11121,{"v":13,"d":"13.00"},40]
["45","闵永春",11116,{"v":12.6666666666667,"d":"12.67"},45]
["46","熊雨瑶",11019,{"v":12.6666666666667,"d":"12.67"},45]
["47","肖赵欣",11017,{"v":12.6666666666667,"d":"12.67"},45]
["48","徐莹丽",11142,{"v":12,"d":"12.00"},48]
["49","李璐",11067,{"v":12,"d":"12.00"},48]
["50","陈姿伊",11033,{"v":12,"d":"12.00"},48]
["51","胡瑄",11013,{"v":11.6666666666667,"d":"11.67"},51]
["52","张佳棋",11048,{"v":11.6666666666667,"d":"11.67"},51]
["53","李璇",11011,{"v":11.6666666666667,"d":"11.67"},51]
["54","巢一祺",11001,{"v":11.6666666666667,"d":"11.67"},51]
["55","王泽昕",11003,{"v":11.3333333333333,"d":"11.33"},55]
["56","吴诗琪",11176,{"v":11.3333333333333,"d":"11.33"},55]
["57","殷彩蝶",11089,{"v":11,"d":"11.00"},57]
["58","熊庆",11066,{"v":10.6666666666667,"d":"10.67"},58]
["59","吴子阳",11041,{"v":10.3333333333333,"d":"10.33"},59]
["60","熊千慧",11083,"弃考"]