{"text_format":"3","workbook":"xlsx","n_sheets":1,"sheets":["铁西区面试"],"not_rendered":{"external_links":1,"defined_names":2},"read":"whole","date_system":"1900"}

{"sheet":"铁西区面试","index":0,"n_rows":1337,"n_cols":12,"rows_kept":1337,"merged":[[0,0,0,1],[1,0,1,11]]}
["附件1"]
["2023年沈阳市铁西区公开招聘教师进入面试人员名单及面试安排"]
["序号","报考单位","报考职位","岗位识别码","姓名","准考证号","笔试成绩","面试评审组名称","试讲范围","面试考点","面试考场","到达考点时间"]
[1,"沈阳市第三十六中学","高中语文教师","03001","赵健凯","0201191112",117.48,{"$f":"VLOOKUP(D4:D1337,[1]按组排列版!$G:$P,10,FALSE)","v":"0314高中、初中语文组"},"高中语文","沈阳市铁西区应昌小学大明湖分校（西门）","0314高中、初中语文组","7月11日6：40-7：10"]
[2,"沈阳市第三十六中学","高中语文教师","03001","王菁","0201210809",108.09,{"$f":"VLOOKUP(D5:D1337,[1]按组排列版!$G:$P,10,FALSE)","v":"0314高中、初中语文组"},"高中语文","沈阳市铁西区应昌小学大明湖分校（西门）","0314高中、初中语文组","7月11日6：40-7：10"]
[3,"沈阳市第三十六中学","高中语文教师","03001","杜宇飞","0201020403",104.33,{"$f":"VLOOKUP(D6:D1337,[1]按组排列版!$G:$P,10,FALSE)","v":"0314高中、初中语文组"},"高中语文","沈阳市铁西区应昌小学大明湖分校（西门）","0314高中、初中语文组","7月11日6：40-7：10"]
[4,"沈阳市第五十三中学","高中物理教师","03002","于跃","0201061221",113.83,{"$f":"VLOOKUP(D7:D1337,[1]按组排列版!$G:$P,10,FALSE)","v":"0339高中、初中物理组"},"高中物理","沈阳市铁西区应昌小学大明湖分校（西门）","0339高中、初中物理组","7月12日11：40-12：10"]
[5,"沈阳市第五十三中学","高中物理教师","03002","张雪","0201100919",106.81,{"$f":"VLOOKUP(D8:D1337,[1]按组排列版!$G:$P,10,FALSE)","v":"0339高中、初中物理组"},"高中物理","沈阳市铁西区应昌小学大明湖分校（西门）","0339高中、初中物理组","7月12日11：40-12：10"]
[6,"沈阳市第五十三中学","高中物理教师","03002","高季龙","0201021426",104.45,{"$f":"VLOOKUP(D9:D1337,[1]按组排列版!$G:$P,10,FALSE)","v":"0339高中、初中物理组"},"高中物理","沈阳市铁西区应昌小学大明湖分校（西门）","0339高中、初中物理组","7月12日11：40-12：10"]
[7,"沈阳市第九十五中学","初中历史教师","03003","张源","0201070701",109.66,{"$f":"VLOOKUP(D10:D1337,[1]按组排列版!$G:$P,10,FALSE)","v":"0316初中历史组"},"初中历史","沈阳市铁西区应昌小学大明湖分校（西门）","0316初中历史组","7月11日6：40-7：10"]
[8,"沈阳市第九十五中学","初中历史教师","03003","赵琳琳","0201050206",102.57,{"$f":"VLOOKUP(D11:D1337,[1]按组排列版!$G:$P,10,FALSE)","v":"0316初中历史组"},"初中历史","沈阳市铁西区应昌小学大明湖分校（西门）","0316初中历史组","7月11日6：40-7：10"]
[9,"沈阳市第九十五中学","初中历史教师","03003","李红艳","0201011620",100.32,{"$f":"VLOOKUP(D12:D1337,[1]按组排列版!$G:$P,10,FALSE)","v":"0316初中历史组"},"初中历史","沈阳市铁西区应昌小学大明湖分校（西门）","0316初中历史组","7月11日6：40-7：10"]
[10,"沈阳市第九十五中学","初中道德与法治教师","03004","张邢航","0201131227",113.67,{"$f":"VLOOKUP(D13:D1337,[1]按组排列版!$G:$P,10,FALSE)","v":"0321初中、小学道法组"},"初中道德与法治","沈阳市铁西区应昌小学大明湖分校（西门）","0321初中、小学道法组","7月11日11：40-12：10"]
[11,"沈阳市第九十五中学","初中道德与法治教师","03004","楚晓晴","0201200712",104.05,{"$f":"VLOOKUP(D14:D1337,[1]按组排列版!$G:$P,10,FALSE)","v":"0321初中、小学道法组"},"初中道德与法治","沈阳市铁西区应昌小学大明湖分校（西门）","0321初中、小学道法组","7月11日11：40-12：10"]
[12,"沈阳市第九十五中学","初中道德与法治教师","03004","刘琳琳","0201200517",101.73,{"$f":"VLOOKUP(D15:D1337,[1]按组排列版!$G:$P,10,FALSE)","v":"0321初中、小学道法组"},"初中道德与法治","沈阳市铁西区应昌小学大明湖分校（西门）","0321初中、小学道法组","7月11日11：40-12：10"]
[13,"沈阳市第一二七中学","初中道德与法治教师","03005","齐万思","0201080302",115.38,{"$f":"VLOOKUP(D16:D1337,[1]按组排列版!$G:$P,10,FALSE)","v":"0321初中、小学道法组"},"初中道德与法治","沈阳市铁西区应昌小学大明湖分校（西门）","0321初中、小学道法组","7月11日11：40-12：10"]
[14,"沈阳市第一二七中学","初中道德与法治教师","03005","李月","0201061113",107.73,{"$f":"VLOOKUP(D17:D1337,[1]按组排列版!$G:$P,10,FALSE)","v":"0321初中、小学道法组"},"初中道德与法治","沈阳市铁西区应昌小学大明湖分校（西门）","0321初中、小学道法组","7月11日11：40-12：10"]
[15,"沈阳市第一二七中学","初中道德与法治教师","03005","胡琬莹","0201190317",107.6,{"$f":"VLOOKUP(D18:D1337,[1]按组排列版!$G:$P,10,FALSE)","v":"0321初中、小学道法组"},"初中道德与法治","沈阳市铁西区应昌小学大明湖分校（西门）","0321初中、小学道法组","7月11日11：40-12：10"]
[16,"沈阳市第一二七中学","初中历史教师","03006","刘思嘉","0201170405",111.5,{"$f":"VLOOKUP(D19:D1337,[1]按组排列版!$G:$P,10,FALSE)","v":"0316初中历史组"},"初中历史","沈阳市铁西区应昌小学大明湖分校（西门）","0316初中历史组","7月11日6：40-7：10"]
[17,"沈阳市第一二七中学","初中历史教师","03006","于子惠","0201021509",106.01,{"$f":"VLOOKUP(D20:D1337,[1]按组排列版!$G:$P,10,FALSE)","v":"0316初中历史组"},"初中历史","沈阳市铁西区应昌小学大明湖分校（西门）","0316初中历史组","7月11日6：40-7：10"]
[18,"沈阳市第一二七中学","初中历史教师","03006","杨美慧","0201050617",105.17,{"$f":"VLOOKUP(D21:D1337,[1]按组排列版!$G:$P,10,FALSE)","v":"0316初中历史组"},"初中历史","沈阳市铁西区应昌小学大明湖分校（西门）","0316初中历史组","7月11日6：40-7：10"]
[19,"沈阳市第一二七中学","初中历史教师","03007","罗紫懿","0201010304",102.58,{"$f":"VLOOKUP(D22:D1337,[1]按组排列版!$G:$P,10,FALSE)","v":"0316初中历史组"},"初中历史","沈阳市铁西区应昌小学大明湖分校（西门）","0316初中历史组","7月11日6：40-7：10"]
[20,"沈阳市第一二七中学","初中历史教师","03007","史晓雨","0201011312",100.59,{"$f":"VLOOKUP(D23:D1337,[1]按组排列版!$G:$P,10,FALSE)","v":"0316初中历史组"},"初中历史","沈阳市铁西区应昌小学大明湖分校（西门）","0316初中历史组","7月11日6：40-7：10"]
[21,"沈阳市第一二七中学","初中历史教师","03007","赵龙月","0201020504",97.4,{"$f":"VLOOKUP(D24:D1337,[1]按组排列版!$G:$P,10,FALSE)","v":"0316初中历史组"},"初中历史","沈阳市铁西区应昌小学大明湖分校（西门）","0316初中历史组","7月11日6：40-7：10"]
[22,"沈阳市第一二七中学","初中体育教师","03008","王钰铨","0201041514",104.76,{"$f":"VLOOKUP(D25:D1337,[1]按组排列版!$G:$P,10,FALSE)","v":"0326初中体育组"},"初中体育","沈阳市铁西区应昌小学大明湖分校（西门）","0326初中体育组","7月12日6：40-7：10"]
[23,"沈阳市第一二七中学","初中体育教师","03008","卢冠虹","0201131802",82.69,{"$f":"VLOOKUP(D26:D1337,[1]按组排列版!$G:$P,10,FALSE)","v":"0326初中体育组"},"初中体育","沈阳市铁西区应昌小学大明湖分校（西门）","0326初中体育组","7月12日6：40-7：10"]
[24,"沈阳市第一五七中学","初中体育教师","03009","康舒雅","0201140324",101.92,{"$f":"VLOOKUP(D27:D1337,[1]按组排列版!$G:$P,10,FALSE)","v":"0326初中体育组"},"初中体育","沈阳市铁西区应昌小学大明湖分校（西门）","0326初中体育组","7月12日6：40-7：10"]
[25,"沈阳市第一五七中学","初中体育教师","03009","王洋洋","0201120807",98.13,{"$f":"VLOOKUP(D28:D1337,[1]按组排列版!$G:$P,10,FALSE)","v":"0326初中体育组"},"初中体育","沈阳市铁西区应昌小学大明湖分校（西门）","0326初中体育组","7月12日6：40-7：10"]
[26,"沈阳市第一五七中学","初中体育教师","03009","杨玲龙","0201081004",88.29,{"$f":"VLOOKUP(D29:D1337,[1]按组排列版!$G:$P,10,FALSE)","v":"0326初中体育组"},"初中体育","沈阳市铁西区应昌小学大明湖分校（西门）","0326初中体育组","7月12日6：40-7：10"]
[27,"沈阳市第一五七中学","初中数学教师","03010","苗馨月","0201040922",113.07,{"$f":"VLOOKUP(D30:D1337,[1]按组排列版!$G:$P,10,FALSE)","v":"0315初中数学组"},"初中数学","沈阳市铁西区应昌小学大明湖分校（西门）","0315初中数学组","7月11日6：40-7：10"]
[28,"沈阳市第一五七中学","初中数学教师","03010","王佳慧","0201010404",110.62,{"$f":"VLOOKUP(D31:D1337,[1]按组排列版!$G:$P,10,FALSE)","v":"0315初中数学组"},"初中数学","沈阳市铁西区应昌小学大明湖分校（西门）","0315初中数学组","7月11日6：40-7：10"]
[29,"沈阳市第一五七中学","初中数学教师","03010","杨卓洱","0201131708",107.04,{"$f":"VLOOKUP(D32:D1337,[1]按组排列版!$G:$P,10,FALSE)","v":"0315初中数学组"},"初中数学","沈阳市铁西区应昌小学大明湖分校（西门）","0315初中数学组","7月11日6：40-7：10"]
[30,"沈阳市第一五七中学","初中英语教师","03011","刘诗瑶","0201060113",110.58,{"$f":"VLOOKUP(D33:D1337,[1]按组排列版!$G:$P,10,FALSE)","v":"0317初中英语组"},"初中英语","沈阳市铁西区应昌小学大明湖分校（西门）","0317初中英语组","7月11日6：40-7：10"]
[31,"沈阳市第一五七中学","初中英语教师","03011","韩薏凝","0201120311",110.14,{"$f":"VLOOKUP(D34:D1337,[1]按组排列版!$G:$P,10,FALSE)","v":"0317初中英语组"},"初中英语","沈阳市铁西区应昌小学大明湖分校（西门）","0317初中英语组","7月11日6：40-7：10"]
[32,"沈阳市第一五七中学","初中英语教师","03011","贺歆童","0201180314",109.22,{"$f":"VLOOKUP(D35:D1337,[1]按组排列版!$G:$P,10,FALSE)","v":"0317初中英语组"},"初中英语","沈阳市铁西区应昌小学大明湖分校（西门）","0317初中英语组","7月11日6：40-7：10"]
[33,"沈阳市第一五七中学","初中信息技术教师","03012","殷月","0201170618",103.88,{"$f":"VLOOKUP(D36:D1337,[1]按组排列版!$G:$P,10,FALSE)","v":"0340初中信息技术组"},"初中信息技术","沈阳市铁西区应昌小学大明湖分校（西门）","0340初中信息技术组","7月12日6：40-7：10"]
[34,"沈阳市培英中学","初中历史教师","03013","杨尚宾","0201130217",114.48,{"$f":"VLOOKUP(D37:D1337,[1]按组排列版!$G:$P,10,FALSE)","v":"0316初中历史组"},"初中历史","沈阳市铁西区应昌小学大明湖分校（西门）","0316初中历史组","7月11日6：40-7：10"]
[35,"沈阳市培英中学","初中历史教师","03013","梁辰","0201180918",113.47,{"$f":"VLOOKUP(D38:D1337,[1]按组排列版!$G:$P,10,FALSE)","v":"0316初中历史组"},"初中历史","沈阳市铁西区应昌小学大明湖分校（西门）","0316初中历史组","7月11日6：40-7：10"]
[36,"沈阳市培英中学","初中历史教师","03013","赵晓荻","0201022125",112.85,{"$f":"VLOOKUP(D39:D1337,[1]按组排列版!$G:$P,10,FALSE)","v":"0316初中历史组"},"初中历史","沈阳市铁西区应昌小学大明湖分校（西门）","0316初中历史组","7月11日6：40-7：10"]
[37,"沈阳市培英中学","初中语文教师","03014","张欣阳","0201150230",122.38,{"$f":"VLOOKUP(D40:D1337,[1]按组排列版!$G:$P,10,FALSE)","v":"0314高中、初中语文组"},"初中语文","沈阳市铁西区应昌小学大明湖分校（西门）","0314高中、初中语文组","7月11日6：40-7：10"]
[38,"沈阳市培英中学","初中语文教师","03014","王禹心","0201020804",113.33,{"$f":"VLOOKUP(D41:D1337,[1]按组排列版!$G:$P,10,FALSE)","v":"0314高中、初中语文组"},"初中语文","沈阳市铁西区应昌小学大明湖分校（西门）","0314高中、初中语文组","7月11日6：40-7：10"]
[39,"沈阳市培英中学","初中语文教师","03014","刘禹含","0201220722",113.07,{"$f":"VLOOKUP(D42:D1337,[1]按组排列版!$G:$P,10,FALSE)","v":"0314高中、初中语文组"},"初中语文","沈阳市铁西区应昌小学大明湖分校（西门）","0314高中、初中语文组","7月11日6：40-7：10"]
[40,"沈阳市培英中学","初中地理教师","03015","蒋翰卿","0201090703",115.34,{"$f":"VLOOKUP(D43:D1337,[1]按组排列版!$G:$P,10,FALSE)","v":"0343初中地理组"},"初中地理","沈阳市铁西区应昌小学大明湖分校（西门）","0343初中地理组","7月12日11：40-12：10"]
[41,"沈阳市培英中学","初中地理教师","03015","王雨","0201220213",111.07,{"$f":"VLOOKUP(D44:D1337,[1]按组排列版!$G:$P,10,FALSE)","v":"0343初中地理组"},"初中地理","沈阳市铁西区应昌小学大明湖分校（西门）","0343初中地理组","7月12日11：40-12：10"]
[42,"沈阳市培英中学","初中地理教师","03015","张琳","0201041720",109.23,{"$f":"VLOOKUP(D45:D1337,[1]按组排列版!$G:$P,10,FALSE)","v":"0343初中地理组"},"初中地理","沈阳市铁西区应昌小学大明湖分校（西门）","0343初中地理组","7月12日11：40-12：10"]
[43,"沈阳市培英中学","初中体育教师","03016","黄晓云","0201011827",104.87,{"$f":"VLOOKUP(D46:D1337,[1]按组排列版!$G:$P,10,FALSE)","v":"0326初中体育组"},"初中体育","沈阳市铁西区应昌小学大明湖分校（西门）","0326初中体育组","7月12日6：40-7：10"]
[44,"沈阳市培英中学","初中体育教师","03016","张淼","0201211201",100.74,{"$f":"VLOOKUP(D47:D1337,[1]按组排列版!$G:$P,10,FALSE)","v":"0326初中体育组"},"初中体育","沈阳市铁西区应昌小学大明湖分校（西门）","0326初中体育组","7月12日6：40-7：10"]
[45,"沈阳市培英中学","初中劳动教师","03017","葛鑫","0201111520",112.91,{"$f":"VLOOKUP(D48:D1337,[1]按组排列版!$G:$P,10,FALSE)","v":"0342初中、小学劳动组"},"初中劳动","沈阳市铁西区应昌小学大明湖分校（西门）","0342初中、小学劳动组","7月12日6：40-7：10"]
[46,"沈阳市培英中学","初中劳动教师","03017","张湃","0201130725",112.88,{"$f":"VLOOKUP(D49:D1337,[1]按组排列版!$G:$P,10,FALSE)","v":"0342初中、小学劳动组"},"初中劳动","沈阳市铁西区应昌小学大明湖分校（西门）","0342初中、小学劳动组","7月12日6：40-7：10"]
[47,"沈阳市培英中学","初中劳动教师","03017","徐冰","0201201422",111.73,{"$f":"VLOOKUP(D50:D1337,[1]按组排列版!$G:$P,10,FALSE)","v":"0342初中、小学劳动组"},"初中劳动","沈阳市铁西区应昌小学大明湖分校（西门）","0342初中、小学劳动组","7月12日6：40-7：10"]
[48,"沈阳市第一00中学","初中英语教师","03018","薛萍","0201131327",117.27,{"$f":"VLOOKUP(D51:D1337,[1]按组排列版!$G:$P,10,FALSE)","v":"0317初中英语组"},"初中英语","沈阳市铁西区应昌小学大明湖分校（西门）","0317初中英语组","7月11日6：40-7：10"]
[49,"沈阳市第一00中学","初中英语教师","03018","白笑宇","0201070501",109.99,{"$f":"VLOOKUP(D52:D1337,[1]按组排列版!$G:$P,10,FALSE)","v":"0317初中英语组"},"初中英语","沈阳市铁西区应昌小学大明湖分校（西门）","0317初中英语组","7月11日6：40-7：10"]
[50,"沈阳市第一00中学","初中英语教师","03018","高雪","0201171220",109.17,{"$f":"VLOOKUP(D53:D1337,[1]按组排列版!$G:$P,10,FALSE)","v":"0317初中英语组"},"初中英语","沈阳市铁西区应昌小学大明湖分校（西门）","0317初中英语组","7月11日6：40-7：10"]
[51,"沈阳市第一00中学","初中化学教师","03019","张钊","0201070320",117.99,{"$f":"VLOOKUP(D54:D1337,[1]按组排列版!$G:$P,10,FALSE)","v":"0338初中化学组"},"初中化学","沈阳市铁西区应昌小学大明湖分校（西门）","0338初中化学组","7月12日6：40-7：10"]
[52,"沈阳市第一00中学","初中化学教师","03019","孙境泽","0201070908",112.88,{"$f":"VLOOKUP(D55:D1337,[1]按组排列版!$G:$P,10,FALSE)","v":"0338初中化学组"},"初中化学","沈阳市铁西区应昌小学大明湖分校（西门）","0338初中化学组","7月12日6：40-7：10"]
[53,"沈阳市第一00中学","初中化学教师","03019","徐帅","0201211717",110.52,{"$f":"VLOOKUP(D56:D1337,[1]按组排列版!$G:$P,10,FALSE)","v":"0338初中化学组"},"初中化学","沈阳市铁西区应昌小学大明湖分校（西门）","0338初中化学组","7月12日6：40-7：10"]
[54,"沈阳市第一00中学","初中生物教师","03020","关鑫","0201171105",114.34,{"$f":"VLOOKUP(D57:D1337,[1]按组排列版!$G:$P,10,FALSE)","v":"0344初中生物组"},"初中生物","沈阳市铁西区应昌小学大明湖分校（西门）","0344初中生物组","7月12日6：40-7：10"]
[55,"沈阳市第一00中学","初中生物教师","03020","刘程文","0201101720",113.91,{"$f":"VLOOKUP(D58:D1337,[1]按组排列版!$G:$P,10,FALSE)","v":"0344初中生物组"},"初中生物","沈阳市铁西区应昌小学大明湖分校（西门）","0344初中生物组","7月12日6：40-7：10"]
[56,"沈阳市第一00中学","初中生物教师","03020","宋若鑫","0201111515",110.15,{"$f":"VLOOKUP(D59:D1337,[1]按组排列版!$G:$P,10,FALSE)","v":"0344初中生物组"},"初中生物","沈阳市铁西区应昌小学大明湖分校（西门）","0344初中生物组","7月12日6：40-7：10"]
[57,"沈阳市第一00中学","初中体育教师","03021","刘鹏","0201050515",103.98,{"$f":"VLOOKUP(D60:D1337,[1]按组排列版!$G:$P,10,FALSE)","v":"0326初中体育组"},"初中体育","沈阳市铁西区应昌小学大明湖分校（西门）","0326初中体育组","7月12日6：40-7：10"]
[58,"沈阳市第一00中学","初中体育教师","03021","曲思晗","0201220416",87.5,{"$f":"VLOOKUP(D61:D1337,[1]按组排列版!$G:$P,10,FALSE)","v":"0326初中体育组"},"初中体育","沈阳市铁西区应昌小学大明湖分校（西门）","0326初中体育组","7月12日6：40-7：10"]
[59,"沈阳市第一00中学","初中体育教师","03021","周冠宏","0201010129",70.88,{"$f":"VLOOKUP(D62:D1337,[1]按组排列版!$G:$P,10,FALSE)","v":"0326初中体育组"},"初中体育","沈阳市铁西区应昌小学大明湖分校（西门）","0326初中体育组","7月12日6：40-7：10"]
[60,"沈阳市第一七三中学","初中数学教师","03022","王聪慧","0201010429",111.12,{"$f":"VLOOKUP(D63:D1337,[1]按组排列版!$G:$P,10,FALSE)","v":"0315初中数学组"},"初中数学","沈阳市铁西区应昌小学大明湖分校（西门）","0315初中数学组","7月11日6：40-7：10"]
[61,"沈阳市第一七三中学","初中数学教师","03022","陈晓卉","0201080716",108.7,{"$f":"VLOOKUP(D64:D1337,[1]按组排列版!$G:$P,10,FALSE)","v":"0315初中数学组"},"初中数学","沈阳市铁西区应昌小学大明湖分校（西门）","0315初中数学组","7月11日6：40-7：10"]
[62,"沈阳市第一七三中学","初中数学教师","03022","申海明","0201110207",108.4,{"$f":"VLOOKUP(D65:D1337,[1]按组排列版!$G:$P,10,FALSE)","v":"0315初中数学组"},"初中数学","沈阳市铁西区应昌小学大明湖分校（西门）","0315初中数学组","7月11日6：40-7：10"]
[63,"沈阳市第一七三中学","初中美术教师","03023","赵宇欣","0201040930",111.07,{"$f":"VLOOKUP(D66:D1337,[1]按组排列版!$G:$P,10,FALSE)","v":"0322初中、小学美术组"},"初中美术","沈阳市铁西区应昌小学大明湖分校（西门）","0322初中、小学美术组","7月12日6：40-7：10"]
[64,"沈阳市第一七三中学","初中美术教师","03023","赵乃靓","0201061415",106.36,{"$f":"VLOOKUP(D67:D1337,[1]按组排列版!$G:$P,10,FALSE)","v":"0322初中、小学美术组"},"初中美术","沈阳市铁西区应昌小学大明湖分校（西门）","0322初中、小学美术组","7月12日6：40-7：10"]
[65,"沈阳市第一七三中学","初中美术教师","03023","李麟","0201140318",105.26,{"$f":"VLOOKUP(D68:D1337,[1]按组排列版!$G:$P,10,FALSE)","v":"0322初中、小学美术组"},"初中美术","沈阳市铁西区应昌小学大明湖分校（西门）","0322初中、小学美术组","7月12日6：40-7：10"]
[66,"沈阳市第一七三中学","初中体育教师","03024","李昊","0201040708",94.99,{"$f":"VLOOKUP(D69:D1337,[1]按组排列版!$G:$P,10,FALSE)","v":"0326初中体育组"},"初中体育","沈阳市铁西区应昌小学大明湖分校（西门）","0326初中体育组","7月12日6：40-7：10"]
[67,"沈阳市第一七三中学","初中体育教师","03024","王琦","0201191303",94.33,{"$f":"VLOOKUP(D70:D1337,[1]按组排列版!$G:$P,10,FALSE)","v":"0326初中体育组"},"初中体育","沈阳市铁西区应昌小学大明湖分校（西门）","0326初中体育组","7月12日6：40-7：10"]
[68,"沈阳市第一七三中学","初中体育教师","03024","吴佳凌","0201220829",92.63,{"$f":"VLOOKUP(D71:D1337,[1]按组排列版!$G:$P,10,FALSE)","v":"0326初中体育组"},"初中体育","沈阳市铁西区应昌小学大明湖分校（西门）","0326初中体育组","7月12日6：40-7：10"]
[69,"沈阳市杏坛中学","初中语文教师","03025","李秋蓉","0201081219",111.48,{"$f":"VLOOKUP(D72:D1337,[1]按组排列版!$G:$P,10,FALSE)","v":"0314高中、初中语文组"},"初中语文","沈阳市铁西区应昌小学大明湖分校（西门）","0314高中、初中语文组","7月11日6：40-7：10"]
[70,"沈阳市杏坛中学","初中语文教师","03025","赵琳琳","0201121214",106.64,{"$f":"VLOOKUP(D73:D1337,[1]按组排列版!$G:$P,10,FALSE)","v":"0314高中、初中语文组"},"初中语文","沈阳市铁西区应昌小学大明湖分校（西门）","0314高中、初中语文组","7月11日6：40-7：10"]
[71,"沈阳市杏坛中学","初中语文教师","03025","纪雨彤","0201070506",106.08,{"$f":"VLOOKUP(D74:D1337,[1]按组排列版!$G:$P,10,FALSE)","v":"0314高中、初中语文组"},"初中语文","沈阳市铁西区应昌小学大明湖分校（西门）","0314高中、初中语文组","7月11日6：40-7：10"]
[72,"沈阳市杏坛中学","初中英语教师","03026","韩爽","0201120115",116.48,{"$f":"VLOOKUP(D75:D1337,[1]按组排列版!$G:$P,10,FALSE)","v":"0317初中英语组"},"初中英语","沈阳市铁西区应昌小学大明湖分校（西门）","0317初中英语组","7月11日6：40-7：10"]
[73,"沈阳市杏坛中学","初中英语教师","03026","陈美琦","0201011103",114.24,{"$f":"VLOOKUP(D76:D1337,[1]按组排列版!$G:$P,10,FALSE)","v":"0317初中英语组"},"初中英语","沈阳市铁西区应昌小学大明湖分校（西门）","0317初中英语组","7月11日6：40-7：10"]
[74,"沈阳市杏坛中学","初中英语教师","03026","甄鸿飞","0201040311",111.43,{"$f":"VLOOKUP(D77:D1337,[1]按组排列版!$G:$P,10,FALSE)","v":"0317初中英语组"},"初中英语","沈阳市铁西区应昌小学大明湖分校（西门）","0317初中英语组","7月11日6：40-7：10"]
[75,"沈阳市杏坛中学","初中物理教师","03027","陈方千禧","0201080621",117.9,{"$f":"VLOOKUP(D78:D1337,[1]按组排列版!$G:$P,10,FALSE)","v":"0339高中、初中物理组"},"初中物理","沈阳市铁西区应昌小学大明湖分校（西门）","0339高中、初中物理组","7月12日11：40-12：10"]
[76,"沈阳市杏坛中学","初中物理教师","03027","赵芮仪","0201131830",113.05,{"$f":"VLOOKUP(D79:D1337,[1]按组排列版!$G:$P,10,FALSE)","v":"0339高中、初中物理组"},"初中物理","沈阳市铁西区应昌小学大明湖分校（西门）","0339高中、初中物理组","7月12日11：40-12：10"]
[77,"沈阳市杏坛中学","初中物理教师","03027","贾文博","0201200617",104.15,{"$f":"VLOOKUP(D80:D1337,[1]按组排列版!$G:$P,10,FALSE)","v":"0339高中、初中物理组"},"初中物理","沈阳市铁西区应昌小学大明湖分校（西门）","0339高中、初中物理组","7月12日11：40-12：10"]
[78,"沈阳市杏坛中学","初中美术教师","03028","马昕彤","0201102215",112.97,{"$f":"VLOOKUP(D81:D1337,[1]按组排列版!$G:$P,10,FALSE)","v":"0322初中、小学美术组"},"初中美术","沈阳市铁西区应昌小学大明湖分校（西门）","0322初中、小学美术组","7月12日6：40-7：10"]
[79,"沈阳市杏坛中学","初中美术教师","03028","温旭","0201081121",109.4,{"$f":"VLOOKUP(D82:D1337,[1]按组排列版!$G:$P,10,FALSE)","v":"0322初中、小学美术组"},"初中美术","沈阳市铁西区应昌小学大明湖分校（西门）","0322初中、小学美术组","7月12日6：40-7：10"]
[80,"沈阳市杏坛中学","初中美术教师","03028","张祎琳","0201021422",106.99,{"$f":"VLOOKUP(D83:D1337,[1]按组排列版!$G:$P,10,FALSE)","v":"0322初中、小学美术组"},"初中美术","沈阳市铁西区应昌小学大明湖分校（西门）","0322初中、小学美术组","7月12日6：40-7：10"]
[81,"沈阳市杏坛中学","初中体育教师","03029","王宏宇","0201140625",84.89,{"$f":"VLOOKUP(D84:D1337,[1]按组排列版!$G:$P,10,FALSE)","v":"0326初中体育组"},"初中体育","沈阳市铁西区应昌小学大明湖分校（西门）","0326初中体育组","7月12日11：40-12：10"]
[82,"沈阳市杏坛中学","初中生物教师","03030","张倩楠","0201030901",112.71,{"$f":"VLOOKUP(D85:D1337,[1]按组排列版!$G:$P,10,FALSE)","v":"0344初中生物组"},"初中生物","沈阳市铁西区应昌小学大明湖分校（西门）","0344初中生物组","7月12日6：40-7：10"]
[83,"沈阳市杏坛中学","初中生物教师","03030","毛雪","0201091409",109.45,{"$f":"VLOOKUP(D86:D1337,[1]按组排列版!$G:$P,10,FALSE)","v":"0344初中生物组"},"初中生物","沈阳市铁西区应昌小学大明湖分校（西门）","0344初中生物组","7月12日6：40-7：10"]
[84,"沈阳市杏坛中学","初中生物教师","03030","耿瑞鸿","0201071207",108.9,{"$f":"VLOOKUP(D87:D1337,[1]按组排列版!$G:$P,10,FALSE)","v":"0344初中生物组"},"初中生物","沈阳市铁西区应昌小学大明湖分校（西门）","0344初中生物组","7月12日6：40-7：10"]
[85,"沈阳市杏坛中学（远大校区）","初中语文教师","03031","李爱新","0201010809",113.75,{"$f":"VLOOKUP(D88:D1337,[1]按组排列版!$G:$P,10,FALSE)","v":"0314高中、初中语文组"},"初中语文","沈阳市铁西区应昌小学大明湖分校（西门）","0314高中、初中语文组","7月11日6：40-7：10"]
[86,"沈阳市杏坛中学（远大校区）","初中语文教师","03031","杨国范","0201161109",107.14,{"$f":"VLOOKUP(D89:D1337,[1]按组排列版!$G:$P,10,FALSE)","v":"0314高中、初中语文组"},"初中语文","沈阳市铁西区应昌小学大明湖分校（西门）","0314高中、初中语文组","7月11日6：40-7：10"]
[87,"沈阳市杏坛中学（远大校区）","初中语文教师","03031","安秋霖","0201060820",101.99,{"$f":"VLOOKUP(D90:D1337,[1]按组排列版!$G:$P,10,FALSE)","v":"0314高中、初中语文组"},"初中语文","沈阳市铁西区应昌小学大明湖分校（西门）","0314高中、初中语文组","7月11日6：40-7：10"]
[88,"沈阳市杏坛中学（远大校区）","初中数学教师","03032","魏浩然","0201020810",115.5,{"$f":"VLOOKUP(D91:D1337,[1]按组排列版!$G:$P,10,FALSE)","v":"0315初中数学组"},"初中数学","沈阳市铁西区应昌小学大明湖分校（西门）","0315初中数学组","7月11日6：40-7：10"]
[89,"沈阳市杏坛中学（远大校区）","初中数学教师","03032","李梦莹","0201060816",107.24,{"$f":"VLOOKUP(D92:D1337,[1]按组排列版!$G:$P,10,FALSE)","v":"0315初中数学组"},"初中数学","沈阳市铁西区应昌小学大明湖分校（西门）","0315初中数学组","7月11日6：40-7：10"]
[90,"沈阳市杏坛中学（远大校区）","初中数学教师","03032","石贺","0201161126",105.12,{"$f":"VLOOKUP(D93:D1337,[1]按组排列版!$G:$P,10,FALSE)","v":"0315初中数学组"},"初中数学","沈阳市铁西区应昌小学大明湖分校（西门）","0315初中数学组","7月11日6：40-7：10"]
[91,"沈阳市杏坛中学（远大校区）","初中数学教师","03032","郑欣","0201021102",105.01,{"$f":"VLOOKUP(D94:D1337,[1]按组排列版!$G:$P,10,FALSE)","v":"0315初中数学组"},"初中数学","沈阳市铁西区应昌小学大明湖分校（西门）","0315初中数学组","7月11日6：40-7：10"]
[92,"沈阳市杏坛中学（远大校区）","初中数学教师","03032","卢冠达","0201120612",103.71,{"$f":"VLOOKUP(D95:D1337,[1]按组排列版!$G:$P,10,FALSE)","v":"0315初中数学组"},"初中数学","沈阳市铁西区应昌小学大明湖分校（西门）","0315初中数学组","7月11日6：40-7：10"]
[93,"沈阳市杏坛中学（远大校区）","初中数学教师","03032","李双","0201031402",101.6,{"$f":"VLOOKUP(D96:D1337,[1]按组排列版!$G:$P,10,FALSE)","v":"0315初中数学组"},"初中数学","沈阳市铁西区应昌小学大明湖分校（西门）","0315初中数学组","7月11日6：40-7：10"]
[94,"沈阳市杏坛中学（远大校区）","初中英语教师","03033","张雪","0201161304",117.4,{"$f":"VLOOKUP(D97:D1337,[1]按组排列版!$G:$P,10,FALSE)","v":"0317初中英语组"},"初中英语","沈阳市铁西区应昌小学大明湖分校（西门）","0317初中英语组","7月11日6：40-7：10"]
[95,"沈阳市杏坛中学（远大校区）","初中英语教师","03033","梁文茹","0201201519",114.68,{"$f":"VLOOKUP(D98:D1337,[1]按组排列版!$G:$P,10,FALSE)","v":"0317初中英语组"},"初中英语","沈阳市铁西区应昌小学大明湖分校（西门）","0317初中英语组","7月11日6：40-7：10"]
[96,"沈阳市杏坛中学（远大校区）","初中英语教师","03033","葛晓莹","0201120823",107.72,{"$f":"VLOOKUP(D99:D1337,[1]按组排列版!$G:$P,10,FALSE)","v":"0317初中英语组"},"初中英语","沈阳市铁西区应昌小学大明湖分校（西门）","0317初中英语组","7月11日6：40-7：10"]
[97,"沈阳市杏坛中学（远大校区）","初中英语教师","03034","赵展","0201190209",112.73,{"$f":"VLOOKUP(D100:D1337,[1]按组排列版!$G:$P,10,FALSE)","v":"0317初中英语组"},"初中英语","沈阳市铁西区应昌小学大明湖分校（西门）","0317初中英语组","7月11日6：40-7：10"]
[98,"沈阳市杏坛中学（远大校区）","初中英语教师","03034","李玲慧","0201191425",104.55,{"$f":"VLOOKUP(D101:D1337,[1]按组排列版!$G:$P,10,FALSE)","v":"0317初中英语组"},"初中英语","沈阳市铁西区应昌小学大明湖分校（西门）","0317初中英语组","7月11日6：40-7：10"]
[99,"沈阳市杏坛中学（远大校区）","初中英语教师","03034","曹红","0201201828",104.12,{"$f":"VLOOKUP(D102:D1337,[1]按组排列版!$G:$P,10,FALSE)","v":"0317初中英语组"},"初中英语","沈阳市铁西区应昌小学大明湖分校（西门）","0317初中英语组","7月11日6：40-7：10"]
[100,"沈阳市杏坛中学（远大校区）","初中历史教师","03035","李万荣","0201111205",105.67,{"$f":"VLOOKUP(D103:D1337,[1]按组排列版!$G:$P,10,FALSE)","v":"0316初中历史组"},"初中历史","沈阳市铁西区应昌小学大明湖分校（西门）","0316初中历史组","7月11日6：40-7：10"]
[101,"沈阳市杏坛中学（远大校区）","初中历史教师","03035","魏昕彤","0201081101",99.59,{"$f":"VLOOKUP(D104:D1337,[1]按组排列版!$G:$P,10,FALSE)","v":"0316初中历史组"},"初中历史","沈阳市铁西区应昌小学大明湖分校（西门）","0316初中历史组","7月11日6：40-7：10"]
[102,"沈阳市杏坛中学（远大校区）","初中历史教师","03035","张琳","0201171217",94.48,{"$f":"VLOOKUP(D105:D1337,[1]按组排列版!$G:$P,10,FALSE)","v":"0316初中历史组"},"初中历史","沈阳市铁西区应昌小学大明湖分校（西门）","0316初中历史组","7月11日6：40-7：10"]
[103,"沈阳市杏坛中学（远大校区）","初中地理教师","03036","林卓琦","0201201130",106.97,{"$f":"VLOOKUP(D106:D1337,[1]按组排列版!$G:$P,10,FALSE)","v":"0343初中地理组"},"初中地理","沈阳市铁西区应昌小学大明湖分校（西门）","0343初中地理组","7月12日11：40-12：10"]
[104,"沈阳市杏坛中学（远大校区）","初中地理教师","03036","贾雪","0201211005",98.51,{"$f":"VLOOKUP(D107:D1337,[1]按组排列版!$G:$P,10,FALSE)","v":"0343初中地理组"},"初中地理","沈阳市铁西区应昌小学大明湖分校（西门）","0343初中地理组","7月12日11：40-12：10"]
[105,"沈阳市杏坛中学（远大校区）","初中地理教师","03036","李振肖","0201131514",98.19,{"$f":"VLOOKUP(D108:D1337,[1]按组排列版!$G:$P,10,FALSE)","v":"0343初中地理组"},"初中地理","沈阳市铁西区应昌小学大明湖分校（西门）","0343初中地理组","7月12日11：40-12：10"]
[106,"沈阳市杏坛中学（远大校区）","初中道德与法治教师","03037","黄蕊","0201030729",107.11,{"$f":"VLOOKUP(D109:D1337,[1]按组排列版!$G:$P,10,FALSE)","v":"0321初中、小学道法组"},"初中道德与法治","沈阳市铁西区应昌小学大明湖分校（西门）","0321初中、小学道法组","7月11日11：40-12：10"]
[107,"沈阳市杏坛中学（远大校区）","初中道德与法治教师","03037","曹雨晗","0201121116",100.61,{"$f":"VLOOKUP(D110:D1337,[1]按组排列版!$G:$P,10,FALSE)","v":"0321初中、小学道法组"},"初中道德与法治","沈阳市铁西区应昌小学大明湖分校（西门）","0321初中、小学道法组","7月11日11：40-12：10"]
[108,"沈阳市杏坛中学（远大校区）","初中道德与法治教师","03037","孙英","0201022025",91.86,{"$f":"VLOOKUP(D111:D1337,[1]按组排列版!$G:$P,10,FALSE)","v":"0321初中、小学道法组"},"初中道德与法治","沈阳市铁西区应昌小学大明湖分校（西门）","0321初中、小学道法组","7月11日11：40-12：10"]
[109,"沈阳市杏坛中学（远大校区）","初中生物教师","03038","郭虹洁","0201121222",106.23,{"$f":"VLOOKUP(D112:D1337,[1]按组排列版!$G:$P,10,FALSE)","v":"0344初中生物组"},"初中生物","沈阳市铁西区应昌小学大明湖分校（西门）","0344初中生物组","7月12日6：40-7：10"]
[110,"沈阳市杏坛中学（远大校区）","初中生物教师","03038","陈思晗","0201111522",104.05,{"$f":"VLOOKUP(D113:D1337,[1]按组排列版!$G:$P,10,FALSE)","v":"0344初中生物组"},"初中生物","沈阳市铁西区应昌小学大明湖分校（西门）","0344初中生物组","7月12日6：40-7：10"]
[111,"沈阳市杏坛中学（远大校区）","初中生物教师","03038","张迎新","0201140114",103.48,{"$f":"VLOOKUP(D114:D1337,[1]按组排列版!$G:$P,10,FALSE)","v":"0344初中生物组"},"初中生物","沈阳市铁西区应昌小学大明湖分校（西门）","0344初中生物组","7月12日6：40-7：10"]
[112,"沈阳市杏坛中学（远大校区）","初中体育教师","03039","马驰","0201220222",97.9,{"$f":"VLOOKUP(D115:D1337,[1]按组排列版!$G:$P,10,FALSE)","v":"0326初中体育组"},"初中体育","沈阳市铁西区应昌小学大明湖分校（西门）","0326初中体育组","7月12日11：40-12：10"]
[113,"沈阳市杏坛中学（远大校区）","初中体育教师","03039","王子恒","0201120407",95.54,{"$f":"VLOOKUP(D116:D1337,[1]按组排列版!$G:$P,10,FALSE)","v":"0326初中体育组"},"初中体育","沈阳市铁西区应昌小学大明湖分校（西门）","0326初中体育组","7月12日11：40-12：10"]
[114,"沈阳市杏坛中学（远大校区）","初中体育教师","03039","吴宇","0201170905",93.32,{"$f":"VLOOKUP(D117:D1337,[1]按组排列版!$G:$P,10,FALSE)","v":"0326初中体育组"},"初中体育","沈阳市铁西区应昌小学大明湖分校（西门）","0326初中体育组","7月12日11：40-12：10"]
[115,"沈阳市杏坛中学（远大校区）","初中音乐教师","03040","葛悦","0201191628",105.6,{"$f":"VLOOKUP(D118:D1337,[1]按组排列版!$G:$P,10,FALSE)","v":"0332初中、小学音乐组"},"初中音乐","沈阳市铁西区应昌小学大明湖分校（西门）","0332初中、小学音乐组","7月12日6：40-7：10"]
[116,"沈阳市杏坛中学（远大校区）","初中音乐教师","03040","廉漪","0201020308",100.13,{"$f":"VLOOKUP(D119:D1337,[1]按组排列版!$G:$P,10,FALSE)","v":"0332初中、小学音乐组"},"初中音乐","沈阳市铁西区应昌小学大明湖分校（西门）","0332初中、小学音乐组","7月12日6：40-7：10"]
[117,"沈阳市杏坛中学（远大校区）","初中音乐教师","03040","梦怡","0201101920",99.74,{"$f":"VLOOKUP(D120:D1337,[1]按组排列版!$G:$P,10,FALSE)","v":"0332初中、小学音乐组"},"初中音乐","沈阳市铁西区应昌小学大明湖分校（西门）","0332初中、小学音乐组","7月12日6：40-7：10"]
[118,"沈阳市杏坛中学（远大校区）","初中美术教师","03041","郭芮江","0201120610",99.21,{"$f":"VLOOKUP(D121:D1337,[1]按组排列版!$G:$P,10,FALSE)","v":"0322初中、小学美术组"},"初中美术","沈阳市铁西区应昌小学大明湖分校（西门）","0322初中、小学美术组","7月12日6：40-7：10"]
[119,"沈阳市杏坛中学（远大校区）","初中美术教师","03041","刘润周","0201161411",97.87,{"$f":"VLOOKUP(D122:D1337,[1]按组排列版!$G:$P,10,FALSE)","v":"0322初中、小学美术组"},"初中美术","沈阳市铁西区应昌小学大明湖分校（西门）","0322初中、小学美术组","7月12日6：40-7：10"]
[120,"沈阳市杏坛中学（远大校区）","初中美术教师","03041","李新悦","0201080306",97.68,{"$f":"VLOOKUP(D123:D1337,[1]按组排列版!$G:$P,10,FALSE)","v":"0322初中、小学美术组"},"初中美术","沈阳市铁西区应昌小学大明湖分校（西门）","0322初中、小学美术组","7月12日6：40-7：10"]
[121,"沈阳市铁西区杏坛中学龙江湖分校","初中语文教师","03042","李爽","0201091307",115.26,{"$f":"VLOOKUP(D124:D1337,[1]按组排列版!$G:$P,10,FALSE)","v":"0314高中、初中语文组"},"初中语文","沈阳市铁西区应昌小学大明湖分校（西门）","0314高中、初中语文组","7月11日6：40-7：10"]
[122,"沈阳市铁西区杏坛中学龙江湖分校","初中语文教师","03042","庞毅","0201140217",107.39,{"$f":"VLOOKUP(D125:D1337,[1]按组排列版!$G:$P,10,FALSE)","v":"0314高中、初中语文组"},"初中语文","沈阳市铁西区应昌小学大明湖分校（西门）","0314高中、初中语文组","7月11日6：40-7：10"]
[123,"沈阳市铁西区杏坛中学龙江湖分校","初中语文教师","03042","于含","0201150616",105.14,{"$f":"VLOOKUP(D126:D1337,[1]按组排列版!$G:$P,10,FALSE)","v":"0314高中、初中语文组"},"初中语文","沈阳市铁西区应昌小学大明湖分校（西门）","0314高中、初中语文组","7月11日6：40-7：10"]
[124,"沈阳市铁西区杏坛中学龙江湖分校","初中物理教师","03043","邹欣然","0201060422",111.85,{"$f":"VLOOKUP(D127:D1337,[1]按组排列版!$G:$P,10,FALSE)","v":"0339高中、初中物理组"},"初中物理","沈阳市铁西区应昌小学大明湖分校（西门）","0339高中、初中物理组","7月12日11：40-12：10"]
[125,"沈阳市铁西区杏坛中学龙江湖分校","初中物理教师","03043","李煜","0201170723",109,{"$f":"VLOOKUP(D128:D1337,[1]按组排列版!$G:$P,10,FALSE)","v":"0339高中、初中物理组"},"初中物理","沈阳市铁西区应昌小学大明湖分校（西门）","0339高中、初中物理组","7月12日11：40-12：10"]
[126,"沈阳市铁西区杏坛中学龙江湖分校","初中物理教师","03043","王语嫣","0201080615",108.53,{"$f":"VLOOKUP(D129:D1337,[1]按组排列版!$G:$P,10,FALSE)","v":"0339高中、初中物理组"},"初中物理","沈阳市铁西区应昌小学大明湖分校（西门）","0339高中、初中物理组","7月12日11：40-12：10"]
[127,"沈阳市铁西区杏坛中学龙江湖分校","初中化学教师","03044","何思诺","0201220220",119.76,{"$f":"VLOOKUP(D130:D1337,[1]按组排列版!$G:$P,10,FALSE)","v":"0338初中化学组"},"初中化学","沈阳市铁西区应昌小学大明湖分校（西门）","0338初中化学组","7月12日6：40-7：10"]
[128,"沈阳市铁西区杏坛中学龙江湖分校","初中化学教师","03044","郝美琪","0201060324",111.44,{"$f":"VLOOKUP(D131:D1337,[1]按组排列版!$G:$P,10,FALSE)","v":"0338初中化学组"},"初中化学","沈阳市铁西区应昌小学大明湖分校（西门）","0338初中化学组","7月12日6：40-7：10"]
[129,"沈阳市铁西区杏坛中学龙江湖分校","初中化学教师","03044","王嘉琪","0201081203",109.91,{"$f":"VLOOKUP(D132:D1337,[1]按组排列版!$G:$P,10,FALSE)","v":"0338初中化学组"},"初中化学","沈阳市铁西区应昌小学大明湖分校（西门）","0338初中化学组","7月12日6：40-7：10"]
[130,"沈阳市铁西区杏坛中学龙江湖分校","初中地理教师","03045","林郁楠","0201080229",110.82,{"$f":"VLOOKUP(D133:D1337,[1]按组排列版!$G:$P,10,FALSE)","v":"0343初中地理组"},"初中地理","沈阳市铁西区应昌小学大明湖分校（西门）","0343初中地理组","7月12日11：40-12：10"]
[131,"沈阳市铁西区杏坛中学龙江湖分校","初中地理教师","03045","张娇","0201022023",110.61,{"$f":"VLOOKUP(D134:D1337,[1]按组排列版!$G:$P,10,FALSE)","v":"0343初中地理组"},"初中地理","沈阳市铁西区应昌小学大明湖分校（西门）","0343初中地理组","7月12日11：40-12：10"]
[132,"沈阳市铁西区杏坛中学龙江湖分校","初中地理教师","03045","王婕","0201212118",109.19,{"$f":"VLOOKUP(D135:D1337,[1]按组排列版!$G:$P,10,FALSE)","v":"0343初中地理组"},"初中地理","沈阳市铁西区应昌小学大明湖分校（西门）","0343初中地理组","7月12日11：40-12：10"]
[133,"沈阳市铁西区杏坛中学龙江湖分校","初中道德与法治教师","03046","张冰","0201191007",113.6,{"$f":"VLOOKUP(D136:D1337,[1]按组排列版!$G:$P,10,FALSE)","v":"0321初中、小学道法组"},"初中道德与法治","沈阳市铁西区应昌小学大明湖分校（西门）","0321初中、小学道法组","7月11日11：40-12：10"]
[134,"沈阳市铁西区杏坛中学龙江湖分校","初中体育教师","03047","崔振奇","0201021728",96.43,{"$f":"VLOOKUP(D137:D1337,[1]按组排列版!$G:$P,10,FALSE)","v":"0326初中体育组"},"初中体育","沈阳市铁西区应昌小学大明湖分校（西门）","0326初中体育组","7月12日11：40-12：10"]
[135,"沈阳市铁西区杏坛中学龙江湖分校","初中体育教师","03047","张怿","0201080113",93.68,{"$f":"VLOOKUP(D138:D1337,[1]按组排列版!$G:$P,10,FALSE)","v":"0326初中体育组"},"初中体育","沈阳市铁西区应昌小学大明湖分校（西门）","0326初中体育组","7月12日11：40-12：10"]
[136,"沈阳市铁西区杏坛中学龙江湖分校","初中体育教师","03047","张子鸠","0201111730",90.58,{"$f":"VLOOKUP(D139:D1337,[1]按组排列版!$G:$P,10,FALSE)","v":"0326初中体育组"},"初中体育","沈阳市铁西区应昌小学大明湖分校（西门）","0326初中体育组","7月12日11：40-12：10"]
[137,"沈阳市铁西区杏坛中学云海分校","初中语文教师","03048","王羚聪","0201160305",109.48,{"$f":"VLOOKUP(D140:D1337,[1]按组排列版!$G:$P,10,FALSE)","v":"0314高中、初中语文组"},"初中语文","沈阳市铁西区应昌小学大明湖分校（西门）","0314高中、初中语文组","7月11日11：40-12：10"]
[138,"沈阳市铁西区杏坛中学云海分校","初中语文教师","03048","迟雪枫","0201080905",108.3,{"$f":"VLOOKUP(D141:D1337,[1]按组排列版!$G:$P,10,FALSE)","v":"0314高中、初中语文组"},"初中语文","沈阳市铁西区应昌小学大明湖分校（西门）","0314高中、初中语文组","7月11日11：40-12：10"]
[139,"沈阳市铁西区杏坛中学云海分校","初中语文教师","03048","况璐瑜","0201161303",107.15,{"$f":"VLOOKUP(D142:D1337,[1]按组排列版!$G:$P,10,FALSE)","v":"0314高中、初中语文组"},"初中语文","沈阳市铁西区应昌小学大明湖分校（西门）","0314高中、初中语文组","7月11日11：40-12：10"]
[140,"沈阳市铁西区杏坛中学云海分校","初中英语教师","03049","张春莹","0201030329",111.16,{"$f":"VLOOKUP(D143:D1337,[1]按组排列版!$G:$P,10,FALSE)","v":"0317初中英语组"},"初中英语","沈阳市铁西区应昌小学大明湖分校（西门）","0317初中英语组","7月11日11：40-12：10"]
[141,"沈阳市铁西区杏坛中学云海分校","初中英语教师","03049","鲁美","0201010927",110.71,{"$f":"VLOOKUP(D144:D1337,[1]按组排列版!$G:$P,10,FALSE)","v":"0317初中英语组"},"初中英语","沈阳市铁西区应昌小学大明湖分校（西门）","0317初中英语组","7月11日11：40-12：10"]
[142,"沈阳市铁西区杏坛中学云海分校","初中英语教师","03049","张悦","0201070420",108.38,{"$f":"VLOOKUP(D145:D1337,[1]按组排列版!$G:$P,10,FALSE)","v":"0317初中英语组"},"初中英语","沈阳市铁西区应昌小学大明湖分校（西门）","0317初中英语组","7月11日11：40-12：10"]
[143,"沈阳市清乐围棋学校","初中数学教师","03050","于文丽","0201040706",104.46,{"$f":"VLOOKUP(D146:D1337,[1]按组排列版!$G:$P,10,FALSE)","v":"0315初中数学组"},"初中数学","沈阳市铁西区应昌小学大明湖分校（西门）","0315初中数学组","7月11日6：40-7：10"]
[144,"沈阳市清乐围棋学校","初中数学教师","03050","李佳哲","0201051323",104.26,{"$f":"VLOOKUP(D147:D1337,[1]按组排列版!$G:$P,10,FALSE)","v":"0315初中数学组"},"初中数学","沈阳市铁西区应昌小学大明湖分校（西门）","0315初中数学组","7月11日6：40-7：10"]
[145,"沈阳市清乐围棋学校","初中数学教师","03050","郭廷宫","0201130125",103.78,{"$f":"VLOOKUP(D148:D1337,[1]按组排列版!$G:$P,10,FALSE)","v":"0315初中数学组"},"初中数学","沈阳市铁西区应昌小学大明湖分校（西门）","0315初中数学组","7月11日6：40-7：10"]
[146,"沈阳市清乐围棋学校","初中音乐教师","03051","李乐欣","0201030216",102.9,{"$f":"VLOOKUP(D149:D1337,[1]按组排列版!$G:$P,10,FALSE)","v":"0332初中、小学音乐组"},"初中音乐","沈阳市铁西区应昌小学大明湖分校（西门）","0332初中、小学音乐组","7月12日6：40-7：10"]
[147,"沈阳市清乐围棋学校","初中音乐教师","03051","王凌轩","0201200426",99.13,{"$f":"VLOOKUP(D150:D1337,[1]按组排列版!$G:$P,10,FALSE)","v":"0332初中、小学音乐组"},"初中音乐","沈阳市铁西区应昌小学大明湖分校（西门）","0332初中、小学音乐组","7月12日6：40-7：10"]
[148,"沈阳市清乐围棋学校","初中音乐教师","03051","王慧懿","0201211003",93,{"$f":"VLOOKUP(D151:D1337,[1]按组排列版!$G:$P,10,FALSE)","v":"0332初中、小学音乐组"},"初中音乐","沈阳市铁西区应昌小学大明湖分校（西门）","0332初中、小学音乐组","7月12日6：40-7：10"]
[149,"沈阳市清乐围棋学校","初中信息技术教师","03052","马佳宾","0201120702",109.61,{"$f":"VLOOKUP(D152:D1337,[1]按组排列版!$G:$P,10,FALSE)","v":"0340初中信息技术组"},"初中信息技术","沈阳市铁西区应昌小学大明湖分校（西门）","0340初中信息技术组","7月12日6：40-7：10"]
[150,"沈阳市清乐围棋学校","初中信息技术教师","03052","张欢","0201081109",108.8,{"$f":"VLOOKUP(D153:D1337,[1]按组排列版!$G:$P,10,FALSE)","v":"0340初中信息技术组"},"初中信息技术","沈阳市铁西区应昌小学大明湖分校（西门）","0340初中信息技术组","7月12日6：40-7：10"]
[151,"沈阳市清乐围棋学校","初中信息技术教师","03052","佐超","0201120128",107.86,{"$f":"VLOOKUP(D154:D1337,[1]按组排列版!$G:$P,10,FALSE)","v":"0340初中信息技术组"},"初中信息技术","沈阳市铁西区应昌小学大明湖分校（西门）","0340初中信息技术组","7月12日6：40-7：10"]
[152,"沈阳市清乐围棋学校（曙光校区）","初中语文教师","03053","张艺凡","0201040823",119.56,{"$f":"VLOOKUP(D155:D1337,[1]按组排列版!$G:$P,10,FALSE)","v":"0314高中、初中语文组"},"初中语文","沈阳市铁西区应昌小学大明湖分校（西门）","0314高中、初中语文组","7月11日11：40-12：10"]
[153,"沈阳市清乐围棋学校（曙光校区）","初中语文教师","03053","邹思凡","0201180120",111.73,{"$f":"VLOOKUP(D156:D1337,[1]按组排列版!$G:$P,10,FALSE)","v":"0314高中、初中语文组"},"初中语文","沈阳市铁西区应昌小学大明湖分校（西门）","0314高中、初中语文组","7月11日11：40-12：10"]
[154,"沈阳市清乐围棋学校（曙光校区）","初中语文教师","03053","张卓","0201111304",111.67,{"$f":"VLOOKUP(D157:D1337,[1]按组排列版!$G:$P,10,FALSE)","v":"0314高中、初中语文组"},"初中语文","沈阳市铁西区应昌小学大明湖分校（西门）","0314高中、初中语文组","7月11日11：40-12：10"]
[155,"沈阳市清乐围棋学校（曙光校区）","初中语文教师","03054","崔儒臣","0201130912",115.36,{"$f":"VLOOKUP(D158:D1337,[1]按组排列版!$G:$P,10,FALSE)","v":"0314高中、初中语文组"},"初中语文","沈阳市铁西区应昌小学大明湖分校（西门）","0314高中、初中语文组","7月11日11：40-12：10"]
[156,"沈阳市清乐围棋学校（曙光校区）","初中语文教师","03054","赵伟婷","0201211921",112.88,{"$f":"VLOOKUP(D159:D1337,[1]按组排列版!$G:$P,10,FALSE)","v":"0314高中、初中语文组"},"初中语文","沈阳市铁西区应昌小学大明湖分校（西门）","0314高中、初中语文组","7月11日11：40-12：10"]
[157,"沈阳市清乐围棋学校（曙光校区）","初中语文教师","03054","刘欣","0201150319",111.44,{"$f":"VLOOKUP(D160:D1337,[1]按组排列版!$G:$P,10,FALSE)","v":"0314高中、初中语文组"},"初中语文","沈阳市铁西区应昌小学大明湖分校（西门）","0314高中、初中语文组","7月11日11：40-12：10"]
[158,"沈阳市清乐围棋学校（曙光校区）","初中数学教师","03055","肖占影","0201010503",114.8,{"$f":"VLOOKUP(D161:D1337,[1]按组排列版!$G:$P,10,FALSE)","v":"0315初中数学组"},"初中数学","沈阳市铁西区应昌小学大明湖分校（西门）","0315初中数学组","7月11日11：40-12：10"]
[159,"沈阳市清乐围棋学校（曙光校区）","初中数学教师","03055","江雨桐","0201050221",110.09,{"$f":"VLOOKUP(D162:D1338,[1]按组排列版!$G:$P,10,FALSE)","v":"0315初中数学组"},"初中数学","沈阳市铁西区应昌小学大明湖分校（西门）","0315初中数学组","7月11日11：40-12：10"]
[160,"沈阳市清乐围棋学校（曙光校区）","初中数学教师","03055","王禹轩","0201220309",109.11,{"$f":"VLOOKUP(D163:D1339,[1]按组排列版!$G:$P,10,FALSE)","v":"0315初中数学组"},"初中数学","沈阳市铁西区应昌小学大明湖分校（西门）","0315初中数学组","7月11日11：40-12：10"]
[161,"沈阳市清乐围棋学校（曙光校区）","初中数学教师","03056","张雪娇","0201210510",110.33,{"$f":"VLOOKUP(D164:D1340,[1]按组排列版!$G:$P,10,FALSE)","v":"0315初中数学组"},"初中数学","沈阳市铁西区应昌小学大明湖分校（西门）","0315初中数学组","7月11日11：40-12：10"]
[162,"沈阳市清乐围棋学校（曙光校区）","初中数学教师","03056","梁嘉霖","0201070124",105.87,{"$f":"VLOOKUP(D165:D1341,[1]按组排列版!$G:$P,10,FALSE)","v":"0315初中数学组"},"初中数学","沈阳市铁西区应昌小学大明湖分校（西门）","0315初中数学组","7月11日11：40-12：10"]
[163,"沈阳市清乐围棋学校（曙光校区）","初中数学教师","03056","刘欢","0201041128",104.88,{"$f":"VLOOKUP(D166:D1342,[1]按组排列版!$G:$P,10,FALSE)","v":"0315初中数学组"},"初中数学","沈阳市铁西区应昌小学大明湖分校（西门）","0315初中数学组","7月11日11：40-12：10"]
[164,"沈阳市清乐围棋学校（曙光校区）","初中英语教师","03057","王鑫淼","0201160927",118.38,{"$f":"VLOOKUP(D167:D1343,[1]按组排列版!$G:$P,10,FALSE)","v":"0317初中英语组"},"初中英语","沈阳市铁西区应昌小学大明湖分校（西门）","0317初中英语组","7月11日11：40-12：10"]
[165,"沈阳市清乐围棋学校（曙光校区）","初中英语教师","03057","刘益彤","0201111306",117.12,{"$f":"VLOOKUP(D168:D1344,[1]按组排列版!$G:$P,10,FALSE)","v":"0317初中英语组"},"初中英语","沈阳市铁西区应昌小学大明湖分校（西门）","0317初中英语组","7月11日11：40-12：10"]
[166,"沈阳市清乐围棋学校（曙光校区）","初中英语教师","03057","赵佳琦","0201051302",115.41,{"$f":"VLOOKUP(D169:D1345,[1]按组排列版!$G:$P,10,FALSE)","v":"0317初中英语组"},"初中英语","沈阳市铁西区应昌小学大明湖分校（西门）","0317初中英语组","7月11日11：40-12：10"]
[167,"沈阳市清乐围棋学校（曙光校区）","初中英语教师","03058","魏凡","0201220318",114.85,{"$f":"VLOOKUP(D170:D1346,[1]按组排列版!$G:$P,10,FALSE)","v":"0317初中英语组"},"初中英语","沈阳市铁西区应昌小学大明湖分校（西门）","0317初中英语组","7月11日11：40-12：10"]
[168,"沈阳市清乐围棋学校（曙光校区）","初中英语教师","03058","毕晶晶","0201200321",108.68,{"$f":"VLOOKUP(D171:D1347,[1]按组排列版!$G:$P,10,FALSE)","v":"0317初中英语组"},"初中英语","沈阳市铁西区应昌小学大明湖分校（西门）","0317初中英语组","7月11日11：40-12：10"]
[169,"沈阳市清乐围棋学校（曙光校区）","初中英语教师","03058","张艳秋","0201181103",108.25,{"$f":"VLOOKUP(D172:D1348,[1]按组排列版!$G:$P,10,FALSE)","v":"0317初中英语组"},"初中英语","沈阳市铁西区应昌小学大明湖分校（西门）","0317初中英语组","7月11日11：40-12：10"]
[170,"沈阳市清乐围棋学校（曙光校区）","初中生物教师","03059","寇凯静","0201200119",108.9,{"$f":"VLOOKUP(D173:D1349,[1]按组排列版!$G:$P,10,FALSE)","v":"0344初中生物组"},"初中生物","沈阳市铁西区应昌小学大明湖分校（西门）","0344初中生物组","7月12日6：40-7：10"]
[171,"沈阳市清乐围棋学校（曙光校区）","初中生物教师","03059","于千航","0201060610",104.28,{"$f":"VLOOKUP(D174:D1350,[1]按组排列版!$G:$P,10,FALSE)","v":"0344初中生物组"},"初中生物","沈阳市铁西区应昌小学大明湖分校（西门）","0344初中生物组","7月12日6：40-7：10"]
[172,"沈阳市清乐围棋学校（曙光校区）","初中生物教师","03059","高诗雨","0201020629",101.59,{"$f":"VLOOKUP(D175:D1351,[1]按组排列版!$G:$P,10,FALSE)","v":"0344初中生物组"},"初中生物","沈阳市铁西区应昌小学大明湖分校（西门）","0344初中生物组","7月12日6：40-7：10"]
[173,"沈阳市清乐围棋学校（曙光校区）","初中历史教师","03060","张馨月","0201151407",109.6,{"$f":"VLOOKUP(D176:D1352,[1]按组排列版!$G:$P,10,FALSE)","v":"0316初中历史组"},"初中历史","沈阳市铁西区应昌小学大明湖分校（西门）","0316初中历史组","7月11日11：40-12：10"]
[174,"沈阳市清乐围棋学校（曙光校区）","初中历史教师","03060","贺飞","0201131530",100.3,{"$f":"VLOOKUP(D177:D1353,[1]按组排列版!$G:$P,10,FALSE)","v":"0316初中历史组"},"初中历史","沈阳市铁西区应昌小学大明湖分校（西门）","0316初中历史组","7月11日11：40-12：10"]
[175,"沈阳市清乐围棋学校（曙光校区）","初中地理教师","03061","卢苓","0201041119",101.33,{"$f":"VLOOKUP(D178:D1354,[1]按组排列版!$G:$P,10,FALSE)","v":"0343初中地理组"},"初中地理","沈阳市铁西区应昌小学大明湖分校（西门）","0343初中地理组","7月12日11：40-12：10"]
[176,"沈阳市清乐围棋学校（曙光校区）","初中地理教师","03061","杨澜","0201160827",98.22,{"$f":"VLOOKUP(D179:D1355,[1]按组排列版!$G:$P,10,FALSE)","v":"0343初中地理组"},"初中地理","沈阳市铁西区应昌小学大明湖分校（西门）","0343初中地理组","7月12日11：40-12：10"]
[177,"沈阳市清乐围棋学校（曙光校区）","初中地理教师","03061","赵莹","0201010616",89.11,{"$f":"VLOOKUP(D180:D1356,[1]按组排列版!$G:$P,10,FALSE)","v":"0343初中地理组"},"初中地理","沈阳市铁西区应昌小学大明湖分校（西门）","0343初中地理组","7月12日11：40-12：10"]
[178,"沈阳市清乐围棋学校（曙光校区）","初中道德与法治教师","03062","魏思琪","0201070528",114.32,{"$f":"VLOOKUP(D181:D1357,[1]按组排列版!$G:$P,10,FALSE)","v":"0321初中、小学道法组"},"初中道德与法治","沈阳市铁西区应昌小学大明湖分校（西门）","0321初中、小学道法组","7月11日11：40-12：10"]
[179,"沈阳市清乐围棋学校（曙光校区）","初中道德与法治教师","03062","王琛","0201140808",112.9,{"$f":"VLOOKUP(D182:D1358,[1]按组排列版!$G:$P,10,FALSE)","v":"0321初中、小学道法组"},"初中道德与法治","沈阳市铁西区应昌小学大明湖分校（西门）","0321初中、小学道法组","7月11日11：40-12：10"]
[180,"沈阳市清乐围棋学校（曙光校区）","初中道德与法治教师","03062","杨欣卉","0201081516",102.27,{"$f":"VLOOKUP(D183:D1359,[1]按组排列版!$G:$P,10,FALSE)","v":"0321初中、小学道法组"},"初中道德与法治","沈阳市铁西区应昌小学大明湖分校（西门）","0321初中、小学道法组","7月11日11：40-12：10"]
[181,"沈阳市清乐围棋学校（曙光校区）","初中体育教师","03063","周天航","0201041610",102.84,{"$f":"VLOOKUP(D184:D1360,[1]按组排列版!$G:$P,10,FALSE)","v":"0326初中体育组"},"初中体育","沈阳市铁西区应昌小学大明湖分校（西门）","0326初中体育组","7月12日11：40-12：10"]
[182,"沈阳市清乐围棋学校（曙光校区）","初中体育教师","03063","陈鹏宇","0201031126",102.8,{"$f":"VLOOKUP(D185:D1361,[1]按组排列版!$G:$P,10,FALSE)","v":"0326初中体育组"},"初中体育","沈阳市铁西区应昌小学大明湖分校（西门）","0326初中体育组","7月12日11：40-12：10"]
[183,"沈阳市清乐围棋学校（曙光校区）","初中体育教师","03063","于竣驰","0201080719",97.14,{"$f":"VLOOKUP(D186:D1362,[1]按组排列版!$G:$P,10,FALSE)","v":"0326初中体育组"},"初中体育","沈阳市铁西区应昌小学大明湖分校（西门）","0326初中体育组","7月12日11：40-12：10"]
[184,"沈阳市清乐围棋学校（曙光校区）","初中美术教师","03064","赵志占","0201101716",117.88,{"$f":"VLOOKUP(D187:D1363,[1]按组排列版!$G:$P,10,FALSE)","v":"0322初中、小学美术组"},"初中美术","沈阳市铁西区应昌小学大明湖分校（西门）","0322初中、小学美术组","7月12日6：40-7：10"]
[185,"沈阳市清乐围棋学校（曙光校区）","初中美术教师","03064","陈虹羽","0201121124",106.38,{"$f":"VLOOKUP(D188:D1364,[1]按组排列版!$G:$P,10,FALSE)","v":"0322初中、小学美术组"},"初中美术","沈阳市铁西区应昌小学大明湖分校（西门）","0322初中、小学美术组","7月12日6：40-7：10"]
[186,"沈阳市清乐围棋学校（曙光校区）","初中美术教师","03064","何雨桐","0201210229",104.08,{"$f":"VLOOKUP(D189:D1365,[1]按组排列版!$G:$P,10,FALSE)","v":"0322初中、小学美术组"},"初中美术","沈阳市铁西区应昌小学大明湖分校（西门）","0322初中、小学美术组","7月12日6：40-7：10"]
[187,"沈阳市清乐围棋学校（曙光校区）","初中音乐教师","03065","王依婷","0201200805",105.64,{"$f":"VLOOKUP(D190:D1366,[1]按组排列版!$G:$P,10,FALSE)","v":"0332初中、小学音乐组"},"初中音乐","沈阳市铁西区应昌小学大明湖分校（西门）","0332初中、小学音乐组","7月12日6：40-7：10"]
[188,"沈阳市清乐围棋学校（曙光校区）","初中音乐教师","03065","崔殿义","0201101230",103.14,{"$f":"VLOOKUP(D191:D1367,[1]按组排列版!$G:$P,10,FALSE)","v":"0332初中、小学音乐组"},"初中音乐","沈阳市铁西区应昌小学大明湖分校（西门）","0332初中、小学音乐组","7月12日6：40-7：10"]
[189,"沈阳市清乐围棋学校（曙光校区）","初中音乐教师","03065","冯子育","0201070827",98.37,{"$f":"VLOOKUP(D192:D1368,[1]按组排列版!$G:$P,10,FALSE)","v":"0332初中、小学音乐组"},"初中音乐","沈阳市铁西区应昌小学大明湖分校（西门）","0332初中、小学音乐组","7月12日6：40-7：10"]
[190,"沈阳市清乐围棋学校（曙光校区）","初中信息技术教师","03066","姜珊","0201051315",105.89,{"$f":"VLOOKUP(D193:D1369,[1]按组排列版!$G:$P,10,FALSE)","v":"0340初中信息技术组"},"初中信息技术","沈阳市铁西区应昌小学大明湖分校（西门）","0340初中信息技术组","7月12日6：40-7：10"]
[191,"沈阳市清乐围棋学校（曙光校区）","初中信息技术教师","03066","徐德顺","0201070202",103.49,{"$f":"VLOOKUP(D194:D1370,[1]按组排列版!$G:$P,10,FALSE)","v":"0340初中信息技术组"},"初中信息技术","沈阳市铁西区应昌小学大明湖分校（西门）","0340初中信息技术组","7月12日6：40-7：10"]
[192,"沈阳市清乐围棋学校（曙光校区）","初中信息技术教师","03066","陆阳","0201141313",102.95,{"$f":"VLOOKUP(D195:D1371,[1]按组排列版!$G:$P,10,FALSE)","v":"0340初中信息技术组"},"初中信息技术","沈阳市铁西区应昌小学大明湖分校（西门）","0340初中信息技术组","7月12日6：40-7：10"]
[193,"沈阳市清乐围棋学校（曙光校区）","初中心理健康教师","03067","马佳怡","0201160819",111.22,{"$f":"VLOOKUP(D196:D1372,[1]按组排列版!$G:$P,10,FALSE)","v":"0341初中、小学心理健康组"},"初中心理健康","沈阳市铁西区应昌小学大明湖分校（西门）","0341初中、小学心理健康组","7月12日11：40-12：10"]
[194,"沈阳市清乐围棋学校（曙光校区）","初中心理健康教师","03067","朱心慧","0201151510",106.51,{"$f":"VLOOKUP(D197:D1373,[1]按组排列版!$G:$P,10,FALSE)","v":"0341初中、小学心理健康组"},"初中心理健康","沈阳市铁西区应昌小学大明湖分校（西门）","0341初中、小学心理健康组","7月12日11：40-12：10"]
[195,"沈阳市清乐围棋学校（曙光校区）","初中心理健康教师","03067","杨晓婷","0201181208",102.47,{"$f":"VLOOKUP(D198:D1374,[1]按组排列版!$G:$P,10,FALSE)","v":"0341初中、小学心理健康组"},"初中心理健康","沈阳市铁西区应昌小学大明湖分校（西门）","0341初中、小学心理健康组","7月12日11：40-12：10"]
[196,"沈阳市第一八0中学","初中语文教师","03068","杨微","0201170407",111.35,{"$f":"VLOOKUP(D199:D1375,[1]按组排列版!$G:$P,10,FALSE)","v":"0314高中、初中语文组"},"初中语文","沈阳市铁西区应昌小学大明湖分校（西门）","0314高中、初中语文组","7月11日11：40-12：10"]
[197,"沈阳市第一八0中学","初中语文教师","03068","吴梦瑶","0201131823",108.89,{"$f":"VLOOKUP(D200:D1376,[1]按组排列版!$G:$P,10,FALSE)","v":"0314高中、初中语文组"},"初中语文","沈阳市铁西区应昌小学大明湖分校（西门）","0314高中、初中语文组","7月11日11：40-12：10"]
[198,"沈阳市第一八0中学","初中语文教师","03068","班雪","0201201509",108.36,{"$f":"VLOOKUP(D201:D1377,[1]按组排列版!$G:$P,10,FALSE)","v":"0314高中、初中语文组"},"初中语文","沈阳市铁西区应昌小学大明湖分校（西门）","0314高中、初中语文组","7月11日11：40-12：10"]
[199,"沈阳市第一八0中学","初中数学教师","03069","张诗瑶","0201111421",111.21,{"$f":"VLOOKUP(D202:D1378,[1]按组排列版!$G:$P,10,FALSE)","v":"0315初中数学组"},"初中数学","沈阳市铁西区应昌小学大明湖分校（西门）","0315初中数学组","7月11日11：40-12：10"]
[200,"沈阳市第一八0中学","初中数学教师","03069","张瑞","0201011309",110.84,{"$f":"VLOOKUP(D203:D1379,[1]按组排列版!$G:$P,10,FALSE)","v":"0315初中数学组"},"初中数学","沈阳市铁西区应昌小学大明湖分校（西门）","0315初中数学组","7月11日11：40-12：10"]
[201,"沈阳市第一八0中学","初中数学教师","03069","赵晓珍","0201061213",110.42,{"$f":"VLOOKUP(D204:D1380,[1]按组排列版!$G:$P,10,FALSE)","v":"0315初中数学组"},"初中数学","沈阳市铁西区应昌小学大明湖分校（西门）","0315初中数学组","7月11日11：40-12：10"]
[202,"沈阳市第一八0中学","初中数学教师","03070","吴咏泽","0201140216",115.32,{"$f":"VLOOKUP(D205:D1381,[1]按组排列版!$G:$P,10,FALSE)","v":"0315初中数学组"},"初中数学","沈阳市铁西区应昌小学大明湖分校（西门）","0315初中数学组","7月11日11：40-12：10"]
[203,"沈阳市第一八0中学","初中数学教师","03070","朱俊达","0201221403",110.07,{"$f":"VLOOKUP(D206:D1382,[1]按组排列版!$G:$P,10,FALSE)","v":"0315初中数学组"},"初中数学","沈阳市铁西区应昌小学大明湖分校（西门）","0315初中数学组","7月11日11：40-12：10"]
[204,"沈阳市第一八0中学","初中数学教师","03070","吴琦","0201120627",95.9,{"$f":"VLOOKUP(D207:D1383,[1]按组排列版!$G:$P,10,FALSE)","v":"0315初中数学组"},"初中数学","沈阳市铁西区应昌小学大明湖分校（西门）","0315初中数学组","7月11日11：40-12：10"]
[205,"沈阳市第一八0中学","初中物理教师","03071","王婧","0201190802",111.91,{"$f":"VLOOKUP(D208:D1384,[1]按组排列版!$G:$P,10,FALSE)","v":"0339高中、初中物理组"},"初中物理","沈阳市铁西区应昌小学大明湖分校（西门）","0339高中、初中物理组","7月12日11：40-12：10"]
[206,"沈阳市第一八0中学","初中物理教师","03071","谭尚宁","0201130603",108.66,{"$f":"VLOOKUP(D209:D1385,[1]按组排列版!$G:$P,10,FALSE)","v":"0339高中、初中物理组"},"初中物理","沈阳市铁西区应昌小学大明湖分校（西门）","0339高中、初中物理组","7月12日11：40-12：10"]
[207,"沈阳市第一八0中学","初中物理教师","03071","王天聪","0201121105",108.43,{"$f":"VLOOKUP(D210:D1386,[1]按组排列版!$G:$P,10,FALSE)","v":"0339高中、初中物理组"},"初中物理","沈阳市铁西区应昌小学大明湖分校（西门）","0339高中、初中物理组","7月12日11：40-12：10"]
[208,"沈阳市第一八0中学","初中物理教师","03072","张安国","0201180925",106.41,{"$f":"VLOOKUP(D211:D1387,[1]按组排列版!$G:$P,10,FALSE)","v":"0339高中、初中物理组"},"初中物理","沈阳市铁西区应昌小学大明湖分校（西门）","0339高中、初中物理组","7月12日11：40-12：10"]
[209,"沈阳市第一八0中学","初中物理教师","03072","智彤彤","0201021214",105.22,{"$f":"VLOOKUP(D212:D1388,[1]按组排列版!$G:$P,10,FALSE)","v":"0339高中、初中物理组"},"初中物理","沈阳市铁西区应昌小学大明湖分校（西门）","0339高中、初中物理组","7月12日11：40-12：10"]
[210,"沈阳市第一八0中学","初中物理教师","03072","任爽","0201070329",103.32,{"$f":"VLOOKUP(D213:D1389,[1]按组排列版!$G:$P,10,FALSE)","v":"0339高中、初中物理组"},"初中物理","沈阳市铁西区应昌小学大明湖分校（西门）","0339高中、初中物理组","7月12日11：40-12：10"]
[211,"沈阳市第一八0中学","初中化学教师","03073","黄悦潼","0201220426",113.51,{"$f":"VLOOKUP(D214:D1390,[1]按组排列版!$G:$P,10,FALSE)","v":"0338初中化学组"},"初中化学","沈阳市铁西区应昌小学大明湖分校（西门）","0338初中化学组","7月12日6：40-7：10"]
[212,"沈阳市第一八0中学","初中化学教师","03073","李岩","0201011512",112.33,{"$f":"VLOOKUP(D215:D1391,[1]按组排列版!$G:$P,10,FALSE)","v":"0338初中化学组"},"初中化学","沈阳市铁西区应昌小学大明湖分校（西门）","0338初中化学组","7月12日6：40-7：10"]
[213,"沈阳市第一八0中学","初中化学教师","03073","张馨月","0201191003",111.75,{"$f":"VLOOKUP(D216:D1392,[1]按组排列版!$G:$P,10,FALSE)","v":"0338初中化学组"},"初中化学","沈阳市铁西区应昌小学大明湖分校（西门）","0338初中化学组","7月12日6：40-7：10"]
[214,"沈阳市第一八0中学","初中历史教师","03074","刘齐","0201121112",114.09,{"$f":"VLOOKUP(D217:D1393,[1]按组排列版!$G:$P,10,FALSE)","v":"0316初中历史组"},"初中历史","沈阳市铁西区应昌小学大明湖分校（西门）","0316初中历史组","7月11日11：40-12：10"]
[215,"沈阳市第一八0中学","初中历史教师","03074","肖凯力","0201211125",112.88,{"$f":"VLOOKUP(D218:D1394,[1]按组排列版!$G:$P,10,FALSE)","v":"0316初中历史组"},"初中历史","沈阳市铁西区应昌小学大明湖分校（西门）","0316初中历史组","7月11日11：40-12：10"]
[216,"沈阳市第一八0中学","初中历史教师","03074","陈晓出","0201140422",107.57,{"$f":"VLOOKUP(D219:D1395,[1]按组排列版!$G:$P,10,FALSE)","v":"0316初中历史组"},"初中历史","沈阳市铁西区应昌小学大明湖分校（西门）","0316初中历史组","7月11日11：40-12：10"]
[217,"沈阳市第一八0中学","初中历史教师","03075","徐樱丹","0201221108",103.64,{"$f":"VLOOKUP(D220:D1396,[1]按组排列版!$G:$P,10,FALSE)","v":"0316初中历史组"},"初中历史","沈阳市铁西区应昌小学大明湖分校（西门）","0316初中历史组","7月11日11：40-12：10"]
[218,"沈阳市第一八0中学","初中历史教师","03075","肖帅","0201100108",102.16,{"$f":"VLOOKUP(D221:D1397,[1]按组排列版!$G:$P,10,FALSE)","v":"0316初中历史组"},"初中历史","沈阳市铁西区应昌小学大明湖分校（西门）","0316初中历史组","7月11日11：40-12：10"]
[219,"沈阳市第一八0中学","初中历史教师","03075","王梓桥","0201211602",99.29,{"$f":"VLOOKUP(D222:D1398,[1]按组排列版!$G:$P,10,FALSE)","v":"0316初中历史组"},"初中历史","沈阳市铁西区应昌小学大明湖分校（西门）","0316初中历史组","7月11日11：40-12：10"]
[220,"沈阳市第一八0中学","初中地理教师","03076","吴莹莹","0201091206",111,{"$f":"VLOOKUP(D223:D1399,[1]按组排列版!$G:$P,10,FALSE)","v":"0343初中地理组"},"初中地理","沈阳市铁西区应昌小学大明湖分校（西门）","0343初中地理组","7月12日11：40-12：10"]
[221,"沈阳市第一八0中学","初中地理教师","03076","吕智倩","0201011515",98.02,{"$f":"VLOOKUP(D224:D1400,[1]按组排列版!$G:$P,10,FALSE)","v":"0343初中地理组"},"初中地理","沈阳市铁西区应昌小学大明湖分校（西门）","0343初中地理组","7月12日11：40-12：10"]
[222,"沈阳市第一八0中学","初中地理教师","03076","张伟","0201170321",94.31,{"$f":"VLOOKUP(D225:D1401,[1]按组排列版!$G:$P,10,FALSE)","v":"0343初中地理组"},"初中地理","沈阳市铁西区应昌小学大明湖分校（西门）","0343初中地理组","7月12日11：40-12：10"]
[223,"沈阳市第一八0中学","初中道德与法治教师","03077","郑婉婷","0201090320",111.79,{"$f":"VLOOKUP(D226:D1402,[1]按组排列版!$G:$P,10,FALSE)","v":"0321初中、小学道法组"},"初中道德与法治","沈阳市铁西区应昌小学大明湖分校（西门）","0321初中、小学道法组","7月11日11：40-12：10"]
[224,"沈阳市第一八0中学","初中道德与法治教师","03077","李俊彤","0201130510",106.57,{"$f":"VLOOKUP(D227:D1403,[1]按组排列版!$G:$P,10,FALSE)","v":"0321初中、小学道法组"},"初中道德与法治","沈阳市铁西区应昌小学大明湖分校（西门）","0321初中、小学道法组","7月11日11：40-12：10"]
[225,"沈阳市第一八0中学","初中道德与法治教师","03077","杨筱旭","0201090624",99.16,{"$f":"VLOOKUP(D228:D1404,[1]按组排列版!$G:$P,10,FALSE)","v":"0321初中、小学道法组"},"初中道德与法治","沈阳市铁西区应昌小学大明湖分校（西门）","0321初中、小学道法组","7月11日11：40-12：10"]
[226,"沈阳市第一八0中学","初中体育教师","03078","宋殊","0201030104",100.04,{"$f":"VLOOKUP(D229:D1405,[1]按组排列版!$G:$P,10,FALSE)","v":"0326初中体育组"},"初中体育","沈阳市铁西区应昌小学大明湖分校（西门）","0326初中体育组","7月12日11：40-12：10"]
[227,"沈阳市第一八0中学","初中体育教师","03078","张博文","0201021109",87.4,{"$f":"VLOOKUP(D230:D1406,[1]按组排列版!$G:$P,10,FALSE)","v":"0326初中体育组"},"初中体育","沈阳市铁西区应昌小学大明湖分校（西门）","0326初中体育组","7月12日11：40-12：10"]
[228,"沈阳市第一六二中学","初中英语教师","03079","马亦佳","0201132227",108.49,{"$f":"VLOOKUP(D231:D1407,[1]按组排列版!$G:$P,10,FALSE)","v":"0317初中英语组"},"初中英语","沈阳市铁西区应昌小学大明湖分校（西门）","0317初中英语组","7月11日11：40-12：10"]
[229,"沈阳市第一六二中学","初中英语教师","03079","芦宇博","0201141220",108.26,{"$f":"VLOOKUP(D232:D1408,[1]按组排列版!$G:$P,10,FALSE)","v":"0317初中英语组"},"初中英语","沈阳市铁西区应昌小学大明湖分校（西门）","0317初中英语组","7月11日11：40-12：10"]
[230,"沈阳市第一六二中学","初中英语教师","03079","杨崧煜","0201010220",107.47,{"$f":"VLOOKUP(D233:D1409,[1]按组排列版!$G:$P,10,FALSE)","v":"0317初中英语组"},"初中英语","沈阳市铁西区应昌小学大明湖分校（西门）","0317初中英语组","7月11日11：40-12：10"]
[231,"沈阳市第一六二中学","初中历史教师","03080","杨潇","0201140206",116.1,{"$f":"VLOOKUP(D234:D1410,[1]按组排列版!$G:$P,10,FALSE)","v":"0316初中历史组"},"初中历史","沈阳市铁西区应昌小学大明湖分校（西门）","0316初中历史组","7月11日11：40-12：10"]
[232,"沈阳市第一六二中学","初中历史教师","03080","许佳琪","0201050923",114.16,{"$f":"VLOOKUP(D235:D1411,[1]按组排列版!$G:$P,10,FALSE)","v":"0316初中历史组"},"初中历史","沈阳市铁西区应昌小学大明湖分校（西门）","0316初中历史组","7月11日11：40-12：10"]
[233,"沈阳市第一六二中学","初中历史教师","03080","沈鹏","0201190914",106.75,{"$f":"VLOOKUP(D236:D1412,[1]按组排列版!$G:$P,10,FALSE)","v":"0316初中历史组"},"初中历史","沈阳市铁西区应昌小学大明湖分校（西门）","0316初中历史组","7月11日11：40-12：10"]
[234,"沈阳市第一六二中学","初中生物教师","03081","张莹","0201110807",111.5,{"$f":"VLOOKUP(D237:D1413,[1]按组排列版!$G:$P,10,FALSE)","v":"0344初中生物组"},"初中生物","沈阳市铁西区应昌小学大明湖分校（西门）","0344初中生物组","7月12日6：40-7：10"]
[235,"沈阳市第一六二中学","初中生物教师","03081","田新峰","0201030805",105.83,{"$f":"VLOOKUP(D238:D1414,[1]按组排列版!$G:$P,10,FALSE)","v":"0344初中生物组"},"初中生物","沈阳市铁西区应昌小学大明湖分校（西门）","0344初中生物组","7月12日6：40-7：10"]
[236,"沈阳市第一六二中学","初中生物教师","03081","邹玉娇","0201091507",101.14,{"$f":"VLOOKUP(D239:D1415,[1]按组排列版!$G:$P,10,FALSE)","v":"0344初中生物组"},"初中生物","沈阳市铁西区应昌小学大明湖分校（西门）","0344初中生物组","7月12日6：40-7：10"]
[237,"沈阳市第一六二中学","初中化学教师","03082","孙淼","0201050420",115.12,{"$f":"VLOOKUP(D240:D1416,[1]按组排列版!$G:$P,10,FALSE)","v":"0338初中化学组"},"初中化学","沈阳市铁西区应昌小学大明湖分校（西门）","0338初中化学组","7月12日6：40-7：10"]
[238,"沈阳市第一六二中学","初中化学教师","03082","齐世家","0201190804",112.72,{"$f":"VLOOKUP(D241:D1417,[1]按组排列版!$G:$P,10,FALSE)","v":"0338初中化学组"},"初中化学","沈阳市铁西区应昌小学大明湖分校（西门）","0338初中化学组","7月12日6：40-7：10"]
[239,"沈阳市第一六二中学","初中化学教师","03082","栾舒凯","0201160121",111.71,{"$f":"VLOOKUP(D242:D1418,[1]按组排列版!$G:$P,10,FALSE)","v":"0338初中化学组"},"初中化学","沈阳市铁西区应昌小学大明湖分校（西门）","0338初中化学组","7月12日6：40-7：10"]
[240,"沈阳市第一六二中学","初中信息技术教师","03083","刘虹辰","0201080406",115.29,{"$f":"VLOOKUP(D243:D1419,[1]按组排列版!$G:$P,10,FALSE)","v":"0340初中信息技术组"},"初中信息技术","沈阳市铁西区应昌小学大明湖分校（西门）","0340初中信息技术组","7月12日6：40-7：10"]
[241,"沈阳市第一六二中学","初中信息技术教师","03083","贾瑷宁","0201210909",110.71,{"$f":"VLOOKUP(D244:D1420,[1]按组排列版!$G:$P,10,FALSE)","v":"0340初中信息技术组"},"初中信息技术","沈阳市铁西区应昌小学大明湖分校（西门）","0340初中信息技术组","7月12日6：40-7：10"]
[242,"沈阳市第一六二中学","初中信息技术教师","03083","李昊洋","0201011828",106.66,{"$f":"VLOOKUP(D245:D1421,[1]按组排列版!$G:$P,10,FALSE)","v":"0340初中信息技术组"},"初中信息技术","沈阳市铁西区应昌小学大明湖分校（西门）","0340初中信息技术组","7月12日6：40-7：10"]
[243,"沈阳市铁西区宁官实验学校","初中历史教师","03084","韩一鸣","0201101524",100.29,{"$f":"VLOOKUP(D246:D1422,[1]按组排列版!$G:$P,10,FALSE)","v":"0316初中历史组"},"初中历史","沈阳市铁西区应昌小学大明湖分校（西门）","0316初中历史组","7月11日11：40-12：10"]
[244,"沈阳市铁西区宁官实验学校","初中历史教师","03084","籍宇","0201091610",100.29,{"$f":"VLOOKUP(D247:D1423,[1]按组排列版!$G:$P,10,FALSE)","v":"0316初中历史组"},"初中历史","沈阳市铁西区应昌小学大明湖分校（西门）","0316初中历史组","7月11日11：40-12：10"]
[245,"沈阳市铁西区宁官实验学校","初中地理教师","03085","王彩云","0201101013",103.68,{"$f":"VLOOKUP(D248:D1424,[1]按组排列版!$G:$P,10,FALSE)","v":"0343初中地理组"},"初中地理","沈阳市铁西区应昌小学大明湖分校（西门）","0343初中地理组","7月12日11：40-12：10"]
[246,"沈阳市铁西区宁官实验学校","初中地理教师","03085","刘勇欣","0201041618",101.04,{"$f":"VLOOKUP(D249:D1425,[1]按组排列版!$G:$P,10,FALSE)","v":"0343初中地理组"},"初中地理","沈阳市铁西区应昌小学大明湖分校（西门）","0343初中地理组","7月12日11：40-12：10"]
[247,"沈阳市铁西区宁官实验学校","初中地理教师","03085","杨甜甜","0201011520",95.32,{"$f":"VLOOKUP(D250:D1426,[1]按组排列版!$G:$P,10,FALSE)","v":"0343初中地理组"},"初中地理","沈阳市铁西区应昌小学大明湖分校（西门）","0343初中地理组","7月12日11：40-12：10"]
[248,"沈阳市铁西区宁官实验学校","初中信息技术教师","03086","潘世达","0201150825",108.66,{"$f":"VLOOKUP(D251:D1427,[1]按组排列版!$G:$P,10,FALSE)","v":"0340初中信息技术组"},"初中信息技术","沈阳市铁西区应昌小学大明湖分校（西门）","0340初中信息技术组","7月12日6：40-7：10"]
[249,"沈阳市铁西区宁官实验学校","初中信息技术教师","03086","马语彤","0201130518",101.37,{"$f":"VLOOKUP(D252:D1428,[1]按组排列版!$G:$P,10,FALSE)","v":"0340初中信息技术组"},"初中信息技术","沈阳市铁西区应昌小学大明湖分校（西门）","0340初中信息技术组","7月12日6：40-7：10"]
[250,"沈阳市铁西区宁官实验学校","小学语数教师","03087","吴立华","0101420110",114.26,{"$f":"VLOOKUP(D253:D1429,[1]按组排列版!$G:$P,10,FALSE)","v":"0301小学语数1组"},"小学语数","沈阳市铁西区应昌小学大明湖分校（西门）","0301小学语数1组","7月11日6：40-7：10"]
[251,"沈阳市铁西区宁官实验学校","小学语数教师","03087","任丽春","0101420106",107.89,{"$f":"VLOOKUP(D254:D1430,[1]按组排列版!$G:$P,10,FALSE)","v":"0301小学语数1组"},"小学语数","沈阳市铁西区应昌小学大明湖分校（西门）","0301小学语数1组","7月11日6：40-7：10"]
[252,"沈阳市铁西区宁官实验学校","小学语数教师","03087","张月","0101300225",102.66,{"$f":"VLOOKUP(D255:D1431,[1]按组排列版!$G:$P,10,FALSE)","v":"0301小学语数1组"},"小学语数","沈阳市铁西区应昌小学大明湖分校（西门）","0301小学语数1组","7月11日6：40-7：10"]
[253,"沈阳市铁西区宁官实验学校","小学语数教师","03088","陈莹","0101301008",115.11,{"$f":"VLOOKUP(D256:D1432,[1]按组排列版!$G:$P,10,FALSE)","v":"0301小学语数1组"},"小学语数","沈阳市铁西区应昌小学大明湖分校（西门）","0301小学语数1组","7月11日6：40-7：10"]
[254,"沈阳市铁西区宁官实验学校","小学语数教师","03088","李桐","0101371728",111.17,{"$f":"VLOOKUP(D257:D1433,[1]按组排列版!$G:$P,10,FALSE)","v":"0301小学语数1组"},"小学语数","沈阳市铁西区应昌小学大明湖分校（西门）","0301小学语数1组","7月11日6：40-7：10"]
[255,"沈阳市铁西区宁官实验学校","小学语数教师","03088","孟越","0101441519",97.54,{"$f":"VLOOKUP(D258:D1434,[1]按组排列版!$G:$P,10,FALSE)","v":"0301小学语数1组"},"小学语数","沈阳市铁西区应昌小学大明湖分校（西门）","0301小学语数1组","7月11日6：40-7：10"]
[256,"沈阳市铁西区宁官实验学校","小学语数教师","03088","刘红丹","0101462026",90.38,{"$f":"VLOOKUP(D259:D1435,[1]按组排列版!$G:$P,10,FALSE)","v":"0301小学语数1组"},"小学语数","沈阳市铁西区应昌小学大明湖分校（西门）","0301小学语数1组","7月11日6：40-7：10"]
[257,"沈阳市铁西区宁官实验学校","小学语数教师","03088","乔文娟","0101450926",89.7,{"$f":"VLOOKUP(D260:D1436,[1]按组排列版!$G:$P,10,FALSE)","v":"0301小学语数1组"},"小学语数","沈阳市铁西区应昌小学大明湖分校（西门）","0301小学语数1组","7月11日6：40-7：10"]
[258,"沈阳市铁西区宁官实验学校","小学语数教师","03088","刘越","0101432311",83.78,{"$f":"VLOOKUP(D261:D1437,[1]按组排列版!$G:$P,10,FALSE)","v":"0301小学语数1组"},"小学语数","沈阳市铁西区应昌小学大明湖分校（西门）","0301小学语数1组","7月11日6：40-7：10"]
[259,"沈阳市铁西区宁官实验学校","小学体育教师","03089","金科","0101501225",101.14,{"$f":"VLOOKUP(D262:D1438,[1]按组排列版!$G:$P,10,FALSE)","v":"0327小学体育1组"},"小学体育","沈阳市铁西区应昌小学大明湖分校（西门）","0327小学体育1组","7月12日6：40-7：10"]
[260,"沈阳市铁西区宁官实验学校","小学美术教师","03090","胡佳彤","0101230905",116.16,{"$f":"VLOOKUP(D263:D1439,[1]按组排列版!$G:$P,10,FALSE)","v":"0322初中、小学美术组"},"小学美术","沈阳市铁西区应昌小学大明湖分校（西门）","0322初中、小学美术组","7月12日11：40-12：10"]
[261,"沈阳市铁西区宁官实验学校","小学美术教师","03090","李杉","0101430328",99.92,{"$f":"VLOOKUP(D264:D1440,[1]按组排列版!$G:$P,10,FALSE)","v":"0322初中、小学美术组"},"小学美术","沈阳市铁西区应昌小学大明湖分校（西门）","0322初中、小学美术组","7月12日11：40-12：10"]
[262,"沈阳市铁西区宁官实验学校","小学美术教师","03090","袁玉娥","0101430218",95.49,{"$f":"VLOOKUP(D265:D1441,[1]按组排列版!$G:$P,10,FALSE)","v":"0322初中、小学美术组"},"小学美术","沈阳市铁西区应昌小学大明湖分校（西门）","0322初中、小学美术组","7月12日11：40-12：10"]
[263,"沈阳市铁西区宁官实验学校","小学信息技术教师","03091","刘爽","0101330224",116.74,{"$f":"VLOOKUP(D266:D1442,[1]按组排列版!$G:$P,10,FALSE)","v":"0336小学信息技术1组"},"小学信息技术","沈阳市铁西区应昌小学大明湖分校（西门）","0336小学信息技术1组","7月12日6：40-7：10"]
[264,"沈阳市铁西区宁官实验学校","小学信息技术教师","03091","肖天禹","0101572503",96.52,{"$f":"VLOOKUP(D267:D1443,[1]按组排列版!$G:$P,10,FALSE)","v":"0336小学信息技术1组"},"小学信息技术","沈阳市铁西区应昌小学大明湖分校（西门）","0336小学信息技术1组","7月12日6：40-7：10"]
[265,"沈阳市铁西区宁官实验学校","小学信息技术教师","03091","杜佳琦","0101472023",91.51,{"$f":"VLOOKUP(D268:D1444,[1]按组排列版!$G:$P,10,FALSE)","v":"0336小学信息技术1组"},"小学信息技术","沈阳市铁西区应昌小学大明湖分校（西门）","0336小学信息技术1组","7月12日6：40-7：10"]
[266,"沈阳市铁西区大青实验学校","初中数学教师","03092","孙涛","0201170726",112.49,{"$f":"VLOOKUP(D269:D1445,[1]按组排列版!$G:$P,10,FALSE)","v":"0315初中数学组"},"初中数学","沈阳市铁西区应昌小学大明湖分校（西门）","0315初中数学组","7月11日11：40-12：10"]
[267,"沈阳市铁西区大青实验学校","初中数学教师","03092","陈嘉楠","0201140928",109.86,{"$f":"VLOOKUP(D270:D1446,[1]按组排列版!$G:$P,10,FALSE)","v":"0315初中数学组"},"初中数学","沈阳市铁西区应昌小学大明湖分校（西门）","0315初中数学组","7月11日11：40-12：10"]
[268,"沈阳市铁西区大青实验学校","初中数学教师","03092","张佳新","0201060228",108.53,{"$f":"VLOOKUP(D271:D1447,[1]按组排列版!$G:$P,10,FALSE)","v":"0315初中数学组"},"初中数学","沈阳市铁西区应昌小学大明湖分校（西门）","0315初中数学组","7月11日11：40-12：10"]
[269,"沈阳市铁西区大青实验学校","初中物理教师","03093","罗兰","0201030423",115.81,{"$f":"VLOOKUP(D272:D1448,[1]按组排列版!$G:$P,10,FALSE)","v":"0339高中、初中物理组"},"初中物理","沈阳市铁西区应昌小学大明湖分校（西门）","0339高中、初中物理组","7月12日11：40-12：10"]
[270,"沈阳市铁西区大青实验学校","初中物理教师","03093","高丽娟","0201010730",106.59,{"$f":"VLOOKUP(D273:D1449,[1]按组排列版!$G:$P,10,FALSE)","v":"0339高中、初中物理组"},"初中物理","沈阳市铁西区应昌小学大明湖分校（西门）","0339高中、初中物理组","7月12日11：40-12：10"]
[271,"沈阳市铁西区大青实验学校","初中地理教师","03094","常丹琪","0201101908",110.22,{"$f":"VLOOKUP(D274:D1450,[1]按组排列版!$G:$P,10,FALSE)","v":"0343初中地理组"},"初中地理","沈阳市铁西区应昌小学大明湖分校（西门）","0343初中地理组","7月12日11：40-12：10"]
[272,"沈阳市铁西区大青实验学校","初中地理教师","03094","王岩","0201031117",100.8,{"$f":"VLOOKUP(D275:D1451,[1]按组排列版!$G:$P,10,FALSE)","v":"0343初中地理组"},"初中地理","沈阳市铁西区应昌小学大明湖分校（西门）","0343初中地理组","7月12日11：40-12：10"]
[273,"沈阳市铁西区大青实验学校","初中地理教师","03094","邵阳","0201170623",100.79,{"$f":"VLOOKUP(D276:D1452,[1]按组排列版!$G:$P,10,FALSE)","v":"0343初中地理组"},"初中地理","沈阳市铁西区应昌小学大明湖分校（西门）","0343初中地理组","7月12日11：40-12：10"]
[274,"沈阳市铁西区大青实验学校","初中体育教师","03095","佟昊","0201220421",96.86,{"$f":"VLOOKUP(D277:D1453,[1]按组排列版!$G:$P,10,FALSE)","v":"0326初中体育组"},"初中体育","沈阳市铁西区应昌小学大明湖分校（西门）","0326初中体育组","7月12日11：40-12：10"]
[275,"沈阳市铁西区大青实验学校","小学语数教师","03096","夏晓宇","0101380213",112.31,{"$f":"VLOOKUP(D278:D1454,[1]按组排列版!$G:$P,10,FALSE)","v":"0301小学语数1组"},"小学语数","沈阳市铁西区应昌小学大明湖分校（西门）","0301小学语数1组","7月11日6：40-7：10"]
[276,"沈阳市铁西区大青实验学校","小学语数教师","03096","王佳琪","0101331707",108.92,{"$f":"VLOOKUP(D279:D1455,[1]按组排列版!$G:$P,10,FALSE)","v":"0301小学语数1组"},"小学语数","沈阳市铁西区应昌小学大明湖分校（西门）","0301小学语数1组","7月11日6：40-7：10"]
[277,"沈阳市铁西区大青实验学校","小学语数教师","03096","李晓晴","0101370202",107.19,{"$f":"VLOOKUP(D280:D1456,[1]按组排列版!$G:$P,10,FALSE)","v":"0301小学语数1组"},"小学语数","沈阳市铁西区应昌小学大明湖分校（西门）","0301小学语数1组","7月11日6：40-7：10"]
[278,"沈阳市铁西区大青实验学校","小学语数教师","03096","王芷航","0101500128",106.94,{"$f":"VLOOKUP(D281:D1457,[1]按组排列版!$G:$P,10,FALSE)","v":"0301小学语数1组"},"小学语数","沈阳市铁西区应昌小学大明湖分校（西门）","0301小学语数1组","7月11日6：40-7：10"]
[279,"沈阳市铁西区大青实验学校","小学语数教师","03096","贺有雪","0101570815",98.55,{"$f":"VLOOKUP(D282:D1458,[1]按组排列版!$G:$P,10,FALSE)","v":"0301小学语数1组"},"小学语数","沈阳市铁西区应昌小学大明湖分校（西门）","0301小学语数1组","7月11日6：40-7：10"]
[280,"沈阳市铁西区大青实验学校","小学语数教师","03096","邹蕾","0101380508",92.92,{"$f":"VLOOKUP(D283:D1459,[1]按组排列版!$G:$P,10,FALSE)","v":"0301小学语数1组"},"小学语数","沈阳市铁西区应昌小学大明湖分校（西门）","0301小学语数1组","7月11日6：40-7：10"]
[281,"沈阳市铁西区大青实验学校","小学语数教师","03097","杨雨梦","0101510718",110.37,{"$f":"VLOOKUP(D284:D1460,[1]按组排列版!$G:$P,10,FALSE)","v":"0301小学语数1组"},"小学语数","沈阳市铁西区应昌小学大明湖分校（西门）","0301小学语数1组","7月11日11：40-12：10"]
[282,"沈阳市铁西区大青实验学校","小学语数教师","03097","崔艳楠","0101490815",108.68,{"$f":"VLOOKUP(D285:D1461,[1]按组排列版!$G:$P,10,FALSE)","v":"0301小学语数1组"},"小学语数","沈阳市铁西区应昌小学大明湖分校（西门）","0301小学语数1组","7月11日11：40-12：10"]
[283,"沈阳市铁西区大青实验学校","小学语数教师","03097","朱晓艺","0101540218",104.49,{"$f":"VLOOKUP(D286:D1462,[1]按组排列版!$G:$P,10,FALSE)","v":"0301小学语数1组"},"小学语数","沈阳市铁西区应昌小学大明湖分校（西门）","0301小学语数1组","7月11日11：40-12：10"]
[284,"沈阳市铁西区大青实验学校","小学语数教师","03097","丁一","0101451110",103.06,{"$f":"VLOOKUP(D287:D1463,[1]按组排列版!$G:$P,10,FALSE)","v":"0301小学语数1组"},"小学语数","沈阳市铁西区应昌小学大明湖分校（西门）","0301小学语数1组","7月11日11：40-12：10"]
[285,"沈阳市铁西区大青实验学校","小学语数教师","03097","康程程","0101310619",101.54,{"$f":"VLOOKUP(D288:D1464,[1]按组排列版!$G:$P,10,FALSE)","v":"0301小学语数1组"},"小学语数","沈阳市铁西区应昌小学大明湖分校（西门）","0301小学语数1组","7月11日11：40-12：10"]
[286,"沈阳市铁西区大青实验学校","小学语数教师","03097","李琳琳","0101310810",101.1,{"$f":"VLOOKUP(D289:D1465,[1]按组排列版!$G:$P,10,FALSE)","v":"0301小学语数1组"},"小学语数","沈阳市铁西区应昌小学大明湖分校（西门）","0301小学语数1组","7月11日11：40-12：10"]
[287,"沈阳市铁西区大青实验学校","小学英语教师","03098","王文婧","0101430201",118.35,{"$f":"VLOOKUP(D290:D1466,[1]按组排列版!$G:$P,10,FALSE)","v":"0318小学英语1组"},"小学英语","沈阳市铁西区应昌小学大明湖分校（西门）","0318小学英语1组","7月11日6：40-7：10"]
[288,"沈阳市铁西区大青实验学校","小学英语教师","03098","杨敏","0101270609",111.88,{"$f":"VLOOKUP(D291:D1467,[1]按组排列版!$G:$P,10,FALSE)","v":"0318小学英语1组"},"小学英语","沈阳市铁西区应昌小学大明湖分校（西门）","0318小学英语1组","7月11日6：40-7：10"]
[289,"沈阳市铁西区大青实验学校","小学英语教师","03098","秦娜","0101441306",111.49,{"$f":"VLOOKUP(D292:D1468,[1]按组排列版!$G:$P,10,FALSE)","v":"0318小学英语1组"},"小学英语","沈阳市铁西区应昌小学大明湖分校（西门）","0318小学英语1组","7月11日6：40-7：10"]
[290,"沈阳市铁西区大青实验学校","小学体育教师","03099","李诺","0101431809",106.31,{"$f":"VLOOKUP(D293:D1469,[1]按组排列版!$G:$P,10,FALSE)","v":"0327小学体育1组"},"小学体育","沈阳市铁西区应昌小学大明湖分校（西门）","0327小学体育1组","7月12日6：40-7：10"]
[291,"沈阳市铁西区大青实验学校","小学信息技术教师","03100","祖思曼","0101430308",119.45,{"$f":"VLOOKUP(D294:D1470,[1]按组排列版!$G:$P,10,FALSE)","v":"0336小学信息技术1组"},"小学信息技术","沈阳市铁西区应昌小学大明湖分校（西门）","0336小学信息技术1组","7月12日6：40-7：10"]
[292,"沈阳市铁西区大青实验学校","小学信息技术教师","03100","张鑫","0101440105",108.98,{"$f":"VLOOKUP(D295:D1471,[1]按组排列版!$G:$P,10,FALSE)","v":"0336小学信息技术1组"},"小学信息技术","沈阳市铁西区应昌小学大明湖分校（西门）","0336小学信息技术1组","7月12日6：40-7：10"]
[293,"沈阳市铁西区大青实验学校","小学信息技术教师","03100","崔晴","0101261625",108.57,{"$f":"VLOOKUP(D296:D1472,[1]按组排列版!$G:$P,10,FALSE)","v":"0336小学信息技术1组"},"小学信息技术","沈阳市铁西区应昌小学大明湖分校（西门）","0336小学信息技术1组","7月12日6：40-7：10"]
[294,"沈阳市高明实验学校","初中化学教师","03102","刘洋","0201101428",112.34,{"$f":"VLOOKUP(D297:D1473,[1]按组排列版!$G:$P,10,FALSE)","v":"0338初中化学组"},"初中化学","沈阳市铁西区应昌小学大明湖分校（西门）","0338初中化学组","7月12日6：40-7：10"]
[295,"沈阳市高明实验学校","初中化学教师","03102","李晓康","0201121218",109.22,{"$f":"VLOOKUP(D298:D1474,[1]按组排列版!$G:$P,10,FALSE)","v":"0338初中化学组"},"初中化学","沈阳市铁西区应昌小学大明湖分校（西门）","0338初中化学组","7月12日6：40-7：10"]
[296,"沈阳市高明实验学校","初中化学教师","03102","段卓","0201110310",109.09,{"$f":"VLOOKUP(D299:D1475,[1]按组排列版!$G:$P,10,FALSE)","v":"0338初中化学组"},"初中化学","沈阳市铁西区应昌小学大明湖分校（西门）","0338初中化学组","7月12日6：40-7：10"]
[297,"沈阳市高明实验学校","初中道德与法治教师","03103","詹娇娇","0201201230",104.23,{"$f":"VLOOKUP(D300:D1476,[1]按组排列版!$G:$P,10,FALSE)","v":"0321初中、小学道法组"},"初中道德与法治","沈阳市铁西区应昌小学大明湖分校（西门）","0321初中、小学道法组","7月11日11：40-12：10"]
[298,"沈阳市高明实验学校","初中道德与法治教师","03103","李闯","0201212002",94.48,{"$f":"VLOOKUP(D301:D1477,[1]按组排列版!$G:$P,10,FALSE)","v":"0321初中、小学道法组"},"初中道德与法治","沈阳市铁西区应昌小学大明湖分校（西门）","0321初中、小学道法组","7月11日11：40-12：10"]
[299,"沈阳市高明实验学校","初中美术教师","03104","李萌","0201030521",109.19,{"$f":"VLOOKUP(D302:D1478,[1]按组排列版!$G:$P,10,FALSE)","v":"0322初中、小学美术组"},"初中美术","沈阳市铁西区应昌小学大明湖分校（西门）","0322初中、小学美术组","7月12日6：40-7：10"]
[300,"沈阳市高明实验学校","初中美术教师","03104","董搏深","0201191802",106.06,{"$f":"VLOOKUP(D303:D1479,[1]按组排列版!$G:$P,10,FALSE)","v":"0322初中、小学美术组"},"初中美术","沈阳市铁西区应昌小学大明湖分校（西门）","0322初中、小学美术组","7月12日6：40-7：10"]
[301,"沈阳市高明实验学校","初中美术教师","03104","杨子寒","0201170828",106.06,{"$f":"VLOOKUP(D304:D1480,[1]按组排列版!$G:$P,10,FALSE)","v":"0322初中、小学美术组"},"初中美术","沈阳市铁西区应昌小学大明湖分校（西门）","0322初中、小学美术组","7月12日6：40-7：10"]
[302,"沈阳市高明实验学校","小学语数教师","03105","鲁楠","0101450320",109.61,{"$f":"VLOOKUP(D305:D1481,[1]按组排列版!$G:$P,10,FALSE)","v":"0301小学语数1组"},"小学语数","沈阳市铁西区应昌小学大明湖分校（西门）","0301小学语数1组","7月11日11：40-12：10"]
[303,"沈阳市高明实验学校","小学语数教师","03105","宋珊珊","0101450630",107.68,{"$f":"VLOOKUP(D306:D1482,[1]按组排列版!$G:$P,10,FALSE)","v":"0301小学语数1组"},"小学语数","沈阳市铁西区应昌小学大明湖分校（西门）","0301小学语数1组","7月11日11：40-12：10"]
[304,"沈阳市高明实验学校","小学语数教师","03105","孙晓婕","0101430512",100.29,{"$f":"VLOOKUP(D307:D1483,[1]按组排列版!$G:$P,10,FALSE)","v":"0301小学语数1组"},"小学语数","沈阳市铁西区应昌小学大明湖分校（西门）","0301小学语数1组","7月11日11：40-12：10"]
[305,"沈阳市高明实验学校","小学语数教师","03105","马晓丹","0101440527",100.01,{"$f":"VLOOKUP(D308:D1484,[1]按组排列版!$G:$P,10,FALSE)","v":"0301小学语数1组"},"小学语数","沈阳市铁西区应昌小学大明湖分校（西门）","0301小学语数1组","7月11日11：40-12：10"]
[306,"沈阳市高明实验学校","小学语数教师","03105","张心驰","0101491801",98.76,{"$f":"VLOOKUP(D309:D1485,[1]按组排列版!$G:$P,10,FALSE)","v":"0301小学语数1组"},"小学语数","沈阳市铁西区应昌小学大明湖分校（西门）","0301小学语数1组","7月11日11：40-12：10"]
[307,"沈阳市高明实验学校","小学语数教师","03105","宋敏的","0101270723",94.62,{"$f":"VLOOKUP(D310:D1486,[1]按组排列版!$G:$P,10,FALSE)","v":"0301小学语数1组"},"小学语数","沈阳市铁西区应昌小学大明湖分校（西门）","0301小学语数1组","7月11日11：40-12：10"]
[308,"沈阳市高明实验学校","小学语数教师","03105","于常媛","0101360803",86.41,{"$f":"VLOOKUP(D311:D1487,[1]按组排列版!$G:$P,10,FALSE)","v":"0301小学语数1组"},"小学语数","沈阳市铁西区应昌小学大明湖分校（西门）","0301小学语数1组","7月11日11：40-12：10"]
[309,"沈阳市高明实验学校","小学语数教师","03106","栾疏影","0101291324",109.95,{"$f":"VLOOKUP(D312:D1488,[1]按组排列版!$G:$P,10,FALSE)","v":"0301小学语数1组"},"小学语数","沈阳市铁西区应昌小学大明湖分校（西门）","0301小学语数1组","7月11日11：40-12：10"]
[310,"沈阳市高明实验学校","小学语数教师","03106","魏方瑞","0101481328",99.37,{"$f":"VLOOKUP(D313:D1489,[1]按组排列版!$G:$P,10,FALSE)","v":"0301小学语数1组"},"小学语数","沈阳市铁西区应昌小学大明湖分校（西门）","0301小学语数1组","7月11日11：40-12：10"]
[311,"沈阳市高明实验学校","小学语数教师","03106","董斯慧","0101291521",98.73,{"$f":"VLOOKUP(D314:D1490,[1]按组排列版!$G:$P,10,FALSE)","v":"0301小学语数1组"},"小学语数","沈阳市铁西区应昌小学大明湖分校（西门）","0301小学语数1组","7月11日11：40-12：10"]
[312,"沈阳市高明实验学校","小学科学教师","03107","曹佳惠","0101331429",108.5,{"$f":"VLOOKUP(D315:D1491,[1]按组排列版!$G:$P,10,FALSE)","v":"0335小学科学组"},"小学科学","沈阳市铁西区应昌小学大明湖分校（西门）","0335小学科学组","7月12日6：40-7：10"]
[313,"沈阳市高明实验学校","小学科学教师","03107","于莹莉","0101420803",107.83,{"$f":"VLOOKUP(D316:D1492,[1]按组排列版!$G:$P,10,FALSE)","v":"0335小学科学组"},"小学科学","沈阳市铁西区应昌小学大明湖分校（西门）","0335小学科学组","7月12日6：40-7：10"]
[314,"沈阳市铁西区彰驿学校","初中英语教师","03108","王丹","0201170503",112.25,{"$f":"VLOOKUP(D317:D1493,[1]按组排列版!$G:$P,10,FALSE)","v":"0317初中英语组"},"初中英语","沈阳市铁西区应昌小学大明湖分校（西门）","0317初中英语组","7月11日11：40-12：10"]
[315,"沈阳市铁西区彰驿学校","初中英语教师","03108","王晗晓","0201040319",107.09,{"$f":"VLOOKUP(D318:D1494,[1]按组排列版!$G:$P,10,FALSE)","v":"0317初中英语组"},"初中英语","沈阳市铁西区应昌小学大明湖分校（西门）","0317初中英语组","7月11日11：40-12：10"]
[316,"沈阳市铁西区彰驿学校","初中英语教师","03108","王硕","0201020411",104.64,{"$f":"VLOOKUP(D319:D1495,[1]按组排列版!$G:$P,10,FALSE)","v":"0317初中英语组"},"初中英语","沈阳市铁西区应昌小学大明湖分校（西门）","0317初中英语组","7月11日11：40-12：10"]
[317,"沈阳市铁西区彰驿学校","初中数学教师","03109","刘佳兴","0201070123",113.02,{"$f":"VLOOKUP(D320:D1496,[1]按组排列版!$G:$P,10,FALSE)","v":"0315初中数学组"},"初中数学","沈阳市铁西区应昌小学大明湖分校（西门）","0315初中数学组","7月11日11：40-12：10"]
[318,"沈阳市铁西区彰驿学校","初中数学教师","03109","白璐","0201101910",112.91,{"$f":"VLOOKUP(D321:D1497,[1]按组排列版!$G:$P,10,FALSE)","v":"0315初中数学组"},"初中数学","沈阳市铁西区应昌小学大明湖分校（西门）","0315初中数学组","7月11日11：40-12：10"]
[319,"沈阳市铁西区彰驿学校","初中数学教师","03109","赵占坤","0201030922",102.29,{"$f":"VLOOKUP(D322:D1498,[1]按组排列版!$G:$P,10,FALSE)","v":"0315初中数学组"},"初中数学","沈阳市铁西区应昌小学大明湖分校（西门）","0315初中数学组","7月11日11：40-12：10"]
[320,"沈阳市铁西区彰驿中心小学","小学英语教师","03110","张双双","0101331414",110,{"$f":"VLOOKUP(D323:D1499,[1]按组排列版!$G:$P,10,FALSE)","v":"0318小学英语1组"},"小学英语","沈阳市铁西区应昌小学大明湖分校（西门）","0318小学英语1组","7月11日6：40-7：10"]
[321,"沈阳市铁西区彰驿中心小学","小学英语教师","03110","朱园园","0101251013",106.17,{"$f":"VLOOKUP(D324:D1500,[1]按组排列版!$G:$P,10,FALSE)","v":"0318小学英语1组"},"小学英语","沈阳市铁西区应昌小学大明湖分校（西门）","0318小学英语1组","7月11日6：40-7：10"]
[322,"沈阳市铁西区彰驿中心小学","小学英语教师","03110","张旺","0101450225",105.62,{"$f":"VLOOKUP(D325:D1501,[1]按组排列版!$G:$P,10,FALSE)","v":"0318小学英语1组"},"小学英语","沈阳市铁西区应昌小学大明湖分校（西门）","0318小学英语1组","7月11日6：40-7：10"]
[323,"沈阳市铁西区彰驿中心小学","小学语数教师","03111","黄淋","0101530228",113.96,{"$f":"VLOOKUP(D326:D1502,[1]按组排列版!$G:$P,10,FALSE)","v":"0301小学语数1组"},"小学语数","沈阳市铁西区应昌小学大明湖分校（西门）","0301小学语数1组","7月11日11：40-12：10"]
[324,"沈阳市铁西区彰驿中心小学","小学语数教师","03111","周丹","0101461724",95.93,{"$f":"VLOOKUP(D327:D1503,[1]按组排列版!$G:$P,10,FALSE)","v":"0301小学语数1组"},"小学语数","沈阳市铁西区应昌小学大明湖分校（西门）","0301小学语数1组","7月11日11：40-12：10"]
[325,"沈阳市铁西区彰驿中心小学","小学语数教师","03111","郝玮煜","0101472121",95.75,{"$f":"VLOOKUP(D328:D1504,[1]按组排列版!$G:$P,10,FALSE)","v":"0301小学语数1组"},"小学语数","沈阳市铁西区应昌小学大明湖分校（西门）","0301小学语数1组","7月11日11：40-12：10"]
[326,"沈阳市铁西区彰驿中心小学","小学语数教师","03112","张平","0101230902",105.81,{"$f":"VLOOKUP(D329:D1505,[1]按组排列版!$G:$P,10,FALSE)","v":"0302小学语数2组"},"小学语数","沈阳市铁西区应昌小学大明湖分校（西门）","0302小学语数2组","7月11日6：40-7：10"]
[327,"沈阳市铁西区彰驿中心小学","小学语数教师","03112","曹凤","0101431820",101.94,{"$f":"VLOOKUP(D330:D1506,[1]按组排列版!$G:$P,10,FALSE)","v":"0302小学语数2组"},"小学语数","沈阳市铁西区应昌小学大明湖分校（西门）","0302小学语数2组","7月11日6：40-7：10"]
[328,"沈阳市铁西区彰驿中心小学","小学语数教师","03112","吕静","0101251725",91.31,{"$f":"VLOOKUP(D331:D1507,[1]按组排列版!$G:$P,10,FALSE)","v":"0302小学语数2组"},"小学语数","沈阳市铁西区应昌小学大明湖分校（西门）","0302小学语数2组","7月11日6：40-7：10"]
[329,"沈阳市中德园英才学校","初中语文教师","03113","冯婷婷","0201070706",99.15,{"$f":"VLOOKUP(D332:D1508,[1]按组排列版!$G:$P,10,FALSE)","v":"0314高中、初中语文组"},"初中语文","沈阳市铁西区应昌小学大明湖分校（西门）","0314高中、初中语文组","7月11日11：40-12：10"]
[330,"沈阳市中德园英才学校","初中语文教师","03113","邵利娜","0201201119",91.78,{"$f":"VLOOKUP(D333:D1509,[1]按组排列版!$G:$P,10,FALSE)","v":"0314高中、初中语文组"},"初中语文","沈阳市铁西区应昌小学大明湖分校（西门）","0314高中、初中语文组","7月11日11：40-12：10"]
[331,"沈阳市中德园英才学校","初中地理教师","03114","贾春杰","0201040904",112.18,{"$f":"VLOOKUP(D334:D1510,[1]按组排列版!$G:$P,10,FALSE)","v":"0343初中地理组"},"初中地理","沈阳市铁西区应昌小学大明湖分校（西门）","0343初中地理组","7月12日11：40-12：10"]
[332,"沈阳市中德园英才学校","初中地理教师","03114","杜海艳","0201010329",103.89,{"$f":"VLOOKUP(D335:D1511,[1]按组排列版!$G:$P,10,FALSE)","v":"0343初中地理组"},"初中地理","沈阳市铁西区应昌小学大明湖分校（西门）","0343初中地理组","7月12日11：40-12：10"]
[333,"沈阳市中德园英才学校","初中地理教师","03114","黄永贺","0201120527",98.89,{"$f":"VLOOKUP(D336:D1512,[1]按组排列版!$G:$P,10,FALSE)","v":"0343初中地理组"},"初中地理","沈阳市铁西区应昌小学大明湖分校（西门）","0343初中地理组","7月12日11：40-12：10"]
[334,"沈阳市中德园英才学校","初中历史教师","03115","田红","0201010502",112.04,{"$f":"VLOOKUP(D337:D1513,[1]按组排列版!$G:$P,10,FALSE)","v":"0316初中历史组"},"初中历史","沈阳市铁西区应昌小学大明湖分校（西门）","0316初中历史组","7月11日11：40-12：10"]
[335,"沈阳市中德园英才学校","初中历史教师","03115","陈亚娇","0201142004",101.54,{"$f":"VLOOKUP(D338:D1514,[1]按组排列版!$G:$P,10,FALSE)","v":"0316初中历史组"},"初中历史","沈阳市铁西区应昌小学大明湖分校（西门）","0316初中历史组","7月11日11：40-12：10"]
[336,"沈阳市中德园英才学校","初中历史教师","03115","姜杉杉","0201141719",99.61,{"$f":"VLOOKUP(D339:D1515,[1]按组排列版!$G:$P,10,FALSE)","v":"0316初中历史组"},"初中历史","沈阳市铁西区应昌小学大明湖分校（西门）","0316初中历史组","7月11日11：40-12：10"]
[337,"沈阳市中德园英才学校","初中生物教师","03116","刘羽欣","0201200114",121.07,{"$f":"VLOOKUP(D340:D1516,[1]按组排列版!$G:$P,10,FALSE)","v":"0344初中生物组"},"初中生物","沈阳市铁西区应昌小学大明湖分校（西门）","0344初中生物组","7月12日6：40-7：10"]
[338,"沈阳市中德园英才学校","初中生物教师","03116","赵丽娇","0201012009",112.89,{"$f":"VLOOKUP(D341:D1517,[1]按组排列版!$G:$P,10,FALSE)","v":"0344初中生物组"},"初中生物","沈阳市铁西区应昌小学大明湖分校（西门）","0344初中生物组","7月12日6：40-7：10"]
[339,"沈阳市中德园英才学校","初中生物教师","03116","孟田","0201060622",108.71,{"$f":"VLOOKUP(D342:D1518,[1]按组排列版!$G:$P,10,FALSE)","v":"0344初中生物组"},"初中生物","沈阳市铁西区应昌小学大明湖分校（西门）","0344初中生物组","7月12日6：40-7：10"]
[340,"沈阳市中德园英才学校","小学语数教师","03117","刘佳乐","0101271628",98,{"$f":"VLOOKUP(D343:D1519,[1]按组排列版!$G:$P,10,FALSE)","v":"0302小学语数2组"},"小学语数","沈阳市铁西区应昌小学大明湖分校（西门）","0302小学语数2组","7月11日6：40-7：10"]
[341,"沈阳市铁西区兴工街第一小学","小学语数教师","03118","刘云洁","0101310108",103.97,{"$f":"VLOOKUP(D344:D1520,[1]按组排列版!$G:$P,10,FALSE)","v":"0302小学语数2组"},"小学语数","沈阳市铁西区应昌小学大明湖分校（西门）","0302小学语数2组","7月11日6：40-7：10"]
[342,"沈阳市铁西区兴工街第一小学","小学语数教师","03118","刘洋","0101441327",89.74,{"$f":"VLOOKUP(D345:D1521,[1]按组排列版!$G:$P,10,FALSE)","v":"0302小学语数2组"},"小学语数","沈阳市铁西区应昌小学大明湖分校（西门）","0302小学语数2组","7月11日6：40-7：10"]
[343,"沈阳市铁西区兴工街第一小学","小学语数教师","03119","卢鑫鑫","0101531205",107.29,{"$f":"VLOOKUP(D346:D1522,[1]按组排列版!$G:$P,10,FALSE)","v":"0302小学语数2组"},"小学语数","沈阳市铁西区应昌小学大明湖分校（西门）","0302小学语数2组","7月11日6：40-7：10"]
[344,"沈阳市铁西区兴工街第一小学","小学语数教师","03119","初美悦","0101401426",100.27,{"$f":"VLOOKUP(D347:D1523,[1]按组排列版!$G:$P,10,FALSE)","v":"0302小学语数2组"},"小学语数","沈阳市铁西区应昌小学大明湖分校（西门）","0302小学语数2组","7月11日6：40-7：10"]
[345,"沈阳市铁西区兴工街第一小学","小学语数教师","03119","赵玥琳","0101311616",96.85,{"$f":"VLOOKUP(D348:D1524,[1]按组排列版!$G:$P,10,FALSE)","v":"0302小学语数2组"},"小学语数","沈阳市铁西区应昌小学大明湖分校（西门）","0302小学语数2组","7月11日6：40-7：10"]
[346,"沈阳市铁西区兴工街第一小学","小学语数教师","03120","王雪","0101410509",102.47,{"$f":"VLOOKUP(D349:D1525,[1]按组排列版!$G:$P,10,FALSE)","v":"0302小学语数2组"},"小学语数","沈阳市铁西区应昌小学大明湖分校（西门）","0302小学语数2组","7月11日6：40-7：10"]
[347,"沈阳市铁西区兴工街第一小学","小学体育教师","03121","牛雨桐","0101231621",85.77,{"$f":"VLOOKUP(D350:D1526,[1]按组排列版!$G:$P,10,FALSE)","v":"0327小学体育1组"},"小学体育","沈阳市铁西区应昌小学大明湖分校（西门）","0327小学体育1组","7月12日6：40-7：10"]
[348,"沈阳市铁西区兴工街第一小学","小学体育教师","03121","付凯琦","0101481606",83.39,{"$f":"VLOOKUP(D351:D1527,[1]按组排列版!$G:$P,10,FALSE)","v":"0327小学体育1组"},"小学体育","沈阳市铁西区应昌小学大明湖分校（西门）","0327小学体育1组","7月12日6：40-7：10"]
[349,"沈阳市铁西区兴工街第一小学","小学音乐教师","03122","杨琳琅","0101510625",95.05,{"$f":"VLOOKUP(D352:D1528,[1]按组排列版!$G:$P,10,FALSE)","v":"0332初中、小学音乐组"},"小学音乐","沈阳市铁西区应昌小学大明湖分校（西门）","0332初中、小学音乐组","7月12日6：40-7：10"]
[350,"沈阳市铁西区兴工街第一小学","小学音乐教师","03122","张竞文","0101281703",93.72,{"$f":"VLOOKUP(D353:D1529,[1]按组排列版!$G:$P,10,FALSE)","v":"0332初中、小学音乐组"},"小学音乐","沈阳市铁西区应昌小学大明湖分校（西门）","0332初中、小学音乐组","7月12日6：40-7：10"]
[351,"沈阳市铁西区兴工街第一小学","小学音乐教师","03122","李璟","0101431316",89.87,{"$f":"VLOOKUP(D354:D1530,[1]按组排列版!$G:$P,10,FALSE)","v":"0332初中、小学音乐组"},"小学音乐","沈阳市铁西区应昌小学大明湖分校（西门）","0332初中、小学音乐组","7月12日6：40-7：10"]
[352,"沈阳市铁西区光明路第二小学","小学语数教师","03123","孙子晴","0101381013",114.29,{"$f":"VLOOKUP(D355:D1531,[1]按组排列版!$G:$P,10,FALSE)","v":"0302小学语数2组"},"小学语数","沈阳市铁西区应昌小学大明湖分校（西门）","0302小学语数2组","7月11日11：40-12：10"]
[353,"沈阳市铁西区光明路第二小学","小学语数教师","03123","张晓芳","0101320222",112.82,{"$f":"VLOOKUP(D356:D1532,[1]按组排列版!$G:$P,10,FALSE)","v":"0302小学语数2组"},"小学语数","沈阳市铁西区应昌小学大明湖分校（西门）","0302小学语数2组","7月11日11：40-12：10"]
[354,"沈阳市铁西区光明路第二小学","小学语数教师","03123","龚春晖","0101440205",107.7,{"$f":"VLOOKUP(D357:D1533,[1]按组排列版!$G:$P,10,FALSE)","v":"0302小学语数2组"},"小学语数","沈阳市铁西区应昌小学大明湖分校（西门）","0302小学语数2组","7月11日11：40-12：10"]
[355,"沈阳市铁西区光明路第二小学","小学语数教师","03123","钱松颖","0101431203",106.19,{"$f":"VLOOKUP(D358:D1534,[1]按组排列版!$G:$P,10,FALSE)","v":"0302小学语数2组"},"小学语数","沈阳市铁西区应昌小学大明湖分校（西门）","0302小学语数2组","7月11日11：40-12：10"]
[356,"沈阳市铁西区光明路第二小学","小学语数教师","03123","陈雪","0101410518",104.45,{"$f":"VLOOKUP(D359:D1535,[1]按组排列版!$G:$P,10,FALSE)","v":"0302小学语数2组"},"小学语数","沈阳市铁西区应昌小学大明湖分校（西门）","0302小学语数2组","7月11日11：40-12：10"]
[357,"沈阳市铁西区光明路第二小学","小学语数教师","03123","刘畅","0101440913",103.24,{"$f":"VLOOKUP(D360:D1536,[1]按组排列版!$G:$P,10,FALSE)","v":"0302小学语数2组"},"小学语数","沈阳市铁西区应昌小学大明湖分校（西门）","0302小学语数2组","7月11日11：40-12：10"]
[358,"沈阳市铁西区光明路第二小学","小学语数教师","03123","宋丽研","0101331513",101.26,{"$f":"VLOOKUP(D361:D1537,[1]按组排列版!$G:$P,10,FALSE)","v":"0302小学语数2组"},"小学语数","沈阳市铁西区应昌小学大明湖分校（西门）","0302小学语数2组","7月11日11：40-12：10"]
[359,"沈阳市铁西区光明路第二小学","小学语数教师","03123","张嘉鑫","0101400111",99.39,{"$f":"VLOOKUP(D362:D1538,[1]按组排列版!$G:$P,10,FALSE)","v":"0302小学语数2组"},"小学语数","沈阳市铁西区应昌小学大明湖分校（西门）","0302小学语数2组","7月11日11：40-12：10"]
[360,"沈阳市铁西区光明路第二小学","小学语数教师","03123","陈雪","0101440320",99.04,{"$f":"VLOOKUP(D363:D1539,[1]按组排列版!$G:$P,10,FALSE)","v":"0302小学语数2组"},"小学语数","沈阳市铁西区应昌小学大明湖分校（西门）","0302小学语数2组","7月11日11：40-12：10"]
[361,"沈阳市铁西区光明路第二小学","小学语数教师","03123","郝秀媛","0101450913",95.32,{"$f":"VLOOKUP(D364:D1540,[1]按组排列版!$G:$P,10,FALSE)","v":"0302小学语数2组"},"小学语数","沈阳市铁西区应昌小学大明湖分校（西门）","0302小学语数2组","7月11日11：40-12：10"]
[362,"沈阳市铁西区光明路第二小学","小学语数教师","03123","张莹","0101430907",94.59,{"$f":"VLOOKUP(D365:D1541,[1]按组排列版!$G:$P,10,FALSE)","v":"0302小学语数2组"},"小学语数","沈阳市铁西区应昌小学大明湖分校（西门）","0302小学语数2组","7月11日11：40-12：10"]
[363,"沈阳市铁西区光明路第二小学","小学语数教师","03123","王超","0101440308",91.69,{"$f":"VLOOKUP(D366:D1542,[1]按组排列版!$G:$P,10,FALSE)","v":"0302小学语数2组"},"小学语数","沈阳市铁西区应昌小学大明湖分校（西门）","0302小学语数2组","7月11日11：40-12：10"]
[364,"沈阳市铁西区光明路第二小学","小学语数教师","03124","王舒","0101540322",107.52,{"$f":"VLOOKUP(D367:D1543,[1]按组排列版!$G:$P,10,FALSE)","v":"0302小学语数2组"},"小学语数","沈阳市铁西区应昌小学大明湖分校（西门）","0302小学语数2组","7月11日6：40-7：10"]
[365,"沈阳市铁西区光明路第二小学","小学语数教师","03124","李世缘","0101410410",104.87,{"$f":"VLOOKUP(D368:D1544,[1]按组排列版!$G:$P,10,FALSE)","v":"0302小学语数2组"},"小学语数","沈阳市铁西区应昌小学大明湖分校（西门）","0302小学语数2组","7月11日6：40-7：10"]
[366,"沈阳市铁西区光明路第二小学","小学语数教师","03124","裴思晗","0101350630",102.91,{"$f":"VLOOKUP(D369:D1545,[1]按组排列版!$G:$P,10,FALSE)","v":"0302小学语数2组"},"小学语数","沈阳市铁西区应昌小学大明湖分校（西门）","0302小学语数2组","7月11日6：40-7：10"]
[367,"沈阳市铁西区光明路第二小学","小学语数教师","03124","张晶晶","0101261103",102.54,{"$f":"VLOOKUP(D370:D1546,[1]按组排列版!$G:$P,10,FALSE)","v":"0302小学语数2组"},"小学语数","沈阳市铁西区应昌小学大明湖分校（西门）","0302小学语数2组","7月11日6：40-7：10"]
[368,"沈阳市铁西区光明路第二小学","小学语数教师","03124","毛金羽","0101310207",96.96,{"$f":"VLOOKUP(D371:D1547,[1]按组排列版!$G:$P,10,FALSE)","v":"0302小学语数2组"},"小学语数","沈阳市铁西区应昌小学大明湖分校（西门）","0302小学语数2组","7月11日6：40-7：10"]
[369,"沈阳市铁西区光明路第二小学","小学语数教师","03125","高尚华","0101350917",114.68,{"$f":"VLOOKUP(D372:D1548,[1]按组排列版!$G:$P,10,FALSE)","v":"0302小学语数2组"},"小学语数","沈阳市铁西区应昌小学大明湖分校（西门）","0302小学语数2组","7月11日11：40-12：10"]
[370,"沈阳市铁西区光明路第二小学","小学语数教师","03125","宋昕阳","0101371812",108.24,{"$f":"VLOOKUP(D373:D1549,[1]按组排列版!$G:$P,10,FALSE)","v":"0302小学语数2组"},"小学语数","沈阳市铁西区应昌小学大明湖分校（西门）","0302小学语数2组","7月11日11：40-12：10"]
[371,"沈阳市铁西区光明路第二小学","小学语数教师","03125","张晓漫","0101370518",107.15,{"$f":"VLOOKUP(D374:D1550,[1]按组排列版!$G:$P,10,FALSE)","v":"0302小学语数2组"},"小学语数","沈阳市铁西区应昌小学大明湖分校（西门）","0302小学语数2组","7月11日11：40-12：10"]
[372,"沈阳市铁西区光明路第二小学","小学语数教师","03125","曲月","0101470118",104.92,{"$f":"VLOOKUP(D375:D1551,[1]按组排列版!$G:$P,10,FALSE)","v":"0302小学语数2组"},"小学语数","沈阳市铁西区应昌小学大明湖分校（西门）","0302小学语数2组","7月11日11：40-12：10"]
[373,"沈阳市铁西区光明路第二小学","小学语数教师","03125","刘悦","0101270311",101.2,{"$f":"VLOOKUP(D376:D1552,[1]按组排列版!$G:$P,10,FALSE)","v":"0302小学语数2组"},"小学语数","沈阳市铁西区应昌小学大明湖分校（西门）","0302小学语数2组","7月11日11：40-12：10"]
[374,"沈阳市铁西区光明路第二小学","小学语数教师","03125","张茜","0101571829",98.59,{"$f":"VLOOKUP(D377:D1553,[1]按组排列版!$G:$P,10,FALSE)","v":"0302小学语数2组"},"小学语数","沈阳市铁西区应昌小学大明湖分校（西门）","0302小学语数2组","7月11日11：40-12：10"]
[375,"沈阳市铁西区光明路第二小学","小学体育教师","03126","王天龙","0101251622",92.47,{"$f":"VLOOKUP(D378:D1554,[1]按组排列版!$G:$P,10,FALSE)","v":"0327小学体育1组"},"小学体育","沈阳市铁西区应昌小学大明湖分校（西门）","0327小学体育1组","7月12日6：40-7：10"]
[376,"沈阳市铁西区光明路第二小学","小学体育教师","03126","刘文斌","0101411122",85.47,{"$f":"VLOOKUP(D379:D1555,[1]按组排列版!$G:$P,10,FALSE)","v":"0327小学体育1组"},"小学体育","沈阳市铁西区应昌小学大明湖分校（西门）","0327小学体育1组","7月12日6：40-7：10"]
[377,"沈阳市铁西区光明路第二小学","小学体育教师","03126","赵玉森","0101511503",79.85,{"$f":"VLOOKUP(D380:D1556,[1]按组排列版!$G:$P,10,FALSE)","v":"0327小学体育1组"},"小学体育","沈阳市铁西区应昌小学大明湖分校（西门）","0327小学体育1组","7月12日6：40-7：10"]
[378,"沈阳市铁西区光明路第二小学","小学美术教师","03127","王一涵","0101390212",112.94,{"$f":"VLOOKUP(D381:D1557,[1]按组排列版!$G:$P,10,FALSE)","v":"0322初中、小学美术组"},"小学美术","沈阳市铁西区应昌小学大明湖分校（西门）","0322初中、小学美术组","7月12日11：40-12：10"]
[379,"沈阳市铁西区光明路第二小学","小学美术教师","03127","郭昱含","0101270629",111.97,{"$f":"VLOOKUP(D382:D1558,[1]按组排列版!$G:$P,10,FALSE)","v":"0322初中、小学美术组"},"小学美术","沈阳市铁西区应昌小学大明湖分校（西门）","0322初中、小学美术组","7月12日11：40-12：10"]
[380,"沈阳市铁西区光明路第二小学","小学美术教师","03127","金楚凡","0101460612",110.94,{"$f":"VLOOKUP(D383:D1559,[1]按组排列版!$G:$P,10,FALSE)","v":"0322初中、小学美术组"},"小学美术","沈阳市铁西区应昌小学大明湖分校（西门）","0322初中、小学美术组","7月12日11：40-12：10"]
[381,"沈阳市铁西区光明路第二小学","小学美术教师","03128","马瑀鸿","0101502215",116.91,{"$f":"VLOOKUP(D384:D1560,[1]按组排列版!$G:$P,10,FALSE)","v":"0322初中、小学美术组"},"小学美术","沈阳市铁西区应昌小学大明湖分校（西门）","0322初中、小学美术组","7月12日11：40-12：10"]
[382,"沈阳市铁西区光明路第二小学","小学美术教师","03128","吴淼","0101300626",111.69,{"$f":"VLOOKUP(D385:D1561,[1]按组排列版!$G:$P,10,FALSE)","v":"0322初中、小学美术组"},"小学美术","沈阳市铁西区应昌小学大明湖分校（西门）","0322初中、小学美术组","7月12日11：40-12：10"]
[383,"沈阳市铁西区光明路第二小学","小学美术教师","03128","费庆媛","0101562430",109.27,{"$f":"VLOOKUP(D386:D1562,[1]按组排列版!$G:$P,10,FALSE)","v":"0322初中、小学美术组"},"小学美术","沈阳市铁西区应昌小学大明湖分校（西门）","0322初中、小学美术组","7月12日11：40-12：10"]
[384,"沈阳市铁西区兴工街第四小学","小学语数教师","03129","孙艳","0101430314",102.85,{"$f":"VLOOKUP(D387:D1563,[1]按组排列版!$G:$P,10,FALSE)","v":"0302小学语数2组"},"小学语数","沈阳市铁西区应昌小学大明湖分校（西门）","0302小学语数2组","7月11日11：40-12：10"]
[385,"沈阳市铁西区勋望小学虹桥分校","小学语数教师","03130","林可欣","0101251219",115.84,{"$f":"VLOOKUP(D388:D1564,[1]按组排列版!$G:$P,10,FALSE)","v":"0303小学语数3组"},"小学语数","沈阳市铁西区应昌小学大明湖分校（西门）","0303小学语数3组","7月11日6：40-7：10"]
[386,"沈阳市铁西区勋望小学虹桥分校","小学语数教师","03130","刘昊纯","0101251204",109.86,{"$f":"VLOOKUP(D389:D1565,[1]按组排列版!$G:$P,10,FALSE)","v":"0303小学语数3组"},"小学语数","沈阳市铁西区应昌小学大明湖分校（西门）","0303小学语数3组","7月11日6：40-7：10"]
[387,"沈阳市铁西区勋望小学虹桥分校","小学语数教师","03130","葛轩彤","0101250723",98.19,{"$f":"VLOOKUP(D390:D1566,[1]按组排列版!$G:$P,10,FALSE)","v":"0303小学语数3组"},"小学语数","沈阳市铁西区应昌小学大明湖分校（西门）","0303小学语数3组","7月11日6：40-7：10"]
[388,"沈阳市铁西区勋望小学虹桥分校","小学语数教师","03131","芦飞","0101450308",102.01,{"$f":"VLOOKUP(D391:D1567,[1]按组排列版!$G:$P,10,FALSE)","v":"0303小学语数3组"},"小学语数","沈阳市铁西区应昌小学大明湖分校（西门）","0303小学语数3组","7月11日6：40-7：10"]
[389,"沈阳市铁西区勋望小学虹桥分校","小学英语教师","03132","吴沛桐","0101361919",118.73,{"$f":"VLOOKUP(D392:D1568,[1]按组排列版!$G:$P,10,FALSE)","v":"0318小学英语1组"},"小学英语","沈阳市铁西区应昌小学大明湖分校（西门）","0318小学英语1组","7月11日6：40-7：10"]
[390,"沈阳市铁西区勋望小学虹桥分校","小学英语教师","03132","王一晴","0101561909",114.26,{"$f":"VLOOKUP(D393:D1569,[1]按组排列版!$G:$P,10,FALSE)","v":"0318小学英语1组"},"小学英语","沈阳市铁西区应昌小学大明湖分校（西门）","0318小学英语1组","7月11日6：40-7：10"]
[391,"沈阳市铁西区勋望小学虹桥分校","小学英语教师","03132","王秋丽","0101310315",113.55,{"$f":"VLOOKUP(D394:D1570,[1]按组排列版!$G:$P,10,FALSE)","v":"0318小学英语1组"},"小学英语","沈阳市铁西区应昌小学大明湖分校（西门）","0318小学英语1组","7月11日6：40-7：10"]
[392,"沈阳市铁西区勋望小学虹桥分校","小学体育教师","03133","申英臣","0101320214",105.92,{"$f":"VLOOKUP(D395:D1571,[1]按组排列版!$G:$P,10,FALSE)","v":"0327小学体育1组"},"小学体育","沈阳市铁西区应昌小学大明湖分校（西门）","0327小学体育1组","7月12日6：40-7：10"]
[393,"沈阳市铁西区勋望小学虹桥分校","小学体育教师","03133","邢李源","0101530902",104.32,{"$f":"VLOOKUP(D396:D1572,[1]按组排列版!$G:$P,10,FALSE)","v":"0327小学体育1组"},"小学体育","沈阳市铁西区应昌小学大明湖分校（西门）","0327小学体育1组","7月12日6：40-7：10"]
[394,"沈阳市铁西区勋望小学虹桥分校","小学体育教师","03133","胡锦波","0101571025",99.3,{"$f":"VLOOKUP(D397:D1573,[1]按组排列版!$G:$P,10,FALSE)","v":"0327小学体育1组"},"小学体育","沈阳市铁西区应昌小学大明湖分校（西门）","0327小学体育1组","7月12日6：40-7：10"]
[395,"沈阳市铁西区勋望小学虹桥分校","小学体育教师","03133","杨曼灵","0101510112",99,{"$f":"VLOOKUP(D398:D1574,[1]按组排列版!$G:$P,10,FALSE)","v":"0327小学体育1组"},"小学体育","沈阳市铁西区应昌小学大明湖分校（西门）","0327小学体育1组","7月12日6：40-7：10"]
[396,"沈阳市铁西区勋望小学虹桥分校","小学体育教师","03133","张皓亮","0101320412",94.85,{"$f":"VLOOKUP(D399:D1575,[1]按组排列版!$G:$P,10,FALSE)","v":"0327小学体育1组"},"小学体育","沈阳市铁西区应昌小学大明湖分校（西门）","0327小学体育1组","7月12日6：40-7：10"]
[397,"沈阳市铁西区勋望小学虹桥分校","小学体育教师","03133","张扬","0101461330",93.26,{"$f":"VLOOKUP(D400:D1576,[1]按组排列版!$G:$P,10,FALSE)","v":"0327小学体育1组"},"小学体育","沈阳市铁西区应昌小学大明湖分校（西门）","0327小学体育1组","7月12日6：40-7：10"]
[398,"沈阳市铁西区勋望小学虹桥分校","小学体育教师","03133","张丹蕾","0101511225",89.36,{"$f":"VLOOKUP(D401:D1577,[1]按组排列版!$G:$P,10,FALSE)","v":"0327小学体育1组"},"小学体育","沈阳市铁西区应昌小学大明湖分校（西门）","0327小学体育1组","7月12日6：40-7：10"]
[399,"沈阳市铁西区勋望小学虹桥分校","小学体育教师","03133","李泽毅","0101251512",88.32,{"$f":"VLOOKUP(D402:D1578,[1]按组排列版!$G:$P,10,FALSE)","v":"0327小学体育1组"},"小学体育","沈阳市铁西区应昌小学大明湖分校（西门）","0327小学体育1组","7月12日6：40-7：10"]
[400,"沈阳市铁西区勋望小学虹桥分校","小学体育教师","03133","韩鹏宇","0101290304",85.99,{"$f":"VLOOKUP(D403:D1579,[1]按组排列版!$G:$P,10,FALSE)","v":"0327小学体育1组"},"小学体育","沈阳市铁西区应昌小学大明湖分校（西门）","0327小学体育1组","7月12日6：40-7：10"]
[401,"沈阳市铁西区勋望小学虹桥分校","小学体育教师","03134","王铜海","0101431622",104.12,{"$f":"VLOOKUP(D404:D1580,[1]按组排列版!$G:$P,10,FALSE)","v":"0327小学体育1组"},"小学体育","沈阳市铁西区应昌小学大明湖分校（西门）","0327小学体育1组","7月12日11：40-12：10"]
[402,"沈阳市铁西区勋望小学虹桥分校","小学体育教师","03134","张佳文","0101400605",88.13,{"$f":"VLOOKUP(D405:D1581,[1]按组排列版!$G:$P,10,FALSE)","v":"0327小学体育1组"},"小学体育","沈阳市铁西区应昌小学大明湖分校（西门）","0327小学体育1组","7月12日11：40-12：10"]
[403,"沈阳市铁西区勋望小学虹桥分校","小学美术教师","03135","高艳雨","0101451025",106.72,{"$f":"VLOOKUP(D406:D1582,[1]按组排列版!$G:$P,10,FALSE)","v":"0322初中、小学美术组"},"小学美术","沈阳市铁西区应昌小学大明湖分校（西门）","0322初中、小学美术组","7月12日11：40-12：10"]
[404,"沈阳市铁西区勋望小学虹桥分校","小学美术教师","03135","赵天琪","0101430721",103.15,{"$f":"VLOOKUP(D407:D1583,[1]按组排列版!$G:$P,10,FALSE)","v":"0322初中、小学美术组"},"小学美术","沈阳市铁西区应昌小学大明湖分校（西门）","0322初中、小学美术组","7月12日11：40-12：10"]
[405,"沈阳市铁西区勋望小学虹桥分校","小学美术教师","03135","杨景惠","0101262626",101.26,{"$f":"VLOOKUP(D408:D1584,[1]按组排列版!$G:$P,10,FALSE)","v":"0322初中、小学美术组"},"小学美术","沈阳市铁西区应昌小学大明湖分校（西门）","0322初中、小学美术组","7月12日11：40-12：10"]
[406,"沈阳市铁西区勋望小学虹桥分校","小学信息技术教师","03136","孙艺萌","0101521427",110.64,{"$f":"VLOOKUP(D409:D1585,[1]按组排列版!$G:$P,10,FALSE)","v":"0336小学信息技术1组"},"小学信息技术","沈阳市铁西区应昌小学大明湖分校（西门）","0336小学信息技术1组","7月12日6：40-7：10"]
[407,"沈阳市铁西区勋望小学虹桥分校","小学信息技术教师","03136","袁晓峰","0101231713",107.33,{"$f":"VLOOKUP(D410:D1586,[1]按组排列版!$G:$P,10,FALSE)","v":"0336小学信息技术1组"},"小学信息技术","沈阳市铁西区应昌小学大明湖分校（西门）","0336小学信息技术1组","7月12日6：40-7：10"]
[408,"沈阳市铁西区勋望小学虹桥分校","小学信息技术教师","03136","张敏","0101551630",103.31,{"$f":"VLOOKUP(D411:D1587,[1]按组排列版!$G:$P,10,FALSE)","v":"0336小学信息技术1组"},"小学信息技术","沈阳市铁西区应昌小学大明湖分校（西门）","0336小学信息技术1组","7月12日6：40-7：10"]
[409,"沈阳市铁西区勋望小学景星分校","小学语数教师","03137","郑凯琳","0101281417",111.87,{"$f":"VLOOKUP(D412:D1588,[1]按组排列版!$G:$P,10,FALSE)","v":"0303小学语数3组"},"小学语数","沈阳市铁西区应昌小学大明湖分校（西门）","0303小学语数3组","7月11日6：40-7：10"]
[410,"沈阳市铁西区勋望小学景星分校","小学语数教师","03137","赵胜男","0101300422",110.73,{"$f":"VLOOKUP(D413:D1589,[1]按组排列版!$G:$P,10,FALSE)","v":"0303小学语数3组"},"小学语数","沈阳市铁西区应昌小学大明湖分校（西门）","0303小学语数3组","7月11日6：40-7：10"]
[411,"沈阳市铁西区勋望小学景星分校","小学语数教师","03137","荆浩然","0101280406",96.56,{"$f":"VLOOKUP(D414:D1590,[1]按组排列版!$G:$P,10,FALSE)","v":"0303小学语数3组"},"小学语数","沈阳市铁西区应昌小学大明湖分校（西门）","0303小学语数3组","7月11日6：40-7：10"]
[412,"沈阳市铁西区勋望小学景星分校","小学语数教师","03138","姚邑欣","0101440615",90.27,{"$f":"VLOOKUP(D415:D1591,[1]按组排列版!$G:$P,10,FALSE)","v":"0303小学语数3组"},"小学语数","沈阳市铁西区应昌小学大明湖分校（西门）","0303小学语数3组","7月11日6：40-7：10"]
[413,"沈阳市铁西区勋望小学景星分校","小学语数教师","03138","刘珍璐","0101472325",71.4,{"$f":"VLOOKUP(D416:D1592,[1]按组排列版!$G:$P,10,FALSE)","v":"0303小学语数3组"},"小学语数","沈阳市铁西区应昌小学大明湖分校（西门）","0303小学语数3组","7月11日6：40-7：10"]
[414,"沈阳市铁西区勋望小学景星分校","小学英语教师","03139","孙羽双","0101381417",108.16,{"$f":"VLOOKUP(D417:D1593,[1]按组排列版!$G:$P,10,FALSE)","v":"0318小学英语1组"},"小学英语","沈阳市铁西区应昌小学大明湖分校（西门）","0318小学英语1组","7月11日6：40-7：10"]
[415,"沈阳市铁西区勋望小学景星分校","小学英语教师","03139","曲晓云","0101251721",103.82,{"$f":"VLOOKUP(D418:D1594,[1]按组排列版!$G:$P,10,FALSE)","v":"0318小学英语1组"},"小学英语","沈阳市铁西区应昌小学大明湖分校（西门）","0318小学英语1组","7月11日6：40-7：10"]
[416,"沈阳市铁西区勋望小学景星分校","小学英语教师","03139","李睿雅","0101352114",102.03,{"$f":"VLOOKUP(D419:D1595,[1]按组排列版!$G:$P,10,FALSE)","v":"0318小学英语1组"},"小学英语","沈阳市铁西区应昌小学大明湖分校（西门）","0318小学英语1组","7月11日6：40-7：10"]
[417,"沈阳市铁西区勋望小学景星分校","小学英语教师","03140","郭闯","0101441611",113.39,{"$f":"VLOOKUP(D420:D1596,[1]按组排列版!$G:$P,10,FALSE)","v":"0318小学英语1组"},"小学英语","沈阳市铁西区应昌小学大明湖分校（西门）","0318小学英语1组","7月11日6：40-7：10"]
[418,"沈阳市铁西区勋望小学景星分校","小学英语教师","03140","孙少婷","0101351111",112.35,{"$f":"VLOOKUP(D421:D1597,[1]按组排列版!$G:$P,10,FALSE)","v":"0318小学英语1组"},"小学英语","沈阳市铁西区应昌小学大明湖分校（西门）","0318小学英语1组","7月11日6：40-7：10"]
[419,"沈阳市铁西区勋望小学景星分校","小学英语教师","03140","张慧萌","0101440519",110.84,{"$f":"VLOOKUP(D422:D1598,[1]按组排列版!$G:$P,10,FALSE)","v":"0318小学英语1组"},"小学英语","沈阳市铁西区应昌小学大明湖分校（西门）","0318小学英语1组","7月11日6：40-7：10"]
[420,"沈阳市铁西区勋望小学景星分校","小学体育教师","03141","范英龙","0101330324",107.47,{"$f":"VLOOKUP(D423:D1599,[1]按组排列版!$G:$P,10,FALSE)","v":"0327小学体育1组"},"小学体育","沈阳市铁西区应昌小学大明湖分校（西门）","0327小学体育1组","7月12日11：40-12：10"]
[421,"沈阳市铁西区勋望小学景星分校","小学体育教师","03141","石嘉慧","0101261317",98.67,{"$f":"VLOOKUP(D424:D1600,[1]按组排列版!$G:$P,10,FALSE)","v":"0327小学体育1组"},"小学体育","沈阳市铁西区应昌小学大明湖分校（西门）","0327小学体育1组","7月12日11：40-12：10"]
[422,"沈阳市铁西区勋望小学景星分校","小学体育教师","03141","张子容","0101471502",97.86,{"$f":"VLOOKUP(D425:D1601,[1]按组排列版!$G:$P,10,FALSE)","v":"0327小学体育1组"},"小学体育","沈阳市铁西区应昌小学大明湖分校（西门）","0327小学体育1组","7月12日11：40-12：10"]
[423,"沈阳市铁西区勋望小学景星分校","小学体育教师","03141","黄泳彭","0101541609",97.02,{"$f":"VLOOKUP(D426:D1602,[1]按组排列版!$G:$P,10,FALSE)","v":"0327小学体育1组"},"小学体育","沈阳市铁西区应昌小学大明湖分校（西门）","0327小学体育1组","7月12日11：40-12：10"]
[424,"沈阳市铁西区勋望小学景星分校","小学体育教师","03141","于镇铭","0101550516",95.99,{"$f":"VLOOKUP(D427:D1603,[1]按组排列版!$G:$P,10,FALSE)","v":"0327小学体育1组"},"小学体育","沈阳市铁西区应昌小学大明湖分校（西门）","0327小学体育1组","7月12日11：40-12：10"]
[425,"沈阳市铁西区勋望小学景星分校","小学体育教师","03141","龙欣悦","0101361506",95.52,{"$f":"VLOOKUP(D428:D1604,[1]按组排列版!$G:$P,10,FALSE)","v":"0327小学体育1组"},"小学体育","沈阳市铁西区应昌小学大明湖分校（西门）","0327小学体育1组","7月12日11：40-12：10"]
[426,"沈阳市铁西区勋望小学景星分校","小学体育教师","03141","李馨玥","0101451311",94.95,{"$f":"VLOOKUP(D429:D1605,[1]按组排列版!$G:$P,10,FALSE)","v":"0327小学体育1组"},"小学体育","沈阳市铁西区应昌小学大明湖分校（西门）","0327小学体育1组","7月12日11：40-12：10"]
[427,"沈阳市铁西区勋望小学景星分校","小学体育教师","03141","姜慈琳","0101562512",89.58,{"$f":"VLOOKUP(D430:D1606,[1]按组排列版!$G:$P,10,FALSE)","v":"0327小学体育1组"},"小学体育","沈阳市铁西区应昌小学大明湖分校（西门）","0327小学体育1组","7月12日11：40-12：10"]
[428,"沈阳市铁西区勋望小学景星分校","小学体育教师","03141","李克","0101501205",89.48,{"$f":"VLOOKUP(D431:D1607,[1]按组排列版!$G:$P,10,FALSE)","v":"0327小学体育1组"},"小学体育","沈阳市铁西区应昌小学大明湖分校（西门）","0327小学体育1组","7月12日11：40-12：10"]
[429,"沈阳市铁西区勋望小学景星分校","小学体育教师","03142","车乔","0101422103",97.45,{"$f":"VLOOKUP(D432:D1608,[1]按组排列版!$G:$P,10,FALSE)","v":"0327小学体育1组"},"小学体育","沈阳市铁西区应昌小学大明湖分校（西门）","0327小学体育1组","7月12日11：40-12：10"]
[430,"沈阳市铁西区勋望小学景星分校","小学体育教师","03142","孙鹤丹","0101300829",94.17,{"$f":"VLOOKUP(D433:D1609,[1]按组排列版!$G:$P,10,FALSE)","v":"0327小学体育1组"},"小学体育","沈阳市铁西区应昌小学大明湖分校（西门）","0327小学体育1组","7月12日11：40-12：10"]
[431,"沈阳市铁西区勋望小学景星分校","小学体育教师","03142","邱骄阳","0101440416",87.18,{"$f":"VLOOKUP(D434:D1610,[1]按组排列版!$G:$P,10,FALSE)","v":"0327小学体育1组"},"小学体育","沈阳市铁西区应昌小学大明湖分校（西门）","0327小学体育1组","7月12日11：40-12：10"]
[432,"沈阳市铁西区勋望小学景星分校","小学音乐教师","03143","谢泽铭","0101271810",102.43,{"$f":"VLOOKUP(D435:D1611,[1]按组排列版!$G:$P,10,FALSE)","v":"0332初中、小学音乐组"},"小学音乐","沈阳市铁西区应昌小学大明湖分校（西门）","0332初中、小学音乐组","7月12日6：40-7：10"]
[433,"沈阳市铁西区勋望小学景星分校","小学音乐教师","03143","杨寓涵","0101350105",99.52,{"$f":"VLOOKUP(D436:D1612,[1]按组排列版!$G:$P,10,FALSE)","v":"0332初中、小学音乐组"},"小学音乐","沈阳市铁西区应昌小学大明湖分校（西门）","0332初中、小学音乐组","7月12日6：40-7：10"]
[434,"沈阳市铁西区勋望小学景星分校","小学音乐教师","03143","李思琪","0101340310",95.48,{"$f":"VLOOKUP(D437:D1613,[1]按组排列版!$G:$P,10,FALSE)","v":"0332初中、小学音乐组"},"小学音乐","沈阳市铁西区应昌小学大明湖分校（西门）","0332初中、小学音乐组","7月12日6：40-7：10"]
[435,"沈阳市铁西区勋望小学景星分校","小学音乐教师","03144","徐姗姗","0101420512",97.53,{"$f":"VLOOKUP(D438:D1614,[1]按组排列版!$G:$P,10,FALSE)","v":"0332初中、小学音乐组"},"小学音乐","沈阳市铁西区应昌小学大明湖分校（西门）","0332初中、小学音乐组","7月12日11：40-12：10"]
[436,"沈阳市铁西区勋望小学景星分校","小学音乐教师","03144","田甜","0101432118",83.46,{"$f":"VLOOKUP(D439:D1615,[1]按组排列版!$G:$P,10,FALSE)","v":"0332初中、小学音乐组"},"小学音乐","沈阳市铁西区应昌小学大明湖分校（西门）","0332初中、小学音乐组","7月12日11：40-12：10"]
[437,"沈阳市铁西区勋望小学景星分校","小学美术教师","03145","高佳妍","0101371008",111.72,{"$f":"VLOOKUP(D440:D1616,[1]按组排列版!$G:$P,10,FALSE)","v":"0322初中、小学美术组"},"小学美术","沈阳市铁西区应昌小学大明湖分校（西门）","0322初中、小学美术组","7月12日11：40-12：10"]
[438,"沈阳市铁西区勋望小学景星分校","小学美术教师","03145","杨帆","0101572529",105.87,{"$f":"VLOOKUP(D441:D1617,[1]按组排列版!$G:$P,10,FALSE)","v":"0322初中、小学美术组"},"小学美术","沈阳市铁西区应昌小学大明湖分校（西门）","0322初中、小学美术组","7月12日11：40-12：10"]
[439,"沈阳市铁西区勋望小学景星分校","小学美术教师","03145","李卓盈","0101501720",104.88,{"$f":"VLOOKUP(D442:D1618,[1]按组排列版!$G:$P,10,FALSE)","v":"0322初中、小学美术组"},"小学美术","沈阳市铁西区应昌小学大明湖分校（西门）","0322初中、小学美术组","7月12日11：40-12：10"]
[440,"沈阳市铁西区勋望小学景星分校","小学美术教师","03146","张淼","0101260423",106.81,{"$f":"VLOOKUP(D443:D1619,[1]按组排列版!$G:$P,10,FALSE)","v":"0322初中、小学美术组"},"小学美术","沈阳市铁西区应昌小学大明湖分校（西门）","0322初中、小学美术组","7月12日11：40-12：10"]
[441,"沈阳市铁西区勋望小学景星分校","小学美术教师","03146","王芳","0101281810",97.44,{"$f":"VLOOKUP(D444:D1620,[1]按组排列版!$G:$P,10,FALSE)","v":"0322初中、小学美术组"},"小学美术","沈阳市铁西区应昌小学大明湖分校（西门）","0322初中、小学美术组","7月12日11：40-12：10"]
[442,"沈阳市铁西区勋望小学景星分校","小学美术教师","03146","袁天赦","0101432316",97.14,{"$f":"VLOOKUP(D445:D1621,[1]按组排列版!$G:$P,10,FALSE)","v":"0322初中、小学美术组"},"小学美术","沈阳市铁西区应昌小学大明湖分校（西门）","0322初中、小学美术组","7月12日11：40-12：10"]
[443,"沈阳市铁西区勋望小学景星分校","小学科学教师","03147","张彤","0101441113",116.1,{"$f":"VLOOKUP(D446:D1622,[1]按组排列版!$G:$P,10,FALSE)","v":"0335小学科学组"},"小学科学","沈阳市铁西区应昌小学大明湖分校（西门）","0335小学科学组","7月12日6：40-7：10"]
[444,"沈阳市铁西区勋望小学景星分校","小学科学教师","03147","袁芳","0101380306",110.88,{"$f":"VLOOKUP(D447:D1623,[1]按组排列版!$G:$P,10,FALSE)","v":"0335小学科学组"},"小学科学","沈阳市铁西区应昌小学大明湖分校（西门）","0335小学科学组","7月12日6：40-7：10"]
[445,"沈阳市铁西区勋望小学景星分校","小学科学教师","03147","刘士艳","0101441620",106.99,{"$f":"VLOOKUP(D448:D1624,[1]按组排列版!$G:$P,10,FALSE)","v":"0335小学科学组"},"小学科学","沈阳市铁西区应昌小学大明湖分校（西门）","0335小学科学组","7月12日6：40-7：10"]
[446,"沈阳市铁西区勋望小学景星分校","小学信息技术教师","03148","唐惠","0101231417",109.42,{"$f":"VLOOKUP(D449:D1625,[1]按组排列版!$G:$P,10,FALSE)","v":"0336小学信息技术1组"},"小学信息技术","沈阳市铁西区应昌小学大明湖分校（西门）","0336小学信息技术1组","7月12日6：40-7：10"]
[447,"沈阳市铁西区勋望小学景星分校","小学信息技术教师","03148","张靖淼","0101480130",102.97,{"$f":"VLOOKUP(D450:D1626,[1]按组排列版!$G:$P,10,FALSE)","v":"0336小学信息技术1组"},"小学信息技术","沈阳市铁西区应昌小学大明湖分校（西门）","0336小学信息技术1组","7月12日6：40-7：10"]
[448,"沈阳市铁西区勋望小学景星分校","小学信息技术教师","03148","李思莹","0101490314",98.1,{"$f":"VLOOKUP(D451:D1627,[1]按组排列版!$G:$P,10,FALSE)","v":"0336小学信息技术1组"},"小学信息技术","沈阳市铁西区应昌小学大明湖分校（西门）","0336小学信息技术1组","7月12日6：40-7：10"]
[449,"沈阳市铁西区勋望小学云峰分校","小学语数教师","03149","田中辰","0101262611",113.05,{"$f":"VLOOKUP(D452:D1628,[1]按组排列版!$G:$P,10,FALSE)","v":"0303小学语数3组"},"小学语数","沈阳市铁西区应昌小学大明湖分校（西门）","0303小学语数3组","7月11日6：40-7：10"]
[450,"沈阳市铁西区勋望小学云峰分校","小学语数教师","03149","朱晓丹","0101540502",112.94,{"$f":"VLOOKUP(D453:D1629,[1]按组排列版!$G:$P,10,FALSE)","v":"0303小学语数3组"},"小学语数","沈阳市铁西区应昌小学大明湖分校（西门）","0303小学语数3组","7月11日6：40-7：10"]
[451,"沈阳市铁西区勋望小学云峰分校","小学语数教师","03149","张芷乔","0101330808",104.27,{"$f":"VLOOKUP(D454:D1630,[1]按组排列版!$G:$P,10,FALSE)","v":"0303小学语数3组"},"小学语数","沈阳市铁西区应昌小学大明湖分校（西门）","0303小学语数3组","7月11日6：40-7：10"]
[452,"沈阳市铁西区勋望小学云峰分校","小学语数教师","03149","朱妍","0101541105",101.82,{"$f":"VLOOKUP(D455:D1631,[1]按组排列版!$G:$P,10,FALSE)","v":"0303小学语数3组"},"小学语数","沈阳市铁西区应昌小学大明湖分校（西门）","0303小学语数3组","7月11日6：40-7：10"]
[453,"沈阳市铁西区勋望小学云峰分校","小学语数教师","03149","暴梦梦","0101360225",98.12,{"$f":"VLOOKUP(D456:D1632,[1]按组排列版!$G:$P,10,FALSE)","v":"0303小学语数3组"},"小学语数","沈阳市铁西区应昌小学大明湖分校（西门）","0303小学语数3组","7月11日6：40-7：10"]
[454,"沈阳市铁西区勋望小学云峰分校","小学语数教师","03149","于淼淼","0101240505",97.47,{"$f":"VLOOKUP(D457:D1633,[1]按组排列版!$G:$P,10,FALSE)","v":"0303小学语数3组"},"小学语数","沈阳市铁西区应昌小学大明湖分校（西门）","0303小学语数3组","7月11日6：40-7：10"]
[455,"沈阳市铁西区勋望小学云峰分校","小学语数教师","03150","张博硕","0101250120",109.96,{"$f":"VLOOKUP(D458:D1634,[1]按组排列版!$G:$P,10,FALSE)","v":"0303小学语数3组"},"小学语数","沈阳市铁西区应昌小学大明湖分校（西门）","0303小学语数3组","7月11日11：40-12：10"]
[456,"沈阳市铁西区勋望小学云峰分校","小学语数教师","03150","姚琳","0101340408",94.06,{"$f":"VLOOKUP(D459:D1635,[1]按组排列版!$G:$P,10,FALSE)","v":"0303小学语数3组"},"小学语数","沈阳市铁西区应昌小学大明湖分校（西门）","0303小学语数3组","7月11日11：40-12：10"]
[457,"沈阳市铁西区勋望小学云峰分校","小学英语教师","03151","王月彤","0101241208",114.22,{"$f":"VLOOKUP(D460:D1636,[1]按组排列版!$G:$P,10,FALSE)","v":"0318小学英语1组"},"小学英语","沈阳市铁西区应昌小学大明湖分校（西门）","0318小学英语1组","7月11日11：40-12：10"]
[458,"沈阳市铁西区勋望小学云峰分校","小学英语教师","03151","王婧琦","0101552217",112.8,{"$f":"VLOOKUP(D461:D1637,[1]按组排列版!$G:$P,10,FALSE)","v":"0318小学英语1组"},"小学英语","沈阳市铁西区应昌小学大明湖分校（西门）","0318小学英语1组","7月11日11：40-12：10"]
[459,"沈阳市铁西区勋望小学云峰分校","小学英语教师","03151","许馨予","0101460207",111.86,{"$f":"VLOOKUP(D462:D1638,[1]按组排列版!$G:$P,10,FALSE)","v":"0318小学英语1组"},"小学英语","沈阳市铁西区应昌小学大明湖分校（西门）","0318小学英语1组","7月11日11：40-12：10"]
[460,"沈阳市铁西区勋望小学云峰分校","小学英语教师","03152","张人文","0101432120",110.62,{"$f":"VLOOKUP(D463:D1639,[1]按组排列版!$G:$P,10,FALSE)","v":"0318小学英语1组"},"小学英语","沈阳市铁西区应昌小学大明湖分校（西门）","0318小学英语1组","7月11日11：40-12：10"]
[461,"沈阳市铁西区勋望小学云峰分校","小学英语教师","03152","柴筱婷","0101531009",107.76,{"$f":"VLOOKUP(D464:D1640,[1]按组排列版!$G:$P,10,FALSE)","v":"0318小学英语1组"},"小学英语","沈阳市铁西区应昌小学大明湖分校（西门）","0318小学英语1组","7月11日11：40-12：10"]
[462,"沈阳市铁西区勋望小学云峰分校","小学英语教师","03152","康林","0101431814",107.75,{"$f":"VLOOKUP(D465:D1641,[1]按组排列版!$G:$P,10,FALSE)","v":"0318小学英语1组"},"小学英语","沈阳市铁西区应昌小学大明湖分校（西门）","0318小学英语1组","7月11日11：40-12：10"]
[463,"沈阳市铁西区勋望小学云峰分校","小学体育教师","03153","赫佳丽","0101331127",89.7,{"$f":"VLOOKUP(D466:D1642,[1]按组排列版!$G:$P,10,FALSE)","v":"0328小学体育2组"},"小学体育","沈阳市铁西区应昌小学大明湖分校（西门）","0328小学体育2组","7月12日6：40-7：10"]
[464,"沈阳市铁西区勋望小学云峰分校","小学体育教师","03153","杜峰","0101562219",86.85,{"$f":"VLOOKUP(D467:D1643,[1]按组排列版!$G:$P,10,FALSE)","v":"0328小学体育2组"},"小学体育","沈阳市铁西区应昌小学大明湖分校（西门）","0328小学体育2组","7月12日6：40-7：10"]
[465,"沈阳市铁西区勋望小学云峰分校","小学体育教师","03153","马锐","0101410815",82.81,{"$f":"VLOOKUP(D468:D1644,[1]按组排列版!$G:$P,10,FALSE)","v":"0328小学体育2组"},"小学体育","沈阳市铁西区应昌小学大明湖分校（西门）","0328小学体育2组","7月12日6：40-7：10"]
[466,"沈阳市铁西区勋望小学云峰分校","小学体育教师","03154","李新","0101440717",103.41,{"$f":"VLOOKUP(D469:D1645,[1]按组排列版!$G:$P,10,FALSE)","v":"0328小学体育2组"},"小学体育","沈阳市铁西区应昌小学大明湖分校（西门）","0328小学体育2组","7月12日6：40-7：10"]
[467,"沈阳市铁西区勋望小学云峰分校","小学体育教师","03154","于博","0101351619",91.67,{"$f":"VLOOKUP(D470:D1646,[1]按组排列版!$G:$P,10,FALSE)","v":"0328小学体育2组"},"小学体育","沈阳市铁西区应昌小学大明湖分校（西门）","0328小学体育2组","7月12日6：40-7：10"]
[468,"沈阳市铁西区勋望小学云峰分校","小学体育教师","03154","彭博","0101350222",77.78,{"$f":"VLOOKUP(D471:D1647,[1]按组排列版!$G:$P,10,FALSE)","v":"0328小学体育2组"},"小学体育","沈阳市铁西区应昌小学大明湖分校（西门）","0328小学体育2组","7月12日6：40-7：10"]
[469,"沈阳市铁西区勋望小学云峰分校","小学音乐教师","03155","谢东辰","0101351125",105.56,{"$f":"VLOOKUP(D472:D1648,[1]按组排列版!$G:$P,10,FALSE)","v":"0332初中、小学音乐组"},"小学音乐","沈阳市铁西区应昌小学大明湖分校（西门）","0332初中、小学音乐组","7月12日11：40-12：10"]
[470,"沈阳市铁西区勋望小学云峰分校","小学音乐教师","03155","杨秋泊","0101460806",105.45,{"$f":"VLOOKUP(D473:D1649,[1]按组排列版!$G:$P,10,FALSE)","v":"0332初中、小学音乐组"},"小学音乐","沈阳市铁西区应昌小学大明湖分校（西门）","0332初中、小学音乐组","7月12日11：40-12：10"]
[471,"沈阳市铁西区勋望小学云峰分校","小学音乐教师","03155","赵乐乐","0101280517",105.29,{"$f":"VLOOKUP(D474:D1650,[1]按组排列版!$G:$P,10,FALSE)","v":"0332初中、小学音乐组"},"小学音乐","沈阳市铁西区应昌小学大明湖分校（西门）","0332初中、小学音乐组","7月12日11：40-12：10"]
[472,"沈阳市铁西区勋望小学云峰分校","小学音乐教师","03155","王小晴","0101381226",101.88,{"$f":"VLOOKUP(D475:D1651,[1]按组排列版!$G:$P,10,FALSE)","v":"0332初中、小学音乐组"},"小学音乐","沈阳市铁西区应昌小学大明湖分校（西门）","0332初中、小学音乐组","7月12日11：40-12：10"]
[473,"沈阳市铁西区勋望小学云峰分校","小学音乐教师","03155","汤淼","0101390306",99.52,{"$f":"VLOOKUP(D476:D1652,[1]按组排列版!$G:$P,10,FALSE)","v":"0332初中、小学音乐组"},"小学音乐","沈阳市铁西区应昌小学大明湖分校（西门）","0332初中、小学音乐组","7月12日11：40-12：10"]
[474,"沈阳市铁西区勋望小学云峰分校","小学音乐教师","03155","赵雪兵","0101520917",97.36,{"$f":"VLOOKUP(D477:D1653,[1]按组排列版!$G:$P,10,FALSE)","v":"0332初中、小学音乐组"},"小学音乐","沈阳市铁西区应昌小学大明湖分校（西门）","0332初中、小学音乐组","7月12日11：40-12：10"]
[475,"沈阳市铁西区勋望小学云峰分校","小学音乐教师","03156","赵若菲","0101431227",98.39,{"$f":"VLOOKUP(D478:D1654,[1]按组排列版!$G:$P,10,FALSE)","v":"0332初中、小学音乐组"},"小学音乐","沈阳市铁西区应昌小学大明湖分校（西门）","0332初中、小学音乐组","7月12日11：40-12：10"]
[476,"沈阳市铁西区勋望小学云峰分校","小学音乐教师","03156","李思寰","0101440816",96.38,{"$f":"VLOOKUP(D479:D1655,[1]按组排列版!$G:$P,10,FALSE)","v":"0332初中、小学音乐组"},"小学音乐","沈阳市铁西区应昌小学大明湖分校（西门）","0332初中、小学音乐组","7月12日11：40-12：10"]
[477,"沈阳市铁西区勋望小学云峰分校","小学音乐教师","03156","张实蕊","0101521003",96.12,{"$f":"VLOOKUP(D480:D1656,[1]按组排列版!$G:$P,10,FALSE)","v":"0332初中、小学音乐组"},"小学音乐","沈阳市铁西区应昌小学大明湖分校（西门）","0332初中、小学音乐组","7月12日11：40-12：10"]
[478,"沈阳市铁西区勋望小学云峰分校","小学美术教师","03157","刘霖","0101391229",104.95,{"$f":"VLOOKUP(D481:D1657,[1]按组排列版!$G:$P,10,FALSE)","v":"0323小学美术1组"},"小学美术","沈阳市铁西区应昌小学大明湖分校（西门）","0323小学美术1组","7月12日6：40-7：10"]
[479,"沈阳市铁西区勋望小学云峰分校","小学美术教师","03157","吕芷萱","0101261823",104.5,{"$f":"VLOOKUP(D482:D1658,[1]按组排列版!$G:$P,10,FALSE)","v":"0323小学美术1组"},"小学美术","沈阳市铁西区应昌小学大明湖分校（西门）","0323小学美术1组","7月12日6：40-7：10"]
[480,"沈阳市铁西区勋望小学云峰分校","小学美术教师","03157","兆思摇","0101480406",101.9,{"$f":"VLOOKUP(D483:D1659,[1]按组排列版!$G:$P,10,FALSE)","v":"0323小学美术1组"},"小学美术","沈阳市铁西区应昌小学大明湖分校（西门）","0323小学美术1组","7月12日6：40-7：10"]
[481,"沈阳市铁西区勋望小学云峰分校","小学美术教师","03158","许博祎","0101460526",115.23,{"$f":"VLOOKUP(D484:D1660,[1]按组排列版!$G:$P,10,FALSE)","v":"0323小学美术1组"},"小学美术","沈阳市铁西区应昌小学大明湖分校（西门）","0323小学美术1组","7月12日6：40-7：10"]
[482,"沈阳市铁西区勋望小学云峰分校","小学美术教师","03158","高佳宁","0101480330",91.16,{"$f":"VLOOKUP(D485:D1661,[1]按组排列版!$G:$P,10,FALSE)","v":"0323小学美术1组"},"小学美术","沈阳市铁西区应昌小学大明湖分校（西门）","0323小学美术1组","7月12日6：40-7：10"]
[483,"沈阳市铁西区勋望小学云峰分校","小学美术教师","03158","张唯","0101491619",88.78,{"$f":"VLOOKUP(D486:D1662,[1]按组排列版!$G:$P,10,FALSE)","v":"0323小学美术1组"},"小学美术","沈阳市铁西区应昌小学大明湖分校（西门）","0323小学美术1组","7月12日6：40-7：10"]
[484,"沈阳市铁西区勋望小学云峰分校","小学信息技术教师","03159","刘研","0101281121",104.9,{"$f":"VLOOKUP(D487:D1663,[1]按组排列版!$G:$P,10,FALSE)","v":"0336小学信息技术1组"},"小学信息技术","沈阳市铁西区应昌小学大明湖分校（西门）","0336小学信息技术1组","7月12日6：40-7：10"]
[485,"沈阳市铁西区勋望小学云峰分校","小学信息技术教师","03159","吴昊","0101510105",103.05,{"$f":"VLOOKUP(D488:D1664,[1]按组排列版!$G:$P,10,FALSE)","v":"0336小学信息技术1组"},"小学信息技术","沈阳市铁西区应昌小学大明湖分校（西门）","0336小学信息技术1组","7月12日6：40-7：10"]
[486,"沈阳市铁西区勋望小学云峰分校","小学信息技术教师","03159","于宛平","0101572614",99.69,{"$f":"VLOOKUP(D489:D1665,[1]按组排列版!$G:$P,10,FALSE)","v":"0336小学信息技术1组"},"小学信息技术","沈阳市铁西区应昌小学大明湖分校（西门）","0336小学信息技术1组","7月12日6：40-7：10"]
[487,"沈阳市铁西区勋望小学沈辽路分校","小学英语教师","03160","丛乾","0101491816",110.03,{"$f":"VLOOKUP(D490:D1666,[1]按组排列版!$G:$P,10,FALSE)","v":"0318小学英语1组"},"小学英语","沈阳市铁西区应昌小学大明湖分校（西门）","0318小学英语1组","7月11日11：40-12：10"]
[488,"沈阳市铁西区勋望小学沈辽路分校","小学英语教师","03160","黄丹","0101331126",107.07,{"$f":"VLOOKUP(D491:D1667,[1]按组排列版!$G:$P,10,FALSE)","v":"0318小学英语1组"},"小学英语","沈阳市铁西区应昌小学大明湖分校（西门）","0318小学英语1组","7月11日11：40-12：10"]
[489,"沈阳市铁西区勋望小学沈辽路分校","小学英语教师","03160","王莉","0101490522",105.58,{"$f":"VLOOKUP(D492:D1668,[1]按组排列版!$G:$P,10,FALSE)","v":"0318小学英语1组"},"小学英语","沈阳市铁西区应昌小学大明湖分校（西门）","0318小学英语1组","7月11日11：40-12：10"]
[490,"沈阳市铁西区勋望小学沈辽路分校","小学美术教师","03161","郭蔓仪","0101451526",113.86,{"$f":"VLOOKUP(D493:D1669,[1]按组排列版!$G:$P,10,FALSE)","v":"0323小学美术1组"},"小学美术","沈阳市铁西区应昌小学大明湖分校（西门）","0323小学美术1组","7月12日6：40-7：10"]
[491,"沈阳市铁西区勋望小学沈辽路分校","小学美术教师","03161","李沛桐","0101370815",109.17,{"$f":"VLOOKUP(D494:D1670,[1]按组排列版!$G:$P,10,FALSE)","v":"0323小学美术1组"},"小学美术","沈阳市铁西区应昌小学大明湖分校（西门）","0323小学美术1组","7月12日6：40-7：10"]
[492,"沈阳市铁西区勋望小学沈辽路分校","小学美术教师","03161","肖怡理","0101420420",108.57,{"$f":"VLOOKUP(D495:D1671,[1]按组排列版!$G:$P,10,FALSE)","v":"0323小学美术1组"},"小学美术","沈阳市铁西区应昌小学大明湖分校（西门）","0323小学美术1组","7月12日6：40-7：10"]
[493,"沈阳市铁西区勋望小学沈辽路分校","小学美术教师","03162","魏婷婷","0101280529",101.35,{"$f":"VLOOKUP(D496:D1672,[1]按组排列版!$G:$P,10,FALSE)","v":"0323小学美术1组"},"小学美术","沈阳市铁西区应昌小学大明湖分校（西门）","0323小学美术1组","7月12日6：40-7：10"]
[494,"沈阳市铁西区勋望小学沈辽路分校","小学美术教师","03162","殷博涵","0101450514",98.58,{"$f":"VLOOKUP(D497:D1673,[1]按组排列版!$G:$P,10,FALSE)","v":"0323小学美术1组"},"小学美术","沈阳市铁西区应昌小学大明湖分校（西门）","0323小学美术1组","7月12日6：40-7：10"]
[495,"沈阳市铁西区勋望小学沈辽路分校","小学美术教师","03162","赵羡睿","0101431406",91.68,{"$f":"VLOOKUP(D498:D1674,[1]按组排列版!$G:$P,10,FALSE)","v":"0323小学美术1组"},"小学美术","沈阳市铁西区应昌小学大明湖分校（西门）","0323小学美术1组","7月12日6：40-7：10"]
[496,"沈阳市铁西区勋望小学沈辽路分校","小学体育教师","03163","马宁","0101390723",94.14,{"$f":"VLOOKUP(D499:D1675,[1]按组排列版!$G:$P,10,FALSE)","v":"0328小学体育2组"},"小学体育","沈阳市铁西区应昌小学大明湖分校（西门）","0328小学体育2组","7月12日6：40-7：10"]
[497,"沈阳市铁西区勋望小学沈辽路分校","小学体育教师","03163","高文龙","0101551906",91.27,{"$f":"VLOOKUP(D500:D1676,[1]按组排列版!$G:$P,10,FALSE)","v":"0328小学体育2组"},"小学体育","沈阳市铁西区应昌小学大明湖分校（西门）","0328小学体育2组","7月12日6：40-7：10"]
[498,"沈阳市铁西区勋望小学沈辽路分校","小学体育教师","03163","祖爽","0101250225",88.16,{"$f":"VLOOKUP(D501:D1677,[1]按组排列版!$G:$P,10,FALSE)","v":"0328小学体育2组"},"小学体育","沈阳市铁西区应昌小学大明湖分校（西门）","0328小学体育2组","7月12日6：40-7：10"]
[499,"沈阳市铁西区勋望小学沈辽路分校","小学信息技术教师","03164","闵萧莹","0101430701",110.72,{"$f":"VLOOKUP(D502:D1678,[1]按组排列版!$G:$P,10,FALSE)","v":"0336小学信息技术1组"},"小学信息技术","沈阳市铁西区应昌小学大明湖分校（西门）","0336小学信息技术1组","7月12日11：40-12：10"]
[500,"沈阳市铁西区勋望小学沈辽路分校","小学信息技术教师","03164","许琳","0101490201",109.55,{"$f":"VLOOKUP(D503:D1679,[1]按组排列版!$G:$P,10,FALSE)","v":"0336小学信息技术1组"},"小学信息技术","沈阳市铁西区应昌小学大明湖分校（西门）","0336小学信息技术1组","7月12日11：40-12：10"]
[501,"沈阳市铁西区勋望小学沈辽路分校","小学信息技术教师","03164","梁羽","0101432327",107.16,{"$f":"VLOOKUP(D504:D1680,[1]按组排列版!$G:$P,10,FALSE)","v":"0336小学信息技术1组"},"小学信息技术","沈阳市铁西区应昌小学大明湖分校（西门）","0336小学信息技术1组","7月12日11：40-12：10"]
[502,"沈阳市铁西区勋望小学兴顺分校","小学语数教师","03165","敬焱","0101250315",115.19,{"$f":"VLOOKUP(D505:D1681,[1]按组排列版!$G:$P,10,FALSE)","v":"0303小学语数3组"},"小学语数","沈阳市铁西区应昌小学大明湖分校（西门）","0303小学语数3组","7月11日11：40-12：10"]
[503,"沈阳市铁西区勋望小学兴顺分校","小学语数教师","03165","王优婷","0101250417",114.96,{"$f":"VLOOKUP(D506:D1682,[1]按组排列版!$G:$P,10,FALSE)","v":"0303小学语数3组"},"小学语数","沈阳市铁西区应昌小学大明湖分校（西门）","0303小学语数3组","7月11日11：40-12：10"]
[504,"沈阳市铁西区勋望小学兴顺分校","小学语数教师","03165","杜鹏","0101571725",111.24,{"$f":"VLOOKUP(D507:D1683,[1]按组排列版!$G:$P,10,FALSE)","v":"0303小学语数3组"},"小学语数","沈阳市铁西区应昌小学大明湖分校（西门）","0303小学语数3组","7月11日11：40-12：10"]
[505,"沈阳市铁西区勋望小学兴顺分校","小学语数教师","03165","杨翼嘉","0101321524",108.15,{"$f":"VLOOKUP(D508:D1684,[1]按组排列版!$G:$P,10,FALSE)","v":"0303小学语数3组"},"小学语数","沈阳市铁西区应昌小学大明湖分校（西门）","0303小学语数3组","7月11日11：40-12：10"]
[506,"沈阳市铁西区勋望小学兴顺分校","小学语数教师","03165","张渝湘","0101550618",107.05,{"$f":"VLOOKUP(D509:D1685,[1]按组排列版!$G:$P,10,FALSE)","v":"0303小学语数3组"},"小学语数","沈阳市铁西区应昌小学大明湖分校（西门）","0303小学语数3组","7月11日11：40-12：10"]
[507,"沈阳市铁西区勋望小学兴顺分校","小学语数教师","03165","徐晨","0101500508",106.34,{"$f":"VLOOKUP(D510:D1686,[1]按组排列版!$G:$P,10,FALSE)","v":"0303小学语数3组"},"小学语数","沈阳市铁西区应昌小学大明湖分校（西门）","0303小学语数3组","7月11日11：40-12：10"]
[508,"沈阳市铁西区勋望小学兴顺分校","小学语数教师","03165","吕昕泽","0101350414",103.01,{"$f":"VLOOKUP(D511:D1687,[1]按组排列版!$G:$P,10,FALSE)","v":"0303小学语数3组"},"小学语数","沈阳市铁西区应昌小学大明湖分校（西门）","0303小学语数3组","7月11日11：40-12：10"]
[509,"沈阳市铁西区勋望小学兴顺分校","小学语数教师","03165","李雨潼","0101230912",102.04,{"$f":"VLOOKUP(D512:D1688,[1]按组排列版!$G:$P,10,FALSE)","v":"0303小学语数3组"},"小学语数","沈阳市铁西区应昌小学大明湖分校（西门）","0303小学语数3组","7月11日11：40-12：10"]
[510,"沈阳市铁西区勋望小学兴顺分校","小学语数教师","03165","公思媛","0101281608",101.84,{"$f":"VLOOKUP(D513:D1689,[1]按组排列版!$G:$P,10,FALSE)","v":"0303小学语数3组"},"小学语数","沈阳市铁西区应昌小学大明湖分校（西门）","0303小学语数3组","7月11日11：40-12：10"]
[511,"沈阳市铁西区勋望小学兴顺分校","小学语数教师","03165","邓博浩","0101241226",100.8,{"$f":"VLOOKUP(D514:D1690,[1]按组排列版!$G:$P,10,FALSE)","v":"0303小学语数3组"},"小学语数","沈阳市铁西区应昌小学大明湖分校（西门）","0303小学语数3组","7月11日11：40-12：10"]
[512,"沈阳市铁西区勋望小学兴顺分校","小学语数教师","03165","张玺悦","0101521720",100.63,{"$f":"VLOOKUP(D515:D1691,[1]按组排列版!$G:$P,10,FALSE)","v":"0303小学语数3组"},"小学语数","沈阳市铁西区应昌小学大明湖分校（西门）","0303小学语数3组","7月11日11：40-12：10"]
[513,"沈阳市铁西区勋望小学兴顺分校","小学语数教师","03165","张文权","0101501402",100.14,{"$f":"VLOOKUP(D516:D1692,[1]按组排列版!$G:$P,10,FALSE)","v":"0303小学语数3组"},"小学语数","沈阳市铁西区应昌小学大明湖分校（西门）","0303小学语数3组","7月11日11：40-12：10"]
[514,"沈阳市铁西区勋望小学","小学语数教师","03166","王冠宇","0101340327",110.86,{"$f":"VLOOKUP(D517:D1693,[1]按组排列版!$G:$P,10,FALSE)","v":"0303小学语数3组"},"小学语数","沈阳市铁西区应昌小学大明湖分校（西门）","0303小学语数3组","7月11日11：40-12：10"]
[515,"沈阳市铁西区勋望小学","小学语数教师","03166","冯健","0101441610",107.87,{"$f":"VLOOKUP(D518:D1694,[1]按组排列版!$G:$P,10,FALSE)","v":"0303小学语数3组"},"小学语数","沈阳市铁西区应昌小学大明湖分校（西门）","0303小学语数3组","7月11日11：40-12：10"]
[516,"沈阳市铁西区勋望小学","小学语数教师","03166","闫家茹","0101432114",106.41,{"$f":"VLOOKUP(D519:D1695,[1]按组排列版!$G:$P,10,FALSE)","v":"0303小学语数3组"},"小学语数","沈阳市铁西区应昌小学大明湖分校（西门）","0303小学语数3组","7月11日11：40-12：10"]
[517,"沈阳市铁西区勋望小学","小学体育教师","03167","谭笑","0101431920",94.12,{"$f":"VLOOKUP(D520:D1696,[1]按组排列版!$G:$P,10,FALSE)","v":"0328小学体育2组"},"小学体育","沈阳市铁西区应昌小学大明湖分校（西门）","0328小学体育2组","7月12日6：40-7：10"]
[518,"沈阳市铁西区勋望小学","小学体育教师","03167","刘舒博","0101331311",84.84,{"$f":"VLOOKUP(D521:D1697,[1]按组排列版!$G:$P,10,FALSE)","v":"0328小学体育2组"},"小学体育","沈阳市铁西区应昌小学大明湖分校（西门）","0328小学体育2组","7月12日6：40-7：10"]
[519,"沈阳市铁西区勋望小学","小学体育教师","03167","戴明华","0101431117",69.61,{"$f":"VLOOKUP(D522:D1698,[1]按组排列版!$G:$P,10,FALSE)","v":"0328小学体育2组"},"小学体育","沈阳市铁西区应昌小学大明湖分校（西门）","0328小学体育2组","7月12日6：40-7：10"]
[520,"沈阳市铁西区勋望小学","小学音乐教师","03168","李佳","0101511025",90.38,{"$f":"VLOOKUP(D523:D1699,[1]按组排列版!$G:$P,10,FALSE)","v":"0332初中、小学音乐组"},"小学音乐","沈阳市铁西区应昌小学大明湖分校（西门）","0332初中、小学音乐组","7月12日11：40-12：10"]
[521,"沈阳市铁西区勋望小学","小学音乐教师","03168","崔艺桓","0101351225",89.46,{"$f":"VLOOKUP(D524:D1700,[1]按组排列版!$G:$P,10,FALSE)","v":"0332初中、小学音乐组"},"小学音乐","沈阳市铁西区应昌小学大明湖分校（西门）","0332初中、小学音乐组","7月12日11：40-12：10"]
[522,"沈阳市铁西区勋望小学","小学音乐教师","03168","陆畅","0101431113",84.8,{"$f":"VLOOKUP(D525:D1701,[1]按组排列版!$G:$P,10,FALSE)","v":"0332初中、小学音乐组"},"小学音乐","沈阳市铁西区应昌小学大明湖分校（西门）","0332初中、小学音乐组","7月12日11：40-12：10"]
[523,"沈阳市铁西区启工街第二小学","小学语数教师","03169","李雪松","0101541809",114.18,{"$f":"VLOOKUP(D526:D1702,[1]按组排列版!$G:$P,10,FALSE)","v":"0304小学语数4组"},"小学语数","沈阳市铁西区应昌小学大明湖分校（西门）","0304小学语数4组","7月11日6：40-7：10"]
[524,"沈阳市铁西区启工街第二小学","小学语数教师","03169","李贺","0101381110",108.68,{"$f":"VLOOKUP(D527:D1703,[1]按组排列版!$G:$P,10,FALSE)","v":"0304小学语数4组"},"小学语数","沈阳市铁西区应昌小学大明湖分校（西门）","0304小学语数4组","7月11日6：40-7：10"]
[525,"沈阳市铁西区启工街第二小学","小学语数教师","03169","王静宜","0101540524",108.19,{"$f":"VLOOKUP(D528:D1704,[1]按组排列版!$G:$P,10,FALSE)","v":"0304小学语数4组"},"小学语数","沈阳市铁西区应昌小学大明湖分校（西门）","0304小学语数4组","7月11日6：40-7：10"]
[526,"沈阳市铁西区启工街第二小学","小学语数教师","03169","李泓睿","0101560622",106.52,{"$f":"VLOOKUP(D529:D1705,[1]按组排列版!$G:$P,10,FALSE)","v":"0304小学语数4组"},"小学语数","沈阳市铁西区应昌小学大明湖分校（西门）","0304小学语数4组","7月11日6：40-7：10"]
[527,"沈阳市铁西区启工街第二小学","小学语数教师","03169","张欣欣","0101291328",104.72,{"$f":"VLOOKUP(D530:D1706,[1]按组排列版!$G:$P,10,FALSE)","v":"0304小学语数4组"},"小学语数","沈阳市铁西区应昌小学大明湖分校（西门）","0304小学语数4组","7月11日6：40-7：10"]
[528,"沈阳市铁西区启工街第二小学","小学语数教师","03169","彭润琦","0101271804",97.3,{"$f":"VLOOKUP(D531:D1707,[1]按组排列版!$G:$P,10,FALSE)","v":"0304小学语数4组"},"小学语数","沈阳市铁西区应昌小学大明湖分校（西门）","0304小学语数4组","7月11日6：40-7：10"]
[529,"沈阳市铁西区启工街第二小学","小学体育教师","03170","李檬","0101450230",102.55,{"$f":"VLOOKUP(D532:D1708,[1]按组排列版!$G:$P,10,FALSE)","v":"0328小学体育2组"},"小学体育","沈阳市铁西区应昌小学大明湖分校（西门）","0328小学体育2组","7月12日6：40-7：10"]
[530,"沈阳市铁西区启工街第二小学","小学体育教师","03170","孙策","0101440808",97.23,{"$f":"VLOOKUP(D533:D1709,[1]按组排列版!$G:$P,10,FALSE)","v":"0328小学体育2组"},"小学体育","沈阳市铁西区应昌小学大明湖分校（西门）","0328小学体育2组","7月12日6：40-7：10"]
[531,"沈阳市铁西区启工街第二小学","小学体育教师","03170","蒙子龙","0101431724",89.66,{"$f":"VLOOKUP(D534:D1710,[1]按组排列版!$G:$P,10,FALSE)","v":"0328小学体育2组"},"小学体育","沈阳市铁西区应昌小学大明湖分校（西门）","0328小学体育2组","7月12日6：40-7：10"]
[532,"沈阳市铁西区启工街第二小学","小学体育教师","03171","邓宇","0101502022",102.46,{"$f":"VLOOKUP(D535:D1711,[1]按组排列版!$G:$P,10,FALSE)","v":"0328小学体育2组"},"小学体育","沈阳市铁西区应昌小学大明湖分校（西门）","0328小学体育2组","7月12日11：40-12：10"]
[533,"沈阳市铁西区启工街第二小学","小学体育教师","03171","马晓婷","0101311510",93.87,{"$f":"VLOOKUP(D536:D1712,[1]按组排列版!$G:$P,10,FALSE)","v":"0328小学体育2组"},"小学体育","沈阳市铁西区应昌小学大明湖分校（西门）","0328小学体育2组","7月12日11：40-12：10"]
[534,"沈阳市铁西区启工街第二小学","小学体育教师","03171","孙迦南","0101250819",91.98,{"$f":"VLOOKUP(D537:D1713,[1]按组排列版!$G:$P,10,FALSE)","v":"0328小学体育2组"},"小学体育","沈阳市铁西区应昌小学大明湖分校（西门）","0328小学体育2组","7月12日11：40-12：10"]
[535,"沈阳市铁西区启工街第二小学","小学音乐教师","03172","杨琪光","0101461822",91.72,{"$f":"VLOOKUP(D538:D1714,[1]按组排列版!$G:$P,10,FALSE)","v":"0332初中、小学音乐组"},"小学音乐","沈阳市铁西区应昌小学大明湖分校（西门）","0332初中、小学音乐组","7月12日11：40-12：10"]
[536,"沈阳市铁西区启工街第二小学","小学音乐教师","03172","丁亚杰","0101281123",85.33,{"$f":"VLOOKUP(D539:D1715,[1]按组排列版!$G:$P,10,FALSE)","v":"0332初中、小学音乐组"},"小学音乐","沈阳市铁西区应昌小学大明湖分校（西门）","0332初中、小学音乐组","7月12日11：40-12：10"]
[537,"沈阳市铁西区启工街第二小学","小学美术教师","03173","万小晴","0101400705",106.25,{"$f":"VLOOKUP(D540:D1716,[1]按组排列版!$G:$P,10,FALSE)","v":"0323小学美术1组"},"小学美术","沈阳市铁西区应昌小学大明湖分校（西门）","0323小学美术1组","7月12日6：40-7：10"]
[538,"沈阳市铁西区启工街第二小学","小学美术教师","03173","王诗妮","0101480903",105.98,{"$f":"VLOOKUP(D541:D1717,[1]按组排列版!$G:$P,10,FALSE)","v":"0323小学美术1组"},"小学美术","沈阳市铁西区应昌小学大明湖分校（西门）","0323小学美术1组","7月12日6：40-7：10"]
[539,"沈阳市铁西区启工街第二小学","小学美术教师","03173","胡赛英","0101261616",105.46,{"$f":"VLOOKUP(D542:D1718,[1]按组排列版!$G:$P,10,FALSE)","v":"0323小学美术1组"},"小学美术","沈阳市铁西区应昌小学大明湖分校（西门）","0323小学美术1组","7月12日6：40-7：10"]
[540,"沈阳市铁西区启工二校齐贤分校","小学语数教师","03174","刘舒佳","0101450611",111.28,{"$f":"VLOOKUP(D543:D1719,[1]按组排列版!$G:$P,10,FALSE)","v":"0304小学语数4组"},"小学语数","沈阳市铁西区应昌小学大明湖分校（西门）","0304小学语数4组","7月11日6：40-7：10"]
[541,"沈阳市铁西区启工二校齐贤分校","小学语数教师","03174","庄沈卉","0101360206",110.86,{"$f":"VLOOKUP(D544:D1720,[1]按组排列版!$G:$P,10,FALSE)","v":"0304小学语数4组"},"小学语数","沈阳市铁西区应昌小学大明湖分校（西门）","0304小学语数4组","7月11日6：40-7：10"]
[542,"沈阳市铁西区启工二校齐贤分校","小学语数教师","03174","于超洋","0101432412",107.39,{"$f":"VLOOKUP(D545:D1721,[1]按组排列版!$G:$P,10,FALSE)","v":"0304小学语数4组"},"小学语数","沈阳市铁西区应昌小学大明湖分校（西门）","0304小学语数4组","7月11日6：40-7：10"]
[543,"沈阳市铁西区启工二校齐贤分校","小学语数教师","03175","李扬","0101441504",100.92,{"$f":"VLOOKUP(D546:D1722,[1]按组排列版!$G:$P,10,FALSE)","v":"0304小学语数4组"},"小学语数","沈阳市铁西区应昌小学大明湖分校（西门）","0304小学语数4组","7月11日6：40-7：10"]
[544,"沈阳市铁西区启工二校齐贤分校","小学语数教师","03176","翟峻青","0101290122",106.17,{"$f":"VLOOKUP(D547:D1723,[1]按组排列版!$G:$P,10,FALSE)","v":"0304小学语数4组"},"小学语数","沈阳市铁西区应昌小学大明湖分校（西门）","0304小学语数4组","7月11日6：40-7：10"]
[545,"沈阳市铁西区启工二校齐贤分校","小学语数教师","03177","白泽轩","0101340727",100.52,{"$f":"VLOOKUP(D548:D1724,[1]按组排列版!$G:$P,10,FALSE)","v":"0304小学语数4组"},"小学语数","沈阳市铁西区应昌小学大明湖分校（西门）","0304小学语数4组","7月11日6：40-7：10"]
[546,"沈阳市铁西区启工二校齐贤分校","小学语数教师","03177","孙瑞遥","0101541019",99.97,{"$f":"VLOOKUP(D549:D1725,[1]按组排列版!$G:$P,10,FALSE)","v":"0304小学语数4组"},"小学语数","沈阳市铁西区应昌小学大明湖分校（西门）","0304小学语数4组","7月11日6：40-7：10"]
[547,"沈阳市铁西区启工二校齐贤分校","小学语数教师","03177","刘利双","0101251616",96.99,{"$f":"VLOOKUP(D550:D1726,[1]按组排列版!$G:$P,10,FALSE)","v":"0304小学语数4组"},"小学语数","沈阳市铁西区应昌小学大明湖分校（西门）","0304小学语数4组","7月11日6：40-7：10"]
[548,"沈阳市铁西区启工二校齐贤分校","小学英语教师","03178","刘丽娜","0101460327",116.82,{"$f":"VLOOKUP(D551:D1727,[1]按组排列版!$G:$P,10,FALSE)","v":"0318小学英语1组"},"小学英语","沈阳市铁西区应昌小学大明湖分校（西门）","0318小学英语1组","7月11日11：40-12：10"]
[549,"沈阳市铁西区启工二校齐贤分校","小学英语教师","03178","刘碧莹","0101520820",105.95,{"$f":"VLOOKUP(D552:D1728,[1]按组排列版!$G:$P,10,FALSE)","v":"0318小学英语1组"},"小学英语","沈阳市铁西区应昌小学大明湖分校（西门）","0318小学英语1组","7月11日11：40-12：10"]
[550,"沈阳市铁西区启工二校齐贤分校","小学英语教师","03178","杨春艳","0101241114",105.51,{"$f":"VLOOKUP(D553:D1729,[1]按组排列版!$G:$P,10,FALSE)","v":"0318小学英语1组"},"小学英语","沈阳市铁西区应昌小学大明湖分校（西门）","0318小学英语1组","7月11日11：40-12：10"]
[551,"沈阳市铁西区启工二校齐贤分校","小学音乐教师","03179","高溪遥","0101430422",103.67,{"$f":"VLOOKUP(D554:D1730,[1]按组排列版!$G:$P,10,FALSE)","v":"0332初中、小学音乐组"},"小学音乐","沈阳市铁西区应昌小学大明湖分校（西门）","0332初中、小学音乐组","7月12日11：40-12：10"]
[552,"沈阳市铁西区启工二校齐贤分校","小学音乐教师","03179","邰菲阳","0101340720",101.11,{"$f":"VLOOKUP(D555:D1731,[1]按组排列版!$G:$P,10,FALSE)","v":"0332初中、小学音乐组"},"小学音乐","沈阳市铁西区应昌小学大明湖分校（西门）","0332初中、小学音乐组","7月12日11：40-12：10"]
[553,"沈阳市铁西区启工二校齐贤分校","小学音乐教师","03179","张晏源","0101281914",95.68,{"$f":"VLOOKUP(D556:D1732,[1]按组排列版!$G:$P,10,FALSE)","v":"0332初中、小学音乐组"},"小学音乐","沈阳市铁西区应昌小学大明湖分校（西门）","0332初中、小学音乐组","7月12日11：40-12：10"]
[554,"沈阳市铁西区启工二校齐贤分校","小学美术教师","03180","焦晨宁","0101431527",115.97,{"$f":"VLOOKUP(D557:D1733,[1]按组排列版!$G:$P,10,FALSE)","v":"0323小学美术1组"},"小学美术","沈阳市铁西区应昌小学大明湖分校（西门）","0323小学美术1组","7月12日6：40-7：10"]
[555,"沈阳市铁西区启工二校齐贤分校","小学美术教师","03180","海丹妮","0101441614",105.54,{"$f":"VLOOKUP(D558:D1734,[1]按组排列版!$G:$P,10,FALSE)","v":"0323小学美术1组"},"小学美术","沈阳市铁西区应昌小学大明湖分校（西门）","0323小学美术1组","7月12日6：40-7：10"]
[556,"沈阳市铁西区启工二校齐贤分校","小学美术教师","03180","于璇","0101482004",105.39,{"$f":"VLOOKUP(D559:D1735,[1]按组排列版!$G:$P,10,FALSE)","v":"0323小学美术1组"},"小学美术","沈阳市铁西区应昌小学大明湖分校（西门）","0323小学美术1组","7月12日6：40-7：10"]
[557,"沈阳市铁西区启工二校齐贤分校","小学信息技术教师","03181","徐晓旭","0101251625",111,{"$f":"VLOOKUP(D560:D1736,[1]按组排列版!$G:$P,10,FALSE)","v":"0336小学信息技术1组"},"小学信息技术","沈阳市铁西区应昌小学大明湖分校（西门）","0336小学信息技术1组","7月12日11：40-12：10"]
[558,"沈阳市铁西区启工二校齐贤分校","小学信息技术教师","03181","辛美萱","0101230724",109.05,{"$f":"VLOOKUP(D561:D1737,[1]按组排列版!$G:$P,10,FALSE)","v":"0336小学信息技术1组"},"小学信息技术","沈阳市铁西区应昌小学大明湖分校（西门）","0336小学信息技术1组","7月12日11：40-12：10"]
[559,"沈阳市铁西区启工二校齐贤分校","小学信息技术教师","03181","陈芳洲","0101291911",99.29,{"$f":"VLOOKUP(D562:D1738,[1]按组排列版!$G:$P,10,FALSE)","v":"0336小学信息技术1组"},"小学信息技术","沈阳市铁西区应昌小学大明湖分校（西门）","0336小学信息技术1组","7月12日11：40-12：10"]
[560,"沈阳市铁西区齐贤街第二小学","小学语数教师","03182","闫瑾","0101240716",111.05,{"$f":"VLOOKUP(D563:D1739,[1]按组排列版!$G:$P,10,FALSE)","v":"0304小学语数4组"},"小学语数","沈阳市铁西区应昌小学大明湖分校（西门）","0304小学语数4组","7月11日6：40-7：10"]
[561,"沈阳市铁西区齐贤街第二小学","小学语数教师","03182","董莹","0101481705",97.49,{"$f":"VLOOKUP(D564:D1740,[1]按组排列版!$G:$P,10,FALSE)","v":"0304小学语数4组"},"小学语数","沈阳市铁西区应昌小学大明湖分校（西门）","0304小学语数4组","7月11日6：40-7：10"]
[562,"沈阳市铁西区齐贤街第二小学","小学语数教师","03183","丁馨","0101501415",104.16,{"$f":"VLOOKUP(D565:D1741,[1]按组排列版!$G:$P,10,FALSE)","v":"0304小学语数4组"},"小学语数","沈阳市铁西区应昌小学大明湖分校（西门）","0304小学语数4组","7月11日11：40-12：10"]
[563,"沈阳市铁西区齐贤街第二小学","小学语数教师","03183","田欣悦","0101261626",93.79,{"$f":"VLOOKUP(D566:D1742,[1]按组排列版!$G:$P,10,FALSE)","v":"0304小学语数4组"},"小学语数","沈阳市铁西区应昌小学大明湖分校（西门）","0304小学语数4组","7月11日11：40-12：10"]
[564,"沈阳市铁西区齐贤街第二小学","小学美术教师","03184","王雨婷","0101381402",112.54,{"$f":"VLOOKUP(D567:D1743,[1]按组排列版!$G:$P,10,FALSE)","v":"0323小学美术1组"},"小学美术","沈阳市铁西区应昌小学大明湖分校（西门）","0323小学美术1组","7月12日11：40-12：10"]
[565,"沈阳市铁西区齐贤街第二小学","小学美术教师","03184","陈星伊","0101561429",111.72,{"$f":"VLOOKUP(D568:D1744,[1]按组排列版!$G:$P,10,FALSE)","v":"0323小学美术1组"},"小学美术","沈阳市铁西区应昌小学大明湖分校（西门）","0323小学美术1组","7月12日11：40-12：10"]
[566,"沈阳市铁西区齐贤街第二小学","小学美术教师","03184","邵爽","0101390325",108.24,{"$f":"VLOOKUP(D569:D1745,[1]按组排列版!$G:$P,10,FALSE)","v":"0323小学美术1组"},"小学美术","沈阳市铁西区应昌小学大明湖分校（西门）","0323小学美术1组","7月12日11：40-12：10"]
[567,"沈阳市铁西区保工街第一小学","小学语数教师","03185","李晓艺","0101441202",111.74,{"$f":"VLOOKUP(D570:D1746,[1]按组排列版!$G:$P,10,FALSE)","v":"0304小学语数4组"},"小学语数","沈阳市铁西区应昌小学大明湖分校（西门）","0304小学语数4组","7月11日11：40-12：10"]
[568,"沈阳市铁西区保工街第一小学","小学语数教师","03185","张晶","0101410420",105.83,{"$f":"VLOOKUP(D571:D1747,[1]按组排列版!$G:$P,10,FALSE)","v":"0304小学语数4组"},"小学语数","沈阳市铁西区应昌小学大明湖分校（西门）","0304小学语数4组","7月11日11：40-12：10"]
[569,"沈阳市铁西区保工街第一小学","小学语数教师","03185","姜晓萌","0101331210",104.98,{"$f":"VLOOKUP(D572:D1748,[1]按组排列版!$G:$P,10,FALSE)","v":"0304小学语数4组"},"小学语数","沈阳市铁西区应昌小学大明湖分校（西门）","0304小学语数4组","7月11日11：40-12：10"]
[570,"沈阳市铁西区保工街第一小学","小学语数教师","03185","张丽","0101262625",103.61,{"$f":"VLOOKUP(D573:D1749,[1]按组排列版!$G:$P,10,FALSE)","v":"0304小学语数4组"},"小学语数","沈阳市铁西区应昌小学大明湖分校（西门）","0304小学语数4组","7月11日11：40-12：10"]
[571,"沈阳市铁西区保工街第一小学","小学语数教师","03185","李焕杰","0101410829",102.21,{"$f":"VLOOKUP(D574:D1750,[1]按组排列版!$G:$P,10,FALSE)","v":"0304小学语数4组"},"小学语数","沈阳市铁西区应昌小学大明湖分校（西门）","0304小学语数4组","7月11日11：40-12：10"]
[572,"沈阳市铁西区保工街第一小学","小学语数教师","03185","吕静","0101250818",97.09,{"$f":"VLOOKUP(D575:D1751,[1]按组排列版!$G:$P,10,FALSE)","v":"0304小学语数4组"},"小学语数","沈阳市铁西区应昌小学大明湖分校（西门）","0304小学语数4组","7月11日11：40-12：10"]
[573,"沈阳市铁西区保工街第一小学","小学语数教师","03185","刘忆墨","0101431530",95.77,{"$f":"VLOOKUP(D576:D1752,[1]按组排列版!$G:$P,10,FALSE)","v":"0304小学语数4组"},"小学语数","沈阳市铁西区应昌小学大明湖分校（西门）","0304小学语数4组","7月11日11：40-12：10"]
[574,"沈阳市铁西区保工街第一小学","小学语数教师","03185","董化军","0101441221",94.74,{"$f":"VLOOKUP(D577:D1753,[1]按组排列版!$G:$P,10,FALSE)","v":"0304小学语数4组"},"小学语数","沈阳市铁西区应昌小学大明湖分校（西门）","0304小学语数4组","7月11日11：40-12：10"]
[575,"沈阳市铁西区保工街第一小学","小学语数教师","03185","杨成","0101430326",93,{"$f":"VLOOKUP(D578:D1754,[1]按组排列版!$G:$P,10,FALSE)","v":"0304小学语数4组"},"小学语数","沈阳市铁西区应昌小学大明湖分校（西门）","0304小学语数4组","7月11日11：40-12：10"]
[576,"沈阳市铁西区保工街第一小学","小学语数教师","03186","闫丽平","0101450103",115.55,{"$f":"VLOOKUP(D579:D1755,[1]按组排列版!$G:$P,10,FALSE)","v":"0304小学语数4组"},"小学语数","沈阳市铁西区应昌小学大明湖分校（西门）","0304小学语数4组","7月11日11：40-12：10"]
[577,"沈阳市铁西区保工街第一小学","小学语数教师","03186","李松","0101440919",111.1,{"$f":"VLOOKUP(D580:D1756,[1]按组排列版!$G:$P,10,FALSE)","v":"0304小学语数4组"},"小学语数","沈阳市铁西区应昌小学大明湖分校（西门）","0304小学语数4组","7月11日11：40-12：10"]
[578,"沈阳市铁西区保工街第一小学","小学语数教师","03186","王玲冀","0101431220",100.97,{"$f":"VLOOKUP(D581:D1757,[1]按组排列版!$G:$P,10,FALSE)","v":"0304小学语数4组"},"小学语数","沈阳市铁西区应昌小学大明湖分校（西门）","0304小学语数4组","7月11日11：40-12：10"]
[579,"沈阳市铁西区保工街第一小学","小学音乐教师","03187","梁馨芳","0101251506",104.23,{"$f":"VLOOKUP(D582:D1758,[1]按组排列版!$G:$P,10,FALSE)","v":"0333小学音乐1组"},"小学音乐","沈阳市铁西区应昌小学大明湖分校（西门）","0333小学音乐1组","7月12日6：40-7：10"]
[580,"沈阳市铁西区保工街第一小学","小学音乐教师","03187","张哲","0101290107",101.59,{"$f":"VLOOKUP(D583:D1759,[1]按组排列版!$G:$P,10,FALSE)","v":"0333小学音乐1组"},"小学音乐","沈阳市铁西区应昌小学大明湖分校（西门）","0333小学音乐1组","7月12日6：40-7：10"]
[581,"沈阳市铁西区保工街第一小学","小学音乐教师","03187","李雪杨","0101491224",101.52,{"$f":"VLOOKUP(D584:D1760,[1]按组排列版!$G:$P,10,FALSE)","v":"0333小学音乐1组"},"小学音乐","沈阳市铁西区应昌小学大明湖分校（西门）","0333小学音乐1组","7月12日6：40-7：10"]
[582,"沈阳市铁西区保工街第一小学","小学体育教师","03188","刘菲菲","0101270825",102.26,{"$f":"VLOOKUP(D585:D1761,[1]按组排列版!$G:$P,10,FALSE)","v":"0328小学体育2组"},"小学体育","沈阳市铁西区应昌小学大明湖分校（西门）","0328小学体育2组","7月12日11：40-12：10"]
[583,"沈阳市铁西区保工街第一小学","小学体育教师","03188","孙昌跃","0101300217",96.52,{"$f":"VLOOKUP(D586:D1762,[1]按组排列版!$G:$P,10,FALSE)","v":"0328小学体育2组"},"小学体育","沈阳市铁西区应昌小学大明湖分校（西门）","0328小学体育2组","7月12日11：40-12：10"]
[584,"沈阳市铁西区保工街第一小学","小学体育教师","03188","胡雨晴","0101561801",95.02,{"$f":"VLOOKUP(D587:D1763,[1]按组排列版!$G:$P,10,FALSE)","v":"0328小学体育2组"},"小学体育","沈阳市铁西区应昌小学大明湖分校（西门）","0328小学体育2组","7月12日11：40-12：10"]
[585,"沈阳市铁西区保工街第一小学","小学体育教师","03188","杨越","0101300903",94.3,{"$f":"VLOOKUP(D588:D1764,[1]按组排列版!$G:$P,10,FALSE)","v":"0328小学体育2组"},"小学体育","沈阳市铁西区应昌小学大明湖分校（西门）","0328小学体育2组","7月12日11：40-12：10"]
[586,"沈阳市铁西区保工街第一小学","小学美术教师","03189","李润博","0101300208",111.91,{"$f":"VLOOKUP(D589:D1765,[1]按组排列版!$G:$P,10,FALSE)","v":"0323小学美术1组"},"小学美术","沈阳市铁西区应昌小学大明湖分校（西门）","0323小学美术1组","7月12日11：40-12：10"]
[587,"沈阳市铁西区保工街第一小学","小学美术教师","03189","钟祥鑫","0101551726",110.75,{"$f":"VLOOKUP(D590:D1766,[1]按组排列版!$G:$P,10,FALSE)","v":"0323小学美术1组"},"小学美术","沈阳市铁西区应昌小学大明湖分校（西门）","0323小学美术1组","7月12日11：40-12：10"]
[588,"沈阳市铁西区保工街第一小学","小学美术教师","03189","关婷婷","0101541729",108.53,{"$f":"VLOOKUP(D591:D1767,[1]按组排列版!$G:$P,10,FALSE)","v":"0323小学美术1组"},"小学美术","沈阳市铁西区应昌小学大明湖分校（西门）","0323小学美术1组","7月12日11：40-12：10"]
[589,"沈阳市铁西区保工街第一小学","小学科学教师","03190","崔蕾","0101341510",121.82,{"$f":"VLOOKUP(D592:D1768,[1]按组排列版!$G:$P,10,FALSE)","v":"0335小学科学组"},"小学科学","沈阳市铁西区应昌小学大明湖分校（西门）","0335小学科学组","7月12日6：40-7：10"]
[590,"沈阳市铁西区保工街第一小学","小学科学教师","03190","葛美杉","0101271107",114.48,{"$f":"VLOOKUP(D593:D1769,[1]按组排列版!$G:$P,10,FALSE)","v":"0335小学科学组"},"小学科学","沈阳市铁西区应昌小学大明湖分校（西门）","0335小学科学组","7月12日6：40-7：10"]
[591,"沈阳市铁西区保工街第一小学","小学科学教师","03190","窦莉佳","0101540713",106.99,{"$f":"VLOOKUP(D594:D1770,[1]按组排列版!$G:$P,10,FALSE)","v":"0335小学科学组"},"小学科学","沈阳市铁西区应昌小学大明湖分校（西门）","0335小学科学组","7月12日6：40-7：10"]
[592,"沈阳市铁西区保工街第一小学","小学英语教师","03191","张晓舟","0101480908",112.94,{"$f":"VLOOKUP(D595:D1771,[1]按组排列版!$G:$P,10,FALSE)","v":"0318小学英语1组"},"小学英语","沈阳市铁西区应昌小学大明湖分校（西门）","0318小学英语1组","7月11日11：40-12：10"]
[593,"沈阳市铁西区保工街第一小学","小学英语教师","03191","朱鑫宇","0101450816",112.93,{"$f":"VLOOKUP(D596:D1772,[1]按组排列版!$G:$P,10,FALSE)","v":"0318小学英语1组"},"小学英语","沈阳市铁西区应昌小学大明湖分校（西门）","0318小学英语1组","7月11日11：40-12：10"]
[594,"沈阳市铁西区保工街第一小学","小学英语教师","03191","曲丽杰","0101411215",108.52,{"$f":"VLOOKUP(D597:D1773,[1]按组排列版!$G:$P,10,FALSE)","v":"0318小学英语1组"},"小学英语","沈阳市铁西区应昌小学大明湖分校（西门）","0318小学英语1组","7月11日11：40-12：10"]
[595,"沈阳市铁西区保工街第二小学","小学体育教师","03192","宋帅霖","0101570115",107.78,{"$f":"VLOOKUP(D598:D1774,[1]按组排列版!$G:$P,10,FALSE)","v":"0328小学体育2组"},"小学体育","沈阳市铁西区应昌小学大明湖分校（西门）","0328小学体育2组","7月12日11：40-12：10"]
[596,"沈阳市铁西区保工街第二小学","小学体育教师","03192","安中奡","0101461129",95.18,{"$f":"VLOOKUP(D599:D1775,[1]按组排列版!$G:$P,10,FALSE)","v":"0328小学体育2组"},"小学体育","沈阳市铁西区应昌小学大明湖分校（西门）","0328小学体育2组","7月12日11：40-12：10"]
[597,"沈阳市铁西区保工街第二小学","小学体育教师","03192","邵希茜","0101320514",68.84,{"$f":"VLOOKUP(D600:D1776,[1]按组排列版!$G:$P,10,FALSE)","v":"0328小学体育2组"},"小学体育","沈阳市铁西区应昌小学大明湖分校（西门）","0328小学体育2组","7月12日11：40-12：10"]
[598,"沈阳市铁西区保工街第二小学","小学语数教师","03193","高芷涵","0101430205",105.86,{"$f":"VLOOKUP(D601:D1777,[1]按组排列版!$G:$P,10,FALSE)","v":"0304小学语数4组"},"小学语数","沈阳市铁西区应昌小学大明湖分校（西门）","0304小学语数4组","7月11日11：40-12：10"]
[599,"沈阳市铁西区保工街第二小学","小学语数教师","03193","王珊珊","0101440625",96.74,{"$f":"VLOOKUP(D602:D1778,[1]按组排列版!$G:$P,10,FALSE)","v":"0304小学语数4组"},"小学语数","沈阳市铁西区应昌小学大明湖分校（西门）","0304小学语数4组","7月11日11：40-12：10"]
[600,"沈阳市铁西区保工街第二小学","小学语数教师","03194","张莹","0101431830",98.85,{"$f":"VLOOKUP(D603:D1779,[1]按组排列版!$G:$P,10,FALSE)","v":"0305小学语数5组"},"小学语数","沈阳市铁西区应昌小学大明湖分校（西门）","0305小学语数5组","7月11日6：40-7：10"]
[601,"沈阳市铁西区保工街第二小学","小学语数教师","03194","秦丹","0101250513",98.08,{"$f":"VLOOKUP(D604:D1780,[1]按组排列版!$G:$P,10,FALSE)","v":"0305小学语数5组"},"小学语数","沈阳市铁西区应昌小学大明湖分校（西门）","0305小学语数5组","7月11日6：40-7：10"]
[602,"沈阳市铁西区保工街第二小学","小学语数教师","03194","庞雪","0101552404",97.95,{"$f":"VLOOKUP(D605:D1781,[1]按组排列版!$G:$P,10,FALSE)","v":"0305小学语数5组"},"小学语数","沈阳市铁西区应昌小学大明湖分校（西门）","0305小学语数5组","7月11日6：40-7：10"]
[603,"沈阳市铁西区保工街第五小学","小学语数教师","03195","李文哲","0101262304",104.31,{"$f":"VLOOKUP(D606:D1782,[1]按组排列版!$G:$P,10,FALSE)","v":"0305小学语数5组"},"小学语数","沈阳市铁西区应昌小学大明湖分校（西门）","0305小学语数5组","7月11日6：40-7：10"]
[604,"沈阳市铁西区保工街第五小学","小学语数教师","03195","王娜","0101461318",102.55,{"$f":"VLOOKUP(D607:D1783,[1]按组排列版!$G:$P,10,FALSE)","v":"0305小学语数5组"},"小学语数","沈阳市铁西区应昌小学大明湖分校（西门）","0305小学语数5组","7月11日6：40-7：10"]
[605,"沈阳市铁西区保工街第五小学","小学语数教师","03195","吕景园","0101500206",100.63,{"$f":"VLOOKUP(D608:D1784,[1]按组排列版!$G:$P,10,FALSE)","v":"0305小学语数5组"},"小学语数","沈阳市铁西区应昌小学大明湖分校（西门）","0305小学语数5组","7月11日6：40-7：10"]
[606,"沈阳市铁西区保工街第五小学","小学语数教师","03196","江元喆","0101430316",100.44,{"$f":"VLOOKUP(D609:D1785,[1]按组排列版!$G:$P,10,FALSE)","v":"0305小学语数5组"},"小学语数","沈阳市铁西区应昌小学大明湖分校（西门）","0305小学语数5组","7月11日6：40-7：10"]
[607,"沈阳市铁西区保工街第五小学","小学语数教师","03196","杨超","0101441522",93.61,{"$f":"VLOOKUP(D610:D1786,[1]按组排列版!$G:$P,10,FALSE)","v":"0305小学语数5组"},"小学语数","沈阳市铁西区应昌小学大明湖分校（西门）","0305小学语数5组","7月11日6：40-7：10"]
[608,"沈阳市铁西区保工街第五小学","小学语数教师","03196","张亚男","0101371503",91.5,{"$f":"VLOOKUP(D611:D1787,[1]按组排列版!$G:$P,10,FALSE)","v":"0305小学语数5组"},"小学语数","沈阳市铁西区应昌小学大明湖分校（西门）","0305小学语数5组","7月11日6：40-7：10"]
[609,"沈阳市铁西区保工街第五小学","小学音乐教师","03197","裴浩含","0101281015",96.71,{"$f":"VLOOKUP(D612:D1788,[1]按组排列版!$G:$P,10,FALSE)","v":"0333小学音乐1组"},"小学音乐","沈阳市铁西区应昌小学大明湖分校（西门）","0333小学音乐1组","7月12日6：40-7：10"]
[610,"沈阳市铁西区保工街第五小学","小学音乐教师","03197","李佳泽","0101541301",88.95,{"$f":"VLOOKUP(D613:D1789,[1]按组排列版!$G:$P,10,FALSE)","v":"0333小学音乐1组"},"小学音乐","沈阳市铁西区应昌小学大明湖分校（西门）","0333小学音乐1组","7月12日6：40-7：10"]
[611,"沈阳市铁西区保工街第五小学","小学音乐教师","03197","范校言","0101321330",85.81,{"$f":"VLOOKUP(D614:D1790,[1]按组排列版!$G:$P,10,FALSE)","v":"0333小学音乐1组"},"小学音乐","沈阳市铁西区应昌小学大明湖分校（西门）","0333小学音乐1组","7月12日6：40-7：10"]
[612,"沈阳市铁西区卫工街第一小学","小学语数教师","03198","王怡丁","0101490125",100.82,{"$f":"VLOOKUP(D615:D1791,[1]按组排列版!$G:$P,10,FALSE)","v":"0305小学语数5组"},"小学语数","沈阳市铁西区应昌小学大明湖分校（西门）","0305小学语数5组","7月11日6：40-7：10"]
[613,"沈阳市铁西区卫工街第一小学","小学语数教师","03198","李浥菲","0101271614",100.7,{"$f":"VLOOKUP(D616:D1792,[1]按组排列版!$G:$P,10,FALSE)","v":"0305小学语数5组"},"小学语数","沈阳市铁西区应昌小学大明湖分校（西门）","0305小学语数5组","7月11日6：40-7：10"]
[614,"沈阳市铁西区卫工街第一小学","小学语数教师","03198","邓熙航","0101461311",98.58,{"$f":"VLOOKUP(D617:D1793,[1]按组排列版!$G:$P,10,FALSE)","v":"0305小学语数5组"},"小学语数","沈阳市铁西区应昌小学大明湖分校（西门）","0305小学语数5组","7月11日6：40-7：10"]
[615,"沈阳市铁西区卫工街第一小学","小学语数教师","03198","何晶晶","0101530626",90.37,{"$f":"VLOOKUP(D618:D1794,[1]按组排列版!$G:$P,10,FALSE)","v":"0305小学语数5组"},"小学语数","沈阳市铁西区应昌小学大明湖分校（西门）","0305小学语数5组","7月11日6：40-7：10"]
[616,"沈阳市铁西区卫工街第一小学","小学语数教师","03199","王莹","0101430222",97.51,{"$f":"VLOOKUP(D619:D1795,[1]按组排列版!$G:$P,10,FALSE)","v":"0305小学语数5组"},"小学语数","沈阳市铁西区应昌小学大明湖分校（西门）","0305小学语数5组","7月11日6：40-7：10"]
[617,"沈阳市铁西区卫工街第一小学","小学语数教师","03200","王丽","0101540827",111.4,{"$f":"VLOOKUP(D620:D1796,[1]按组排列版!$G:$P,10,FALSE)","v":"0305小学语数5组"},"小学语数","沈阳市铁西区应昌小学大明湖分校（西门）","0305小学语数5组","7月11日6：40-7：10"]
[618,"沈阳市铁西区卫工街第一小学","小学语数教师","03200","齐芳","0101461217",109.28,{"$f":"VLOOKUP(D621:D1797,[1]按组排列版!$G:$P,10,FALSE)","v":"0305小学语数5组"},"小学语数","沈阳市铁西区应昌小学大明湖分校（西门）","0305小学语数5组","7月11日6：40-7：10"]
[619,"沈阳市铁西区卫工街第一小学","小学语数教师","03200","马宏静","0101430825",107.21,{"$f":"VLOOKUP(D622:D1798,[1]按组排列版!$G:$P,10,FALSE)","v":"0305小学语数5组"},"小学语数","沈阳市铁西区应昌小学大明湖分校（西门）","0305小学语数5组","7月11日6：40-7：10"]
[620,"沈阳市铁西区启工三校教育集团七路分校","小学语数教师","03201","张芳琪","0101351409",112.22,{"$f":"VLOOKUP(D623:D1799,[1]按组排列版!$G:$P,10,FALSE)","v":"0305小学语数5组"},"小学语数","沈阳市铁西区应昌小学大明湖分校（西门）","0305小学语数5组","7月11日11：40-12：10"]
[621,"沈阳市铁西区启工三校教育集团七路分校","小学语数教师","03201","王一涵","0101542002",109.58,{"$f":"VLOOKUP(D624:D1800,[1]按组排列版!$G:$P,10,FALSE)","v":"0305小学语数5组"},"小学语数","沈阳市铁西区应昌小学大明湖分校（西门）","0305小学语数5组","7月11日11：40-12：10"]
[622,"沈阳市铁西区启工三校教育集团七路分校","小学语数教师","03201","朴爽","0101422018",101.81,{"$f":"VLOOKUP(D625:D1801,[1]按组排列版!$G:$P,10,FALSE)","v":"0305小学语数5组"},"小学语数","沈阳市铁西区应昌小学大明湖分校（西门）","0305小学语数5组","7月11日11：40-12：10"]
[623,"沈阳市铁西区启工三校教育集团七路分校","小学语数教师","03201","庄梦柯","0101300714",101.61,{"$f":"VLOOKUP(D626:D1802,[1]按组排列版!$G:$P,10,FALSE)","v":"0305小学语数5组"},"小学语数","沈阳市铁西区应昌小学大明湖分校（西门）","0305小学语数5组","7月11日11：40-12：10"]
[624,"沈阳市铁西区启工三校教育集团七路分校","小学语数教师","03201","代佳琪","0101550414",98.23,{"$f":"VLOOKUP(D627:D1803,[1]按组排列版!$G:$P,10,FALSE)","v":"0305小学语数5组"},"小学语数","沈阳市铁西区应昌小学大明湖分校（西门）","0305小学语数5组","7月11日11：40-12：10"]
[625,"沈阳市铁西区启工三校教育集团七路分校","小学语数教师","03201","陶然","0101570510",94.46,{"$f":"VLOOKUP(D628:D1804,[1]按组排列版!$G:$P,10,FALSE)","v":"0305小学语数5组"},"小学语数","沈阳市铁西区应昌小学大明湖分校（西门）","0305小学语数5组","7月11日11：40-12：10"]
[626,"沈阳市铁西区启工三校教育集团七路分校","小学语数教师","03201","李欣悦","0101551402",94.23,{"$f":"VLOOKUP(D629:D1805,[1]按组排列版!$G:$P,10,FALSE)","v":"0305小学语数5组"},"小学语数","沈阳市铁西区应昌小学大明湖分校（西门）","0305小学语数5组","7月11日11：40-12：10"]
[627,"沈阳市铁西区启工三校教育集团七路分校","小学语数教师","03201","蒲俊杰","0101482019",90.18,{"$f":"VLOOKUP(D630:D1806,[1]按组排列版!$G:$P,10,FALSE)","v":"0305小学语数5组"},"小学语数","沈阳市铁西区应昌小学大明湖分校（西门）","0305小学语数5组","7月11日11：40-12：10"]
[628,"沈阳市铁西区启工三校教育集团七路分校","小学语数教师","03201","于淼","0101290301",79.69,{"$f":"VLOOKUP(D631:D1807,[1]按组排列版!$G:$P,10,FALSE)","v":"0305小学语数5组"},"小学语数","沈阳市铁西区应昌小学大明湖分校（西门）","0305小学语数5组","7月11日11：40-12：10"]
[629,"沈阳市铁西区启工三校教育集团七路分校","小学语数教师","03202","窦鹤玄","0101431706",109.42,{"$f":"VLOOKUP(D632:D1808,[1]按组排列版!$G:$P,10,FALSE)","v":"0305小学语数5组"},"小学语数","沈阳市铁西区应昌小学大明湖分校（西门）","0305小学语数5组","7月11日11：40-12：10"]
[630,"沈阳市铁西区启工三校教育集团七路分校","小学语数教师","03202","尹晓玉","0101290626",104.65,{"$f":"VLOOKUP(D633:D1809,[1]按组排列版!$G:$P,10,FALSE)","v":"0305小学语数5组"},"小学语数","沈阳市铁西区应昌小学大明湖分校（西门）","0305小学语数5组","7月11日11：40-12：10"]
[631,"沈阳市铁西区启工三校教育集团七路分校","小学语数教师","03202","王静","0101330630",100.46,{"$f":"VLOOKUP(D634:D1810,[1]按组排列版!$G:$P,10,FALSE)","v":"0305小学语数5组"},"小学语数","沈阳市铁西区应昌小学大明湖分校（西门）","0305小学语数5组","7月11日11：40-12：10"]
[632,"沈阳市铁西区启工三校教育集团七路分校","小学语数教师","03203","刘小溪","0101561204",111.5,{"$f":"VLOOKUP(D635:D1811,[1]按组排列版!$G:$P,10,FALSE)","v":"0305小学语数5组"},"小学语数","沈阳市铁西区应昌小学大明湖分校（西门）","0305小学语数5组","7月11日11：40-12：10"]
[633,"沈阳市铁西区启工三校教育集团七路分校","小学语数教师","03203","杨璐","0101450712",110.46,{"$f":"VLOOKUP(D636:D1812,[1]按组排列版!$G:$P,10,FALSE)","v":"0305小学语数5组"},"小学语数","沈阳市铁西区应昌小学大明湖分校（西门）","0305小学语数5组","7月11日11：40-12：10"]
[634,"沈阳市铁西区启工三校教育集团七路分校","小学语数教师","03203","周巍","0101381030",107.13,{"$f":"VLOOKUP(D637:D1813,[1]按组排列版!$G:$P,10,FALSE)","v":"0305小学语数5组"},"小学语数","沈阳市铁西区应昌小学大明湖分校（西门）","0305小学语数5组","7月11日11：40-12：10"]
[635,"沈阳市铁西区启工三校教育集团七路分校","小学语数教师","03203","董爱玲","0101482009",102.82,{"$f":"VLOOKUP(D638:D1814,[1]按组排列版!$G:$P,10,FALSE)","v":"0305小学语数5组"},"小学语数","沈阳市铁西区应昌小学大明湖分校（西门）","0305小学语数5组","7月11日11：40-12：10"]
[636,"沈阳市铁西区启工三校教育集团七路分校","小学语数教师","03203","刘依菲","0101560503",99.78,{"$f":"VLOOKUP(D639:D1815,[1]按组排列版!$G:$P,10,FALSE)","v":"0305小学语数5组"},"小学语数","沈阳市铁西区应昌小学大明湖分校（西门）","0305小学语数5组","7月11日11：40-12：10"]
[637,"沈阳市铁西区启工三校教育集团七路分校","小学语数教师","03203","战金玲","0101511209",98.43,{"$f":"VLOOKUP(D640:D1816,[1]按组排列版!$G:$P,10,FALSE)","v":"0305小学语数5组"},"小学语数","沈阳市铁西区应昌小学大明湖分校（西门）","0305小学语数5组","7月11日11：40-12：10"]
[638,"沈阳市铁西区启工三校教育集团七路分校","小学英语教师","03204","高芷琪","0101440902",123.56,{"$f":"VLOOKUP(D641:D1817,[1]按组排列版!$G:$P,10,FALSE)","v":"0319小学英语2组"},"小学英语","沈阳市铁西区应昌小学大明湖分校（西门）","0319小学英语2组","7月11日6：40-7：10"]
[639,"沈阳市铁西区启工三校教育集团七路分校","小学英语教师","03204","李润泽","0101551403",116.18,{"$f":"VLOOKUP(D642:D1818,[1]按组排列版!$G:$P,10,FALSE)","v":"0319小学英语2组"},"小学英语","沈阳市铁西区应昌小学大明湖分校（西门）","0319小学英语2组","7月11日6：40-7：10"]
[640,"沈阳市铁西区启工三校教育集团七路分校","小学英语教师","03204","侯新诗","0101430826",115.28,{"$f":"VLOOKUP(D643:D1819,[1]按组排列版!$G:$P,10,FALSE)","v":"0319小学英语2组"},"小学英语","沈阳市铁西区应昌小学大明湖分校（西门）","0319小学英语2组","7月11日6：40-7：10"]
[641,"沈阳市铁西区启工三校教育集团七路分校","小学体育教师","03205","王鑫","0101360524",103.21,{"$f":"VLOOKUP(D644:D1820,[1]按组排列版!$G:$P,10,FALSE)","v":"0328小学体育2组"},"小学体育","沈阳市铁西区应昌小学大明湖分校（西门）","0328小学体育2组","7月12日11：40-12：10"]
[642,"沈阳市铁西区启工三校教育集团七路分校","小学体育教师","03205","张旭","0101492025",93.69,{"$f":"VLOOKUP(D645:D1821,[1]按组排列版!$G:$P,10,FALSE)","v":"0328小学体育2组"},"小学体育","沈阳市铁西区应昌小学大明湖分校（西门）","0328小学体育2组","7月12日11：40-12：10"]
[643,"沈阳市铁西区启工三校教育集团七路分校","小学体育教师","03205","满朝汉","0101391404",93.29,{"$f":"VLOOKUP(D646:D1822,[1]按组排列版!$G:$P,10,FALSE)","v":"0328小学体育2组"},"小学体育","沈阳市铁西区应昌小学大明湖分校（西门）","0328小学体育2组","7月12日11：40-12：10"]
[644,"沈阳市铁西区启工三校教育集团七路分校","小学科学教师","03206","王芳","0101560215",113.79,{"$f":"VLOOKUP(D647:D1823,[1]按组排列版!$G:$P,10,FALSE)","v":"0335小学科学组"},"小学科学","沈阳市铁西区应昌小学大明湖分校（西门）","0335小学科学组","7月12日6：40-7：10"]
[645,"沈阳市铁西区启工三校教育集团七路分校","小学科学教师","03206","常晓雪","0101492308",96.27,{"$f":"VLOOKUP(D648:D1824,[1]按组排列版!$G:$P,10,FALSE)","v":"0335小学科学组"},"小学科学","沈阳市铁西区应昌小学大明湖分校（西门）","0335小学科学组","7月12日6：40-7：10"]
[646,"沈阳市铁西区启工街第三小学","小学语数教师","03207","王艺桥","0101490414",121.69,{"$f":"VLOOKUP(D649:D1825,[1]按组排列版!$G:$P,10,FALSE)","v":"0306小学语数6组"},"小学语数","沈阳市铁西区应昌小学大明湖分校（西门）","0306小学语数6组","7月11日6：40-7：10"]
[647,"沈阳市铁西区启工街第三小学","小学语数教师","03207","宋立萌","0101341502",101.28,{"$f":"VLOOKUP(D650:D1826,[1]按组排列版!$G:$P,10,FALSE)","v":"0306小学语数6组"},"小学语数","沈阳市铁西区应昌小学大明湖分校（西门）","0306小学语数6组","7月11日6：40-7：10"]
[648,"沈阳市铁西区启工街第三小学","小学语数教师","03207","王延妍","0101461511",100.22,{"$f":"VLOOKUP(D651:D1827,[1]按组排列版!$G:$P,10,FALSE)","v":"0306小学语数6组"},"小学语数","沈阳市铁西区应昌小学大明湖分校（西门）","0306小学语数6组","7月11日6：40-7：10"]
[649,"沈阳市铁西区启工街第三小学","小学语数教师","03207","张元馨","0101240724",98.12,{"$f":"VLOOKUP(D652:D1828,[1]按组排列版!$G:$P,10,FALSE)","v":"0306小学语数6组"},"小学语数","沈阳市铁西区应昌小学大明湖分校（西门）","0306小学语数6组","7月11日6：40-7：10"]
[650,"沈阳市铁西区启工街第三小学","小学语数教师","03207","王蕾","0101541913",96.46,{"$f":"VLOOKUP(D653:D1829,[1]按组排列版!$G:$P,10,FALSE)","v":"0306小学语数6组"},"小学语数","沈阳市铁西区应昌小学大明湖分校（西门）","0306小学语数6组","7月11日6：40-7：10"]
[651,"沈阳市铁西区启工街第三小学","小学语数教师","03207","王玉霜","0101390219",92.89,{"$f":"VLOOKUP(D654:D1830,[1]按组排列版!$G:$P,10,FALSE)","v":"0306小学语数6组"},"小学语数","沈阳市铁西区应昌小学大明湖分校（西门）","0306小学语数6组","7月11日6：40-7：10"]
[652,"沈阳市铁西区启工街第三小学","小学美术教师","03208","刘芳竹","0101351229",110.98,{"$f":"VLOOKUP(D655:D1831,[1]按组排列版!$G:$P,10,FALSE)","v":"0323小学美术1组"},"小学美术","沈阳市铁西区应昌小学大明湖分校（西门）","0323小学美术1组","7月12日11：40-12：10"]
[653,"沈阳市铁西区启工街第三小学","小学美术教师","03208","宋阳","0101440424",105.41,{"$f":"VLOOKUP(D656:D1832,[1]按组排列版!$G:$P,10,FALSE)","v":"0323小学美术1组"},"小学美术","沈阳市铁西区应昌小学大明湖分校（西门）","0323小学美术1组","7月12日11：40-12：10"]
[654,"沈阳市铁西区启工街第三小学","小学美术教师","03208","胡雪","0101371230",101,{"$f":"VLOOKUP(D657:D1833,[1]按组排列版!$G:$P,10,FALSE)","v":"0323小学美术1组"},"小学美术","沈阳市铁西区应昌小学大明湖分校（西门）","0323小学美术1组","7月12日11：40-12：10"]
[655,"沈阳市铁西区启工街第三小学","小学美术教师","03209","陈新竹","0101361012",114.75,{"$f":"VLOOKUP(D658:D1834,[1]按组排列版!$G:$P,10,FALSE)","v":"0323小学美术1组"},"小学美术","沈阳市铁西区应昌小学大明湖分校（西门）","0323小学美术1组","7月12日11：40-12：10"]
[656,"沈阳市铁西区启工街第三小学","小学美术教师","03209","李多娇","0101350921",113.59,{"$f":"VLOOKUP(D659:D1835,[1]按组排列版!$G:$P,10,FALSE)","v":"0323小学美术1组"},"小学美术","沈阳市铁西区应昌小学大明湖分校（西门）","0323小学美术1组","7月12日11：40-12：10"]
[657,"沈阳市铁西区启工街第三小学","小学美术教师","03209","宋晓宇","0101391305",110.64,{"$f":"VLOOKUP(D660:D1836,[1]按组排列版!$G:$P,10,FALSE)","v":"0323小学美术1组"},"小学美术","沈阳市铁西区应昌小学大明湖分校（西门）","0323小学美术1组","7月12日11：40-12：10"]
[658,"沈阳市铁西区启工街第三小学","小学美术教师","03209","贾宁","0101390726",110.13,{"$f":"VLOOKUP(D661:D1837,[1]按组排列版!$G:$P,10,FALSE)","v":"0323小学美术1组"},"小学美术","沈阳市铁西区应昌小学大明湖分校（西门）","0323小学美术1组","7月12日11：40-12：10"]
[659,"沈阳市铁西区启工街第三小学","小学美术教师","03209","吴琼","0101351611",109.51,{"$f":"VLOOKUP(D662:D1838,[1]按组排列版!$G:$P,10,FALSE)","v":"0323小学美术1组"},"小学美术","沈阳市铁西区应昌小学大明湖分校（西门）","0323小学美术1组","7月12日11：40-12：10"]
[660,"沈阳市铁西区启工街第三小学","小学美术教师","03209","王婧涵","0101320314",108.76,{"$f":"VLOOKUP(D663:D1839,[1]按组排列版!$G:$P,10,FALSE)","v":"0323小学美术1组"},"小学美术","沈阳市铁西区应昌小学大明湖分校（西门）","0323小学美术1组","7月12日11：40-12：10"]
[661,"沈阳市铁西区启工街第三小学","小学体育教师","03210","冯伟航","0101331530",99.71,{"$f":"VLOOKUP(D664:D1840,[1]按组排列版!$G:$P,10,FALSE)","v":"0328小学体育2组"},"小学体育","沈阳市铁西区应昌小学大明湖分校（西门）","0328小学体育2组","7月12日11：40-12：10"]
[662,"沈阳市铁西区启工街第三小学","小学体育教师","03210","郑小飞","0101561223",95.64,{"$f":"VLOOKUP(D665:D1841,[1]按组排列版!$G:$P,10,FALSE)","v":"0328小学体育2组"},"小学体育","沈阳市铁西区应昌小学大明湖分校（西门）","0328小学体育2组","7月12日11：40-12：10"]
[663,"沈阳市铁西区启工街第三小学","小学音乐教师","03211","张雪峰","0101431810",96.19,{"$f":"VLOOKUP(D666:D1842,[1]按组排列版!$G:$P,10,FALSE)","v":"0333小学音乐1组"},"小学音乐","沈阳市铁西区应昌小学大明湖分校（西门）","0333小学音乐1组","7月12日6：40-7：10"]
[664,"沈阳市铁西区启工街第三小学","小学音乐教师","03211","刘丽昕","0101291826",93.6,{"$f":"VLOOKUP(D667:D1843,[1]按组排列版!$G:$P,10,FALSE)","v":"0333小学音乐1组"},"小学音乐","沈阳市铁西区应昌小学大明湖分校（西门）","0333小学音乐1组","7月12日6：40-7：10"]
[665,"沈阳市铁西区启工街第三小学","小学音乐教师","03211","张红","0101450508",88.01,{"$f":"VLOOKUP(D668:D1844,[1]按组排列版!$G:$P,10,FALSE)","v":"0333小学音乐1组"},"小学音乐","沈阳市铁西区应昌小学大明湖分校（西门）","0333小学音乐1组","7月12日6：40-7：10"]
[666,"沈阳市铁西区启工街第三小学","小学信息技术教师","03212","曲书亮","0101450804",105.07,{"$f":"VLOOKUP(D669:D1845,[1]按组排列版!$G:$P,10,FALSE)","v":"0336小学信息技术1组"},"小学信息技术","沈阳市铁西区应昌小学大明湖分校（西门）","0336小学信息技术1组","7月12日11：40-12：10"]
[667,"沈阳市铁西区启工街第三小学","小学信息技术教师","03212","于旖旎","0101450607",101.32,{"$f":"VLOOKUP(D670:D1846,[1]按组排列版!$G:$P,10,FALSE)","v":"0336小学信息技术1组"},"小学信息技术","沈阳市铁西区应昌小学大明湖分校（西门）","0336小学信息技术1组","7月12日11：40-12：10"]
[668,"沈阳市铁西区启工街第三小学","小学信息技术教师","03212","李国营","0101330504",88.9,{"$f":"VLOOKUP(D671:D1847,[1]按组排列版!$G:$P,10,FALSE)","v":"0336小学信息技术1组"},"小学信息技术","沈阳市铁西区应昌小学大明湖分校（西门）","0336小学信息技术1组","7月12日11：40-12：10"]
[669,"沈阳市铁西区肇工街第一小学","小学语数教师","03214","岳冰","0101421316",98.03,{"$f":"VLOOKUP(D672:D1848,[1]按组排列版!$G:$P,10,FALSE)","v":"0306小学语数6组"},"小学语数","沈阳市铁西区应昌小学大明湖分校（西门）","0306小学语数6组","7月11日6：40-7：10"]
[670,"沈阳市铁西区肇工街第一小学","小学英语教师","03215","孟欣欣","0101370907",113.83,{"$f":"VLOOKUP(D673:D1849,[1]按组排列版!$G:$P,10,FALSE)","v":"0319小学英语2组"},"小学英语","沈阳市铁西区应昌小学大明湖分校（西门）","0319小学英语2组","7月11日6：40-7：10"]
[671,"沈阳市铁西区肇工街第一小学","小学英语教师","03215","邵丽丽","0101571228",107.46,{"$f":"VLOOKUP(D674:D1850,[1]按组排列版!$G:$P,10,FALSE)","v":"0319小学英语2组"},"小学英语","沈阳市铁西区应昌小学大明湖分校（西门）","0319小学英语2组","7月11日6：40-7：10"]
[672,"沈阳市铁西区肇工街第一小学","小学英语教师","03215","翟芸慧","0101430703",107.07,{"$f":"VLOOKUP(D675:D1851,[1]按组排列版!$G:$P,10,FALSE)","v":"0319小学英语2组"},"小学英语","沈阳市铁西区应昌小学大明湖分校（西门）","0319小学英语2组","7月11日6：40-7：10"]
[673,"沈阳市铁西区肇工街第三小学","小学音乐教师","03216","阮洋","0101480305",96.76,{"$f":"VLOOKUP(D676:D1852,[1]按组排列版!$G:$P,10,FALSE)","v":"0333小学音乐1组"},"小学音乐","沈阳市铁西区应昌小学大明湖分校（西门）","0333小学音乐1组","7月12日6：40-7：10"]
[674,"沈阳市铁西区肇工街第三小学","小学音乐教师","03216","田唯暄","0101440822",80.32,{"$f":"VLOOKUP(D677:D1853,[1]按组排列版!$G:$P,10,FALSE)","v":"0333小学音乐1组"},"小学音乐","沈阳市铁西区应昌小学大明湖分校（西门）","0333小学音乐1组","7月12日6：40-7：10"]
[675,"沈阳市铁西区肇工街第三小学","小学体育教师","03217","董天浩","0101380723",104.51,{"$f":"VLOOKUP(D678:D1854,[1]按组排列版!$G:$P,10,FALSE)","v":"0329小学体育3组"},"小学体育","沈阳市铁西区应昌小学大明湖分校（西门）","0329小学体育3组","7月12日6：40-7：10"]
[676,"沈阳市铁西区肇工街第三小学","小学体育教师","03217","娄月","0101471703",94.81,{"$f":"VLOOKUP(D679:D1855,[1]按组排列版!$G:$P,10,FALSE)","v":"0329小学体育3组"},"小学体育","沈阳市铁西区应昌小学大明湖分校（西门）","0329小学体育3组","7月12日6：40-7：10"]
[677,"沈阳市铁西区肇工街第三小学","小学体育教师","03217","卢政策","0101530525",91.28,{"$f":"VLOOKUP(D680:D1856,[1]按组排列版!$G:$P,10,FALSE)","v":"0329小学体育3组"},"小学体育","沈阳市铁西区应昌小学大明湖分校（西门）","0329小学体育3组","7月12日6：40-7：10"]
[678,"沈阳市铁西区肇工街第三小学","小学美术教师","03218","李美元","0101550823",108.36,{"$f":"VLOOKUP(D681:D1857,[1]按组排列版!$G:$P,10,FALSE)","v":"0323小学美术1组"},"小学美术","沈阳市铁西区应昌小学大明湖分校（西门）","0323小学美术1组","7月12日11：40-12：10"]
[679,"沈阳市铁西区肇工街第三小学","小学美术教师","03218","龙薇平","0101560512",93.29,{"$f":"VLOOKUP(D682:D1858,[1]按组排列版!$G:$P,10,FALSE)","v":"0323小学美术1组"},"小学美术","沈阳市铁西区应昌小学大明湖分校（西门）","0323小学美术1组","7月12日11：40-12：10"]
[680,"沈阳市铁西区肇工街第三小学","小学美术教师","03218","胡亮","0101291905",62.08,{"$f":"VLOOKUP(D683:D1859,[1]按组排列版!$G:$P,10,FALSE)","v":"0323小学美术1组"},"小学美术","沈阳市铁西区应昌小学大明湖分校（西门）","0323小学美术1组","7月12日11：40-12：10"]
[681,"沈阳市铁西区肇工街第三小学","小学语数教师","03219","马健","0101371906",104.44,{"$f":"VLOOKUP(D684:D1860,[1]按组排列版!$G:$P,10,FALSE)","v":"0306小学语数6组"},"小学语数","沈阳市铁西区应昌小学大明湖分校（西门）","0306小学语数6组","7月11日6：40-7：10"]
[682,"沈阳市铁西区肇工街第三小学","小学语数教师","03219","沈苗","0101440107",99.59,{"$f":"VLOOKUP(D685:D1861,[1]按组排列版!$G:$P,10,FALSE)","v":"0306小学语数6组"},"小学语数","沈阳市铁西区应昌小学大明湖分校（西门）","0306小学语数6组","7月11日6：40-7：10"]
[683,"沈阳市铁西区肇工街第三小学","小学语数教师","03219","吕婧","0101451001",95.58,{"$f":"VLOOKUP(D686:D1862,[1]按组排列版!$G:$P,10,FALSE)","v":"0306小学语数6组"},"小学语数","沈阳市铁西区应昌小学大明湖分校（西门）","0306小学语数6组","7月11日6：40-7：10"]
[684,"沈阳市铁西区肇工街第三小学","小学语数教师","03220","黄卫旭","0101321525",104.87,{"$f":"VLOOKUP(D687:D1863,[1]按组排列版!$G:$P,10,FALSE)","v":"0306小学语数6组"},"小学语数","沈阳市铁西区应昌小学大明湖分校（西门）","0306小学语数6组","7月11日6：40-7：10"]
[685,"沈阳市铁西区肇工街第三小学","小学语数教师","03220","马琳惠","0101472310",102.19,{"$f":"VLOOKUP(D688:D1864,[1]按组排列版!$G:$P,10,FALSE)","v":"0306小学语数6组"},"小学语数","沈阳市铁西区应昌小学大明湖分校（西门）","0306小学语数6组","7月11日6：40-7：10"]
[686,"沈阳市铁西区肇工街第三小学","小学语数教师","03220","王宇婷","0101411309",96.47,{"$f":"VLOOKUP(D689:D1865,[1]按组排列版!$G:$P,10,FALSE)","v":"0306小学语数6组"},"小学语数","沈阳市铁西区应昌小学大明湖分校（西门）","0306小学语数6组","7月11日6：40-7：10"]
[687,"沈阳市铁西区肇工街第三小学","小学语数教师","03220","张丽艳","0101240830",95.9,{"$f":"VLOOKUP(D690:D1866,[1]按组排列版!$G:$P,10,FALSE)","v":"0306小学语数6组"},"小学语数","沈阳市铁西区应昌小学大明湖分校（西门）","0306小学语数6组","7月11日6：40-7：10"]
[688,"沈阳市铁西区肇工街第三小学","小学语数教师","03220","李春宁","0101461207",95.18,{"$f":"VLOOKUP(D691:D1867,[1]按组排列版!$G:$P,10,FALSE)","v":"0306小学语数6组"},"小学语数","沈阳市铁西区应昌小学大明湖分校（西门）","0306小学语数6组","7月11日6：40-7：10"]
[689,"沈阳市铁西区肇工街第三小学","小学语数教师","03220","寇中园","0101420710",89.81,{"$f":"VLOOKUP(D692:D1868,[1]按组排列版!$G:$P,10,FALSE)","v":"0306小学语数6组"},"小学语数","沈阳市铁西区应昌小学大明湖分校（西门）","0306小学语数6组","7月11日6：40-7：10"]
[690,"沈阳市铁西区重工街第一小学","小学语数教师","03221","孙旭","0101431908",113.03,{"$f":"VLOOKUP(D693:D1869,[1]按组排列版!$G:$P,10,FALSE)","v":"0306小学语数6组"},"小学语数","沈阳市铁西区应昌小学大明湖分校（西门）","0306小学语数6组","7月11日11：40-12：10"]
[691,"沈阳市铁西区重工街第一小学","小学语数教师","03221","陈峙希","0101251223",95.14,{"$f":"VLOOKUP(D694:D1870,[1]按组排列版!$G:$P,10,FALSE)","v":"0306小学语数6组"},"小学语数","沈阳市铁西区应昌小学大明湖分校（西门）","0306小学语数6组","7月11日11：40-12：10"]
[692,"沈阳市铁西区重工街第一小学","小学语数教师","03222","栗先娇","0101430530",119.41,{"$f":"VLOOKUP(D695:D1871,[1]按组排列版!$G:$P,10,FALSE)","v":"0306小学语数6组"},"小学语数","沈阳市铁西区应昌小学大明湖分校（西门）","0306小学语数6组","7月11日11：40-12：10"]
[693,"沈阳市铁西区重工街第一小学","小学语数教师","03222","吉红阳","0101450727",114.82,{"$f":"VLOOKUP(D696:D1872,[1]按组排列版!$G:$P,10,FALSE)","v":"0306小学语数6组"},"小学语数","沈阳市铁西区应昌小学大明湖分校（西门）","0306小学语数6组","7月11日11：40-12：10"]
[694,"沈阳市铁西区重工街第一小学","小学语数教师","03222","杨畅","0101271906",113.1,{"$f":"VLOOKUP(D697:D1873,[1]按组排列版!$G:$P,10,FALSE)","v":"0306小学语数6组"},"小学语数","沈阳市铁西区应昌小学大明湖分校（西门）","0306小学语数6组","7月11日11：40-12：10"]
[695,"沈阳市铁西区重工街第一小学","小学体育教师","03223","赵欣悦","0101460514",104.36,{"$f":"VLOOKUP(D698:D1874,[1]按组排列版!$G:$P,10,FALSE)","v":"0329小学体育3组"},"小学体育","沈阳市铁西区应昌小学大明湖分校（西门）","0329小学体育3组","7月12日6：40-7：10"]
[696,"沈阳市铁西区重工街第一小学","小学体育教师","03223","李海源","0101571802",91.84,{"$f":"VLOOKUP(D699:D1875,[1]按组排列版!$G:$P,10,FALSE)","v":"0329小学体育3组"},"小学体育","沈阳市铁西区应昌小学大明湖分校（西门）","0329小学体育3组","7月12日6：40-7：10"]
[697,"沈阳市铁西区重工街第一小学","小学体育教师","03223","李云凡","0101502103",90.94,{"$f":"VLOOKUP(D700:D1876,[1]按组排列版!$G:$P,10,FALSE)","v":"0329小学体育3组"},"小学体育","沈阳市铁西区应昌小学大明湖分校（西门）","0329小学体育3组","7月12日6：40-7：10"]
[698,"沈阳市铁西区重工街第一小学","小学体育教师","03224","艾东泽","0101510808",104.01,{"$f":"VLOOKUP(D701:D1877,[1]按组排列版!$G:$P,10,FALSE)","v":"0329小学体育3组"},"小学体育","沈阳市铁西区应昌小学大明湖分校（西门）","0329小学体育3组","7月12日6：40-7：10"]
[699,"沈阳市铁西区重工街第一小学","小学体育教师","03224","姜晓坤","0101470403",102.43,{"$f":"VLOOKUP(D702:D1878,[1]按组排列版!$G:$P,10,FALSE)","v":"0329小学体育3组"},"小学体育","沈阳市铁西区应昌小学大明湖分校（西门）","0329小学体育3组","7月12日6：40-7：10"]
[700,"沈阳市铁西区重工街第一小学","小学体育教师","03224","满德鹏","0101291102",99.2,{"$f":"VLOOKUP(D703:D1879,[1]按组排列版!$G:$P,10,FALSE)","v":"0329小学体育3组"},"小学体育","沈阳市铁西区应昌小学大明湖分校（西门）","0329小学体育3组","7月12日6：40-7：10"]
[701,"沈阳市铁西区重工街第一小学","小学音乐教师","03225","张乃千","0101521028",98.6,{"$f":"VLOOKUP(D704:D1880,[1]按组排列版!$G:$P,10,FALSE)","v":"0333小学音乐1组"},"小学音乐","沈阳市铁西区应昌小学大明湖分校（西门）","0333小学音乐1组","7月12日6：40-7：10"]
[702,"沈阳市铁西区重工街第一小学","小学音乐教师","03225","王雪","0101370618",97.91,{"$f":"VLOOKUP(D705:D1881,[1]按组排列版!$G:$P,10,FALSE)","v":"0333小学音乐1组"},"小学音乐","沈阳市铁西区应昌小学大明湖分校（西门）","0333小学音乐1组","7月12日6：40-7：10"]
[703,"沈阳市铁西区重工街第一小学","小学音乐教师","03225","赵越","0101380203",91.26,{"$f":"VLOOKUP(D706:D1882,[1]按组排列版!$G:$P,10,FALSE)","v":"0333小学音乐1组"},"小学音乐","沈阳市铁西区应昌小学大明湖分校（西门）","0333小学音乐1组","7月12日6：40-7：10"]
[704,"沈阳市铁西区重工街第一小学","小学英语教师","03226","王芷晴","0101470806",115.09,{"$f":"VLOOKUP(D707:D1883,[1]按组排列版!$G:$P,10,FALSE)","v":"0319小学英语2组"},"小学英语","沈阳市铁西区应昌小学大明湖分校（西门）","0319小学英语2组","7月11日6：40-7：10"]
[705,"沈阳市铁西区重工街第一小学","小学英语教师","03226","刘一诺","0101560501",114.7,{"$f":"VLOOKUP(D708:D1884,[1]按组排列版!$G:$P,10,FALSE)","v":"0319小学英语2组"},"小学英语","沈阳市铁西区应昌小学大明湖分校（西门）","0319小学英语2组","7月11日6：40-7：10"]
[706,"沈阳市铁西区重工街第一小学","小学英语教师","03226","陈沫含","0101420127",113.23,{"$f":"VLOOKUP(D709:D1885,[1]按组排列版!$G:$P,10,FALSE)","v":"0319小学英语2组"},"小学英语","沈阳市铁西区应昌小学大明湖分校（西门）","0319小学英语2组","7月11日6：40-7：10"]
[707,"沈阳市铁西区重工街第一小学","小学美术教师","03227","郭芳","0101570213",102.76,{"$f":"VLOOKUP(D710:D1886,[1]按组排列版!$G:$P,10,FALSE)","v":"0324小学美术2组"},"小学美术","沈阳市铁西区应昌小学大明湖分校（西门）","0324小学美术2组","7月12日6：40-7：10"]
[708,"沈阳市铁西区重工街第一小学","小学美术教师","03227","贾添鸿","0101571630",99.63,{"$f":"VLOOKUP(D711:D1887,[1]按组排列版!$G:$P,10,FALSE)","v":"0324小学美术2组"},"小学美术","沈阳市铁西区应昌小学大明湖分校（西门）","0324小学美术2组","7月12日6：40-7：10"]
[709,"沈阳市铁西区重工街第一小学","小学美术教师","03227","娄澜","0101400904",98.58,{"$f":"VLOOKUP(D712:D1888,[1]按组排列版!$G:$P,10,FALSE)","v":"0324小学美术2组"},"小学美术","沈阳市铁西区应昌小学大明湖分校（西门）","0324小学美术2组","7月12日6：40-7：10"]
[710,"沈阳市铁西区雏鹰实验小学","小学语数教师","03228","孙嘉辰","0101540706",112.78,{"$f":"VLOOKUP(D713:D1889,[1]按组排列版!$G:$P,10,FALSE)","v":"0306小学语数6组"},"小学语数","沈阳市铁西区应昌小学大明湖分校（西门）","0306小学语数6组","7月11日11：40-12：10"]
[711,"沈阳市铁西区雏鹰实验小学","小学语数教师","03228","黄露瑶","0101290520",110.08,{"$f":"VLOOKUP(D714:D1890,[1]按组排列版!$G:$P,10,FALSE)","v":"0306小学语数6组"},"小学语数","沈阳市铁西区应昌小学大明湖分校（西门）","0306小学语数6组","7月11日11：40-12：10"]
[712,"沈阳市铁西区雏鹰实验小学","小学语数教师","03228","张梓雯","0101231209",109.4,{"$f":"VLOOKUP(D715:D1891,[1]按组排列版!$G:$P,10,FALSE)","v":"0306小学语数6组"},"小学语数","沈阳市铁西区应昌小学大明湖分校（西门）","0306小学语数6组","7月11日11：40-12：10"]
[713,"沈阳市铁西区雏鹰实验小学","小学语数教师","03228","胡东宁","0101410526",108.16,{"$f":"VLOOKUP(D716:D1892,[1]按组排列版!$G:$P,10,FALSE)","v":"0306小学语数6组"},"小学语数","沈阳市铁西区应昌小学大明湖分校（西门）","0306小学语数6组","7月11日11：40-12：10"]
[714,"沈阳市铁西区雏鹰实验小学","小学语数教师","03228","孙远航","0101572116",107.3,{"$f":"VLOOKUP(D717:D1893,[1]按组排列版!$G:$P,10,FALSE)","v":"0306小学语数6组"},"小学语数","沈阳市铁西区应昌小学大明湖分校（西门）","0306小学语数6组","7月11日11：40-12：10"]
[715,"沈阳市铁西区雏鹰实验小学","小学语数教师","03228","姜悦","0101460813",106.64,{"$f":"VLOOKUP(D718:D1894,[1]按组排列版!$G:$P,10,FALSE)","v":"0306小学语数6组"},"小学语数","沈阳市铁西区应昌小学大明湖分校（西门）","0306小学语数6组","7月11日11：40-12：10"]
[716,"沈阳市铁西区雏鹰实验小学","小学语数教师","03229","富子衿","0101430918",108.04,{"$f":"VLOOKUP(D719:D1895,[1]按组排列版!$G:$P,10,FALSE)","v":"0306小学语数6组"},"小学语数","沈阳市铁西区应昌小学大明湖分校（西门）","0306小学语数6组","7月11日11：40-12：10"]
[717,"沈阳市铁西区雏鹰实验小学","小学语数教师","03229","焦晶","0101350402",102.48,{"$f":"VLOOKUP(D720:D1896,[1]按组排列版!$G:$P,10,FALSE)","v":"0306小学语数6组"},"小学语数","沈阳市铁西区应昌小学大明湖分校（西门）","0306小学语数6组","7月11日11：40-12：10"]
[718,"沈阳市铁西区雏鹰实验小学","小学语数教师","03230","王玉鑫","0101280927",111.68,{"$f":"VLOOKUP(D721:D1897,[1]按组排列版!$G:$P,10,FALSE)","v":"0307小学语数7组"},"小学语数","沈阳市铁西区应昌小学大明湖分校（西门）","0307小学语数7组","7月11日6：40-7：10"]
[719,"沈阳市铁西区雏鹰实验小学","小学语数教师","03230","郑枝萌","0101440815",106.88,{"$f":"VLOOKUP(D722:D1898,[1]按组排列版!$G:$P,10,FALSE)","v":"0307小学语数7组"},"小学语数","沈阳市铁西区应昌小学大明湖分校（西门）","0307小学语数7组","7月11日6：40-7：10"]
[720,"沈阳市铁西区雏鹰实验小学","小学语数教师","03230","谢茜茜","0101450614",104.83,{"$f":"VLOOKUP(D723:D1899,[1]按组排列版!$G:$P,10,FALSE)","v":"0307小学语数7组"},"小学语数","沈阳市铁西区应昌小学大明湖分校（西门）","0307小学语数7组","7月11日6：40-7：10"]
[721,"沈阳市铁西区雏鹰实验小学","小学语数教师","03230","景琦","0101431409",104.04,{"$f":"VLOOKUP(D724:D1900,[1]按组排列版!$G:$P,10,FALSE)","v":"0307小学语数7组"},"小学语数","沈阳市铁西区应昌小学大明湖分校（西门）","0307小学语数7组","7月11日6：40-7：10"]
[722,"沈阳市铁西区雏鹰实验小学","小学语数教师","03230","权倬瑄","0101320622",99.2,{"$f":"VLOOKUP(D725:D1901,[1]按组排列版!$G:$P,10,FALSE)","v":"0307小学语数7组"},"小学语数","沈阳市铁西区应昌小学大明湖分校（西门）","0307小学语数7组","7月11日6：40-7：10"]
[723,"沈阳市铁西区雏鹰实验小学","小学语数教师","03230","何家慧","0101440726",98.79,{"$f":"VLOOKUP(D726:D1902,[1]按组排列版!$G:$P,10,FALSE)","v":"0307小学语数7组"},"小学语数","沈阳市铁西区应昌小学大明湖分校（西门）","0307小学语数7组","7月11日6：40-7：10"]
[724,"沈阳市铁西区雏鹰实验小学","小学语数教师","03230","李季","0101441010",94.24,{"$f":"VLOOKUP(D727:D1903,[1]按组排列版!$G:$P,10,FALSE)","v":"0307小学语数7组"},"小学语数","沈阳市铁西区应昌小学大明湖分校（西门）","0307小学语数7组","7月11日6：40-7：10"]
[725,"沈阳市铁西区雏鹰实验小学","小学语数教师","03230","高一菲","0101351206",88.92,{"$f":"VLOOKUP(D728:D1904,[1]按组排列版!$G:$P,10,FALSE)","v":"0307小学语数7组"},"小学语数","沈阳市铁西区应昌小学大明湖分校（西门）","0307小学语数7组","7月11日6：40-7：10"]
[726,"沈阳市铁西区雏鹰实验小学","小学语数教师","03230","李盈","0101431828",82.66,{"$f":"VLOOKUP(D729:D1905,[1]按组排列版!$G:$P,10,FALSE)","v":"0307小学语数7组"},"小学语数","沈阳市铁西区应昌小学大明湖分校（西门）","0307小学语数7组","7月11日6：40-7：10"]
[727,"沈阳市铁西区雏鹰实验小学","小学语数教师","03230","贾思琦","0101441005",78.46,{"$f":"VLOOKUP(D730:D1906,[1]按组排列版!$G:$P,10,FALSE)","v":"0307小学语数7组"},"小学语数","沈阳市铁西区应昌小学大明湖分校（西门）","0307小学语数7组","7月11日6：40-7：10"]
[728,"沈阳市铁西区雏鹰实验小学","小学语数教师","03231","黄硕","0101551212",105.35,{"$f":"VLOOKUP(D731:D1907,[1]按组排列版!$G:$P,10,FALSE)","v":"0306小学语数6组"},"小学语数","沈阳市铁西区应昌小学大明湖分校（西门）","0306小学语数6组","7月11日11：40-12：10"]
[729,"沈阳市铁西区雏鹰实验小学","小学语数教师","03231","胡春雨","0101430208",102.46,{"$f":"VLOOKUP(D732:D1908,[1]按组排列版!$G:$P,10,FALSE)","v":"0306小学语数6组"},"小学语数","沈阳市铁西区应昌小学大明湖分校（西门）","0306小学语数6组","7月11日11：40-12：10"]
[730,"沈阳市铁西区雏鹰实验小学","小学语数教师","03231","刘月","0101431424",101.18,{"$f":"VLOOKUP(D733:D1909,[1]按组排列版!$G:$P,10,FALSE)","v":"0306小学语数6组"},"小学语数","沈阳市铁西区应昌小学大明湖分校（西门）","0306小学语数6组","7月11日11：40-12：10"]
[731,"沈阳市铁西区雏鹰实验小学","小学体育教师","03232","佟思文","0101460720",89.21,{"$f":"VLOOKUP(D734:D1910,[1]按组排列版!$G:$P,10,FALSE)","v":"0329小学体育3组"},"小学体育","沈阳市铁西区应昌小学大明湖分校（西门）","0329小学体育3组","7月12日6：40-7：10"]
[732,"沈阳市铁西区雏鹰实验小学","小学体育教师","03233","李炳男","0101301721",104.5,{"$f":"VLOOKUP(D735:D1911,[1]按组排列版!$G:$P,10,FALSE)","v":"0329小学体育3组"},"小学体育","沈阳市铁西区应昌小学大明湖分校（西门）","0329小学体育3组","7月12日6：40-7：10"]
[733,"沈阳市铁西区雏鹰实验小学","小学体育教师","03233","刘鸿博","0101441026",88.07,{"$f":"VLOOKUP(D736:D1912,[1]按组排列版!$G:$P,10,FALSE)","v":"0329小学体育3组"},"小学体育","沈阳市铁西区应昌小学大明湖分校（西门）","0329小学体育3组","7月12日6：40-7：10"]
[734,"沈阳市铁西区雏鹰实验小学","小学音乐教师","03234","许莞卿","0101281427",106.08,{"$f":"VLOOKUP(D737:D1913,[1]按组排列版!$G:$P,10,FALSE)","v":"0333小学音乐1组"},"小学音乐","沈阳市铁西区应昌小学大明湖分校（西门）","0333小学音乐1组","7月12日6：40-7：10"]
[735,"沈阳市铁西区雏鹰实验小学","小学音乐教师","03234","李璐璐","0101410630",100.11,{"$f":"VLOOKUP(D738:D1914,[1]按组排列版!$G:$P,10,FALSE)","v":"0333小学音乐1组"},"小学音乐","沈阳市铁西区应昌小学大明湖分校（西门）","0333小学音乐1组","7月12日6：40-7：10"]
[736,"沈阳市铁西区雏鹰实验小学","小学音乐教师","03234","田婧莼","0101400220",99.25,{"$f":"VLOOKUP(D739:D1915,[1]按组排列版!$G:$P,10,FALSE)","v":"0333小学音乐1组"},"小学音乐","沈阳市铁西区应昌小学大明湖分校（西门）","0333小学音乐1组","7月12日6：40-7：10"]
[737,"沈阳市铁西区雏鹰实验小学","小学美术教师","03235","王滢","0101280724",110.84,{"$f":"VLOOKUP(D740:D1916,[1]按组排列版!$G:$P,10,FALSE)","v":"0324小学美术2组"},"小学美术","沈阳市铁西区应昌小学大明湖分校（西门）","0324小学美术2组","7月12日6：40-7：10"]
[738,"沈阳市铁西区雏鹰实验小学","小学美术教师","03235","律南西","0101491410",110.02,{"$f":"VLOOKUP(D741:D1917,[1]按组排列版!$G:$P,10,FALSE)","v":"0324小学美术2组"},"小学美术","沈阳市铁西区应昌小学大明湖分校（西门）","0324小学美术2组","7月12日6：40-7：10"]
[739,"沈阳市铁西区雏鹰实验小学","小学美术教师","03235","管兰雪","0101240814",109,{"$f":"VLOOKUP(D742:D1918,[1]按组排列版!$G:$P,10,FALSE)","v":"0324小学美术2组"},"小学美术","沈阳市铁西区应昌小学大明湖分校（西门）","0324小学美术2组","7月12日6：40-7：10"]
[740,"沈阳市铁西区雏鹰实验小学","小学科学教师","03236","张佳宁","0101381409",118.49,{"$f":"VLOOKUP(D743:D1919,[1]按组排列版!$G:$P,10,FALSE)","v":"0335小学科学组"},"小学科学","沈阳市铁西区应昌小学大明湖分校（西门）","0335小学科学组","7月12日6：40-7：10"]
[741,"沈阳市铁西区雏鹰实验小学","小学科学教师","03236","高朗","0101351915",116.7,{"$f":"VLOOKUP(D744:D1920,[1]按组排列版!$G:$P,10,FALSE)","v":"0335小学科学组"},"小学科学","沈阳市铁西区应昌小学大明湖分校（西门）","0335小学科学组","7月12日6：40-7：10"]
[742,"沈阳市铁西区雏鹰实验小学","小学科学教师","03236","丛佳静","0101502028",107.71,{"$f":"VLOOKUP(D745:D1921,[1]按组排列版!$G:$P,10,FALSE)","v":"0335小学科学组"},"小学科学","沈阳市铁西区应昌小学大明湖分校（西门）","0335小学科学组","7月12日6：40-7：10"]
[743,"沈阳市铁西区雏鹰实验小学","小学信息技术教师","03237","马日","0101421430",111.88,{"$f":"VLOOKUP(D746:D1922,[1]按组排列版!$G:$P,10,FALSE)","v":"0336小学信息技术1组"},"小学信息技术","沈阳市铁西区应昌小学大明湖分校（西门）","0336小学信息技术1组","7月12日11：40-12：10"]
[744,"沈阳市铁西区雏鹰实验小学","小学信息技术教师","03237","吴俊怡","0101240526",109.37,{"$f":"VLOOKUP(D747:D1923,[1]按组排列版!$G:$P,10,FALSE)","v":"0336小学信息技术1组"},"小学信息技术","沈阳市铁西区应昌小学大明湖分校（西门）","0336小学信息技术1组","7月12日11：40-12：10"]
[745,"沈阳市铁西区雏鹰实验小学","小学信息技术教师","03237","吴楠","0101570110",105,{"$f":"VLOOKUP(D748:D1924,[1]按组排列版!$G:$P,10,FALSE)","v":"0336小学信息技术1组"},"小学信息技术","沈阳市铁西区应昌小学大明湖分校（西门）","0336小学信息技术1组","7月12日11：40-12：10"]
[746,"沈阳市铁西区重工街第三小学","小学语数教师","03238","徐泓姣","0101391330",109.25,{"$f":"VLOOKUP(D749:D1925,[1]按组排列版!$G:$P,10,FALSE)","v":"0306小学语数6组"},"小学语数","沈阳市铁西区应昌小学大明湖分校（西门）","0306小学语数6组","7月11日11：40-12：10"]
[747,"沈阳市铁西区重工街第三小学","小学语数教师","03238","王竹","0101490810",101.37,{"$f":"VLOOKUP(D750:D1926,[1]按组排列版!$G:$P,10,FALSE)","v":"0306小学语数6组"},"小学语数","沈阳市铁西区应昌小学大明湖分校（西门）","0306小学语数6组","7月11日11：40-12：10"]
[748,"沈阳市铁西区重工街第三小学","小学语数教师","03238","齐语诺","0101422023",96.08,{"$f":"VLOOKUP(D751:D1927,[1]按组排列版!$G:$P,10,FALSE)","v":"0306小学语数6组"},"小学语数","沈阳市铁西区应昌小学大明湖分校（西门）","0306小学语数6组","7月11日11：40-12：10"]
[749,"沈阳市铁西区重工街第三小学","小学信息技术教师","03239","曾玉婷","0101351726",109.24,{"$f":"VLOOKUP(D752:D1928,[1]按组排列版!$G:$P,10,FALSE)","v":"0336小学信息技术1组"},"小学信息技术","沈阳市铁西区应昌小学大明湖分校（西门）","0336小学信息技术1组","7月12日11：40-12：10"]
[750,"沈阳市铁西区重工街第三小学","小学信息技术教师","03239","杨美琳","0101550417",108.97,{"$f":"VLOOKUP(D753:D1929,[1]按组排列版!$G:$P,10,FALSE)","v":"0336小学信息技术1组"},"小学信息技术","沈阳市铁西区应昌小学大明湖分校（西门）","0336小学信息技术1组","7月12日11：40-12：10"]
[751,"沈阳市铁西区重工街第三小学","小学信息技术教师","03239","邓舒丹","0101470102",95.58,{"$f":"VLOOKUP(D754:D1930,[1]按组排列版!$G:$P,10,FALSE)","v":"0336小学信息技术1组"},"小学信息技术","沈阳市铁西区应昌小学大明湖分校（西门）","0336小学信息技术1组","7月12日11：40-12：10"]
[752,"沈阳市铁西区重工街第三小学","小学体育教师","03240","武会","0101432502",96.71,{"$f":"VLOOKUP(D755:D1931,[1]按组排列版!$G:$P,10,FALSE)","v":"0329小学体育3组"},"小学体育","沈阳市铁西区应昌小学大明湖分校（西门）","0329小学体育3组","7月12日6：40-7：10"]
[753,"沈阳市铁西区重工街第三小学","小学体育教师","03240","王湘雅","0101450810",92.5,{"$f":"VLOOKUP(D756:D1932,[1]按组排列版!$G:$P,10,FALSE)","v":"0329小学体育3组"},"小学体育","沈阳市铁西区应昌小学大明湖分校（西门）","0329小学体育3组","7月12日6：40-7：10"]
[754,"沈阳市铁西区重工街第三小学","小学体育教师","03240","代娣","0101231801",89,{"$f":"VLOOKUP(D757:D1933,[1]按组排列版!$G:$P,10,FALSE)","v":"0329小学体育3组"},"小学体育","沈阳市铁西区应昌小学大明湖分校（西门）","0329小学体育3组","7月12日6：40-7：10"]
[755,"沈阳市铁西区启工二校金谷分校","小学音乐教师","03241","王淇平","0101430815",102.1,{"$f":"VLOOKUP(D758:D1934,[1]按组排列版!$G:$P,10,FALSE)","v":"0333小学音乐1组"},"小学音乐","沈阳市铁西区应昌小学大明湖分校（西门）","0333小学音乐1组","7月12日11：40-12：10"]
[756,"沈阳市铁西区启工二校金谷分校","小学音乐教师","03241","岳冰镜","0101431321",93.54,{"$f":"VLOOKUP(D759:D1935,[1]按组排列版!$G:$P,10,FALSE)","v":"0333小学音乐1组"},"小学音乐","沈阳市铁西区应昌小学大明湖分校（西门）","0333小学音乐1组","7月12日11：40-12：10"]
[757,"沈阳市铁西区启工二校金谷分校","小学音乐教师","03241","张娜","0101572902",86.62,{"$f":"VLOOKUP(D760:D1936,[1]按组排列版!$G:$P,10,FALSE)","v":"0333小学音乐1组"},"小学音乐","沈阳市铁西区应昌小学大明湖分校（西门）","0333小学音乐1组","7月12日11：40-12：10"]
[758,"沈阳市铁西区启工二校金谷分校","小学音乐教师","03241","闫华楠","0101371302",86.29,{"$f":"VLOOKUP(D761:D1937,[1]按组排列版!$G:$P,10,FALSE)","v":"0333小学音乐1组"},"小学音乐","沈阳市铁西区应昌小学大明湖分校（西门）","0333小学音乐1组","7月12日11：40-12：10"]
[759,"沈阳市铁西区启工二校金谷分校","小学音乐教师","03241","原泉","0101450417",83.55,{"$f":"VLOOKUP(D762:D1938,[1]按组排列版!$G:$P,10,FALSE)","v":"0333小学音乐1组"},"小学音乐","沈阳市铁西区应昌小学大明湖分校（西门）","0333小学音乐1组","7月12日11：40-12：10"]
[760,"沈阳市铁西区启工二校金谷分校","小学美术教师","03242","赵婉煜","0101420814",109.34,{"$f":"VLOOKUP(D763:D1939,[1]按组排列版!$G:$P,10,FALSE)","v":"0324小学美术2组"},"小学美术","沈阳市铁西区应昌小学大明湖分校（西门）","0324小学美术2组","7月12日6：40-7：10"]
[761,"沈阳市铁西区启工二校金谷分校","小学美术教师","03242","王溪泽","0101560530",109.19,{"$f":"VLOOKUP(D764:D1940,[1]按组排列版!$G:$P,10,FALSE)","v":"0324小学美术2组"},"小学美术","沈阳市铁西区应昌小学大明湖分校（西门）","0324小学美术2组","7月12日6：40-7：10"]
[762,"沈阳市铁西区启工二校金谷分校","小学美术教师","03242","王寒琦","0101491714",107.97,{"$f":"VLOOKUP(D765:D1941,[1]按组排列版!$G:$P,10,FALSE)","v":"0324小学美术2组"},"小学美术","沈阳市铁西区应昌小学大明湖分校（西门）","0324小学美术2组","7月12日6：40-7：10"]
[763,"沈阳市铁西区启工二校金谷分校","小学美术教师","03242","王悦","0101401224",106.65,{"$f":"VLOOKUP(D766:D1942,[1]按组排列版!$G:$P,10,FALSE)","v":"0324小学美术2组"},"小学美术","沈阳市铁西区应昌小学大明湖分校（西门）","0324小学美术2组","7月12日6：40-7：10"]
[764,"沈阳市铁西区启工二校金谷分校","小学美术教师","03242","崔博","0101400321",106.16,{"$f":"VLOOKUP(D767:D1943,[1]按组排列版!$G:$P,10,FALSE)","v":"0324小学美术2组"},"小学美术","沈阳市铁西区应昌小学大明湖分校（西门）","0324小学美术2组","7月12日6：40-7：10"]
[765,"沈阳市铁西区启工二校金谷分校","小学美术教师","03242","郭馨然","0101420620",106.06,{"$f":"VLOOKUP(D768:D1944,[1]按组排列版!$G:$P,10,FALSE)","v":"0324小学美术2组"},"小学美术","沈阳市铁西区应昌小学大明湖分校（西门）","0324小学美术2组","7月12日6：40-7：10"]
[766,"沈阳市铁西区启工二校金谷分校","小学体育教师","03243","张月娇","0101331219",91.71,{"$f":"VLOOKUP(D769:D1945,[1]按组排列版!$G:$P,10,FALSE)","v":"0329小学体育3组"},"小学体育","沈阳市铁西区应昌小学大明湖分校（西门）","0329小学体育3组","7月12日11：40-12：10"]
[767,"沈阳市铁西区启工二校金谷分校","小学信息技术教师","03244","常海岩","0101270914",103.35,{"$f":"VLOOKUP(D770:D1946,[1]按组排列版!$G:$P,10,FALSE)","v":"0336小学信息技术1组"},"小学信息技术","沈阳市铁西区应昌小学大明湖分校（西门）","0336小学信息技术1组","7月12日11：40-12：10"]
[768,"沈阳市铁西区启工二校金谷分校（红梅分校）","小学语数教师","03245","李晓明","0101311503",94.75,{"$f":"VLOOKUP(D771:D1947,[1]按组排列版!$G:$P,10,FALSE)","v":"0307小学语数7组"},"小学语数","沈阳市铁西区应昌小学大明湖分校（西门）","0307小学语数7组","7月11日6：40-7：10"]
[769,"沈阳市铁西区启工二校金谷分校（红梅分校）","小学语数教师","03245","王宁","0101491521",74,{"$f":"VLOOKUP(D772:D1948,[1]按组排列版!$G:$P,10,FALSE)","v":"0307小学语数7组"},"小学语数","沈阳市铁西区应昌小学大明湖分校（西门）","0307小学语数7组","7月11日6：40-7：10"]
[770,"沈阳市铁西区启工二校金谷分校（北一路分校）","小学语数教师","03246","王赫","0101431428",110.81,{"$f":"VLOOKUP(D773:D1949,[1]按组排列版!$G:$P,10,FALSE)","v":"0307小学语数7组"},"小学语数","沈阳市铁西区应昌小学大明湖分校（西门）","0307小学语数7组","7月11日6：40-7：10"]
[771,"沈阳市铁西区启工二校金谷分校（北一路分校）","小学语数教师","03246","陈露","0101450909",100.06,{"$f":"VLOOKUP(D774:D1950,[1]按组排列版!$G:$P,10,FALSE)","v":"0307小学语数7组"},"小学语数","沈阳市铁西区应昌小学大明湖分校（西门）","0307小学语数7组","7月11日6：40-7：10"]
[772,"沈阳市铁西区启工二校金谷分校（北一路分校）","小学语数教师","03246","赵婷婷","0101380415",86.06,{"$f":"VLOOKUP(D775:D1951,[1]按组排列版!$G:$P,10,FALSE)","v":"0307小学语数7组"},"小学语数","沈阳市铁西区应昌小学大明湖分校（西门）","0307小学语数7组","7月11日6：40-7：10"]
[773,"沈阳市铁西区启工二校金谷分校（北一路分校）","小学语数教师","03247","杨洁宁","0101241011",115.14,{"$f":"VLOOKUP(D776:D1952,[1]按组排列版!$G:$P,10,FALSE)","v":"0307小学语数7组"},"小学语数","沈阳市铁西区应昌小学大明湖分校（西门）","0307小学语数7组","7月11日11：40-12：10"]
[774,"沈阳市铁西区启工二校金谷分校（北一路分校）","小学语数教师","03247","马赫男","0101460822",112.31,{"$f":"VLOOKUP(D777:D1953,[1]按组排列版!$G:$P,10,FALSE)","v":"0307小学语数7组"},"小学语数","沈阳市铁西区应昌小学大明湖分校（西门）","0307小学语数7组","7月11日11：40-12：10"]
[775,"沈阳市铁西区启工二校金谷分校（北一路分校）","小学语数教师","03247","冯莹","0101491415",109.69,{"$f":"VLOOKUP(D778:D1954,[1]按组排列版!$G:$P,10,FALSE)","v":"0307小学语数7组"},"小学语数","沈阳市铁西区应昌小学大明湖分校（西门）","0307小学语数7组","7月11日11：40-12：10"]
[776,"沈阳市铁西区启工二校金谷分校（北一路分校）","小学语数教师","03247","刘振锁","0101460630",104.96,{"$f":"VLOOKUP(D779:D1955,[1]按组排列版!$G:$P,10,FALSE)","v":"0307小学语数7组"},"小学语数","沈阳市铁西区应昌小学大明湖分校（西门）","0307小学语数7组","7月11日11：40-12：10"]
[777,"沈阳市铁西区启工二校金谷分校（北一路分校）","小学语数教师","03247","张钰","0101281823",100.43,{"$f":"VLOOKUP(D780:D1956,[1]按组排列版!$G:$P,10,FALSE)","v":"0307小学语数7组"},"小学语数","沈阳市铁西区应昌小学大明湖分校（西门）","0307小学语数7组","7月11日11：40-12：10"]
[778,"沈阳市铁西区启工二校金谷分校（北一路分校）","小学语数教师","03247","刘成督","0101501411",99.74,{"$f":"VLOOKUP(D781:D1957,[1]按组排列版!$G:$P,10,FALSE)","v":"0307小学语数7组"},"小学语数","沈阳市铁西区应昌小学大明湖分校（西门）","0307小学语数7组","7月11日11：40-12：10"]
[779,"沈阳市铁西区启工二校金谷分校（北一路分校）","小学语数教师","03247","孔馨悦","0101311011",96.08,{"$f":"VLOOKUP(D782:D1958,[1]按组排列版!$G:$P,10,FALSE)","v":"0307小学语数7组"},"小学语数","沈阳市铁西区应昌小学大明湖分校（西门）","0307小学语数7组","7月11日11：40-12：10"]
[780,"沈阳市铁西区启工二校金谷分校（北一路分校）","小学语数教师","03248","朱美旋","0101431629",116.67,{"$f":"VLOOKUP(D783:D1959,[1]按组排列版!$G:$P,10,FALSE)","v":"0307小学语数7组"},"小学语数","沈阳市铁西区应昌小学大明湖分校（西门）","0307小学语数7组","7月11日11：40-12：10"]
[781,"沈阳市铁西区启工二校金谷分校（北一路分校）","小学语数教师","03248","陈紫盈","0101340205",107.39,{"$f":"VLOOKUP(D784:D1960,[1]按组排列版!$G:$P,10,FALSE)","v":"0307小学语数7组"},"小学语数","沈阳市铁西区应昌小学大明湖分校（西门）","0307小学语数7组","7月11日11：40-12：10"]
[782,"沈阳市铁西区启工二校金谷分校（北一路分校）","小学语数教师","03248","孙丽瑶","0101450529",105.95,{"$f":"VLOOKUP(D785:D1961,[1]按组排列版!$G:$P,10,FALSE)","v":"0307小学语数7组"},"小学语数","沈阳市铁西区应昌小学大明湖分校（西门）","0307小学语数7组","7月11日11：40-12：10"]
[783,"沈阳市铁西区启工二校金谷分校（北一路分校）","小学英语教师","03249","吴姝霆","0101431329",115.13,{"$f":"VLOOKUP(D786:D1962,[1]按组排列版!$G:$P,10,FALSE)","v":"0319小学英语2组"},"小学英语","沈阳市铁西区应昌小学大明湖分校（西门）","0319小学英语2组","7月11日6：40-7：10"]
[784,"沈阳市铁西区启工二校金谷分校（北一路分校）","小学英语教师","03249","刘莹","0101361211",112.81,{"$f":"VLOOKUP(D787:D1963,[1]按组排列版!$G:$P,10,FALSE)","v":"0319小学英语2组"},"小学英语","沈阳市铁西区应昌小学大明湖分校（西门）","0319小学英语2组","7月11日6：40-7：10"]
[785,"沈阳市铁西区启工二校金谷分校（北一路分校）","小学英语教师","03249","陈畅","0101432406",112.27,{"$f":"VLOOKUP(D788:D1964,[1]按组排列版!$G:$P,10,FALSE)","v":"0319小学英语2组"},"小学英语","沈阳市铁西区应昌小学大明湖分校（西门）","0319小学英语2组","7月11日6：40-7：10"]
[786,"沈阳市铁西区启工二校金谷分校（北一路分校）","小学美术教师","03251","李金蒂","0101502018",103.43,{"$f":"VLOOKUP(D789:D1965,[1]按组排列版!$G:$P,10,FALSE)","v":"0324小学美术2组"},"小学美术","沈阳市铁西区应昌小学大明湖分校（西门）","0324小学美术2组","7月12日6：40-7：10"]
[787,"沈阳市铁西区启工二校金谷分校（北一路分校）","小学美术教师","03251","宋玉","0101380916",100.17,{"$f":"VLOOKUP(D790:D1966,[1]按组排列版!$G:$P,10,FALSE)","v":"0324小学美术2组"},"小学美术","沈阳市铁西区应昌小学大明湖分校（西门）","0324小学美术2组","7月12日6：40-7：10"]
[788,"沈阳市铁西区启工二校金谷分校（北一路分校）","小学美术教师","03251","吴诗晴","0101331121",99.61,{"$f":"VLOOKUP(D791:D1967,[1]按组排列版!$G:$P,10,FALSE)","v":"0324小学美术2组"},"小学美术","沈阳市铁西区应昌小学大明湖分校（西门）","0324小学美术2组","7月12日6：40-7：10"]
[789,"沈阳市铁西区启工二校金谷分校（北一路分校）","小学音乐教师","03252","王诗涵","0101390207",102.51,{"$f":"VLOOKUP(D792:D1968,[1]按组排列版!$G:$P,10,FALSE)","v":"0333小学音乐1组"},"小学音乐","沈阳市铁西区应昌小学大明湖分校（西门）","0333小学音乐1组","7月12日11：40-12：10"]
[790,"沈阳市铁西区启工二校金谷分校（北一路分校）","小学音乐教师","03252","隋芷暄","0101291921",95.62,{"$f":"VLOOKUP(D793:D1969,[1]按组排列版!$G:$P,10,FALSE)","v":"0333小学音乐1组"},"小学音乐","沈阳市铁西区应昌小学大明湖分校（西门）","0333小学音乐1组","7月12日11：40-12：10"]
[791,"沈阳市铁西区启工二校金谷分校（北一路分校）","小学音乐教师","03252","田冰婕","0101450410",95.57,{"$f":"VLOOKUP(D794:D1970,[1]按组排列版!$G:$P,10,FALSE)","v":"0333小学音乐1组"},"小学音乐","沈阳市铁西区应昌小学大明湖分校（西门）","0333小学音乐1组","7月12日11：40-12：10"]
[792,"沈阳市铁西区启工二校金谷分校（北一路分校）","小学信息技术教师","03253","刘巍","0101540319",105.46,{"$f":"VLOOKUP(D795:D1971,[1]按组排列版!$G:$P,10,FALSE)","v":"0336小学信息技术1组"},"小学信息技术","沈阳市铁西区应昌小学大明湖分校（西门）","0336小学信息技术1组","7月12日11：40-12：10"]
[793,"沈阳市铁西区启工二校金谷分校（北一路分校）","小学信息技术教师","03253","何金伟","0101341801",105,{"$f":"VLOOKUP(D796:D1972,[1]按组排列版!$G:$P,10,FALSE)","v":"0336小学信息技术1组"},"小学信息技术","沈阳市铁西区应昌小学大明湖分校（西门）","0336小学信息技术1组","7月12日11：40-12：10"]
[794,"沈阳市铁西区启工二校金谷分校（北一路分校）","小学信息技术教师","03253","李婷婷","0101320322",99.1,{"$f":"VLOOKUP(D797:D1973,[1]按组排列版!$G:$P,10,FALSE)","v":"0336小学信息技术1组"},"小学信息技术","沈阳市铁西区应昌小学大明湖分校（西门）","0336小学信息技术1组","7月12日11：40-12：10"]
[795,"沈阳市铁西区启工二校金谷分校（北一路分校）","小学科学教师","03254","赵莹","0101560909",123.04,{"$f":"VLOOKUP(D798:D1974,[1]按组排列版!$G:$P,10,FALSE)","v":"0335小学科学组"},"小学科学","沈阳市铁西区应昌小学大明湖分校（西门）","0335小学科学组","7月12日6：40-7：10"]
[796,"沈阳市铁西区启工二校金谷分校（北一路分校）","小学科学教师","03254","沈明芳","0101311022",109.82,{"$f":"VLOOKUP(D799:D1975,[1]按组排列版!$G:$P,10,FALSE)","v":"0335小学科学组"},"小学科学","沈阳市铁西区应昌小学大明湖分校（西门）","0335小学科学组","7月12日6：40-7：10"]
[797,"沈阳市铁西区启工二校金谷分校（北一路分校）","小学科学教师","03254","张嘉欣","0101430321",102.89,{"$f":"VLOOKUP(D800:D1976,[1]按组排列版!$G:$P,10,FALSE)","v":"0335小学科学组"},"小学科学","沈阳市铁西区应昌小学大明湖分校（西门）","0335小学科学组","7月12日6：40-7：10"]
[798,"沈阳市铁西区重工街第五小学","小学语数教师","03255","范佳文","0101441515",99.96,{"$f":"VLOOKUP(D801:D1977,[1]按组排列版!$G:$P,10,FALSE)","v":"0307小学语数7组"},"小学语数","沈阳市铁西区应昌小学大明湖分校（西门）","0307小学语数7组","7月11日11：40-12：10"]
[799,"沈阳市铁西区重工街第五小学","小学语数教师","03255","陈小强","0101421323",88.01,{"$f":"VLOOKUP(D802:D1978,[1]按组排列版!$G:$P,10,FALSE)","v":"0307小学语数7组"},"小学语数","沈阳市铁西区应昌小学大明湖分校（西门）","0307小学语数7组","7月11日11：40-12：10"]
[800,"沈阳市铁西区重工街第五小学","小学体育教师","03256","姜昱竹","0101410416",104.05,{"$f":"VLOOKUP(D803:D1979,[1]按组排列版!$G:$P,10,FALSE)","v":"0329小学体育3组"},"小学体育","沈阳市铁西区应昌小学大明湖分校（西门）","0329小学体育3组","7月12日11：40-12：10"]
[801,"沈阳市铁西区重工街第五小学","小学体育教师","03256","董硕","0101330212",78.07,{"$f":"VLOOKUP(D804:D1980,[1]按组排列版!$G:$P,10,FALSE)","v":"0329小学体育3组"},"小学体育","沈阳市铁西区应昌小学大明湖分校（西门）","0329小学体育3组","7月12日11：40-12：10"]
[802,"沈阳市铁西区工人村第一小学","小学英语教师","03257","王淼","0101231617",112.52,{"$f":"VLOOKUP(D805:D1981,[1]按组排列版!$G:$P,10,FALSE)","v":"0319小学英语2组"},"小学英语","沈阳市铁西区应昌小学大明湖分校（西门）","0319小学英语2组","7月11日6：40-7：10"]
[803,"沈阳市铁西区工人村第一小学","小学英语教师","03257","郭丹丹","0101492413",111.44,{"$f":"VLOOKUP(D806:D1982,[1]按组排列版!$G:$P,10,FALSE)","v":"0319小学英语2组"},"小学英语","沈阳市铁西区应昌小学大明湖分校（西门）","0319小学英语2组","7月11日6：40-7：10"]
[804,"沈阳市铁西区工人村第一小学","小学英语教师","03257","任家仪","0101460219",109.46,{"$f":"VLOOKUP(D807:D1983,[1]按组排列版!$G:$P,10,FALSE)","v":"0319小学英语2组"},"小学英语","沈阳市铁西区应昌小学大明湖分校（西门）","0319小学英语2组","7月11日6：40-7：10"]
[805,"沈阳市铁西区工人村第一小学","小学英语教师","03258","马晓旭","0101290701",106.46,{"$f":"VLOOKUP(D808:D1984,[1]按组排列版!$G:$P,10,FALSE)","v":"0319小学英语2组"},"小学英语","沈阳市铁西区应昌小学大明湖分校（西门）","0319小学英语2组","7月11日11：40-12：10"]
[806,"沈阳市铁西区工人村第一小学","小学英语教师","03258","吴瑶","0101552226",106.26,{"$f":"VLOOKUP(D809:D1985,[1]按组排列版!$G:$P,10,FALSE)","v":"0319小学英语2组"},"小学英语","沈阳市铁西区应昌小学大明湖分校（西门）","0319小学英语2组","7月11日11：40-12：10"]
[807,"沈阳市铁西区工人村第一小学","小学英语教师","03258","宛江月","0101472120",105.59,{"$f":"VLOOKUP(D810:D1986,[1]按组排列版!$G:$P,10,FALSE)","v":"0319小学英语2组"},"小学英语","沈阳市铁西区应昌小学大明湖分校（西门）","0319小学英语2组","7月11日11：40-12：10"]
[808,"沈阳市铁西区工人村第一小学","小学体育教师","03259","魏新宇","0101360425",94.99,{"$f":"VLOOKUP(D811:D1987,[1]按组排列版!$G:$P,10,FALSE)","v":"0329小学体育3组"},"小学体育","沈阳市铁西区应昌小学大明湖分校（西门）","0329小学体育3组","7月12日11：40-12：10"]
[809,"沈阳市铁西区工人村第一小学","小学体育教师","03260","胡悦","0101271425",91.26,{"$f":"VLOOKUP(D812:D1988,[1]按组排列版!$G:$P,10,FALSE)","v":"0329小学体育3组"},"小学体育","沈阳市铁西区应昌小学大明湖分校（西门）","0329小学体育3组","7月12日11：40-12：10"]
[810,"沈阳市铁西区工人村第一小学","小学体育教师","03260","薛钧升","0101250703",74.19,{"$f":"VLOOKUP(D813:D1989,[1]按组排列版!$G:$P,10,FALSE)","v":"0329小学体育3组"},"小学体育","沈阳市铁西区应昌小学大明湖分校（西门）","0329小学体育3组","7月12日11：40-12：10"]
[811,"沈阳市铁西区工人村第一小学","小学语数教师","03261","魏双","0101310801",106.33,{"$f":"VLOOKUP(D814:D1990,[1]按组排列版!$G:$P,10,FALSE)","v":"0307小学语数7组"},"小学语数","沈阳市铁西区应昌小学大明湖分校（西门）","0307小学语数7组","7月11日11：40-12：10"]
[812,"沈阳市铁西区工人村第一小学","小学语数教师","03261","隋雪","0101361917",101.02,{"$f":"VLOOKUP(D815:D1991,[1]按组排列版!$G:$P,10,FALSE)","v":"0307小学语数7组"},"小学语数","沈阳市铁西区应昌小学大明湖分校（西门）","0307小学语数7组","7月11日11：40-12：10"]
[813,"沈阳市铁西区工人村第一小学","小学语数教师","03261","姜亚男","0101440310",99.73,{"$f":"VLOOKUP(D816:D1992,[1]按组排列版!$G:$P,10,FALSE)","v":"0307小学语数7组"},"小学语数","沈阳市铁西区应昌小学大明湖分校（西门）","0307小学语数7组","7月11日11：40-12：10"]
[814,"沈阳市铁西区工人村第一小学","小学语数教师","03262","王琨","0101321308",113.07,{"$f":"VLOOKUP(D817:D1993,[1]按组排列版!$G:$P,10,FALSE)","v":"0307小学语数7组"},"小学语数","沈阳市铁西区应昌小学大明湖分校（西门）","0307小学语数7组","7月11日11：40-12：10"]
[815,"沈阳市铁西区工人村第一小学","小学语数教师","03262","高子钧","0101460428",98.3,{"$f":"VLOOKUP(D818:D1994,[1]按组排列版!$G:$P,10,FALSE)","v":"0307小学语数7组"},"小学语数","沈阳市铁西区应昌小学大明湖分校（西门）","0307小学语数7组","7月11日11：40-12：10"]
[816,"沈阳市铁西区工人村第二小学","小学语数教师","03263","宋沚桧","0101430707",112.78,{"$f":"VLOOKUP(D819:D1995,[1]按组排列版!$G:$P,10,FALSE)","v":"0308小学语数8组"},"小学语数","沈阳市铁西区应昌小学大明湖分校（西门）","0308小学语数8组","7月11日6：40-7：10"]
[817,"沈阳市铁西区工人村第二小学","小学语数教师","03263","郭红雨","0101430911",108.51,{"$f":"VLOOKUP(D820:D1996,[1]按组排列版!$G:$P,10,FALSE)","v":"0308小学语数8组"},"小学语数","沈阳市铁西区应昌小学大明湖分校（西门）","0308小学语数8组","7月11日6：40-7：10"]
[818,"沈阳市铁西区工人村第二小学","小学语数教师","03263","万宇辰","0101432329",107.14,{"$f":"VLOOKUP(D821:D1997,[1]按组排列版!$G:$P,10,FALSE)","v":"0308小学语数8组"},"小学语数","沈阳市铁西区应昌小学大明湖分校（西门）","0308小学语数8组","7月11日6：40-7：10"]
[819,"沈阳市铁西区工人村第二小学","小学语数教师","03263","王妍","0101562130",103.72,{"$f":"VLOOKUP(D822:D1998,[1]按组排列版!$G:$P,10,FALSE)","v":"0308小学语数8组"},"小学语数","沈阳市铁西区应昌小学大明湖分校（西门）","0308小学语数8组","7月11日6：40-7：10"]
[820,"沈阳市铁西区工人村第二小学","小学语数教师","03263","付婷婷","0101540801",99.65,{"$f":"VLOOKUP(D823:D1999,[1]按组排列版!$G:$P,10,FALSE)","v":"0308小学语数8组"},"小学语数","沈阳市铁西区应昌小学大明湖分校（西门）","0308小学语数8组","7月11日6：40-7：10"]
[821,"沈阳市铁西区工人村第二小学","小学语数教师","03263","丁吴限","0101431208",98.34,{"$f":"VLOOKUP(D824:D2000,[1]按组排列版!$G:$P,10,FALSE)","v":"0308小学语数8组"},"小学语数","沈阳市铁西区应昌小学大明湖分校（西门）","0308小学语数8组","7月11日6：40-7：10"]
[822,"沈阳市铁西区工人村第二小学","小学语数教师","03263","孙鑫瑶","0101571708",98.28,{"$f":"VLOOKUP(D825:D2001,[1]按组排列版!$G:$P,10,FALSE)","v":"0308小学语数8组"},"小学语数","沈阳市铁西区应昌小学大明湖分校（西门）","0308小学语数8组","7月11日6：40-7：10"]
[823,"沈阳市铁西区工人村第二小学","小学语数教师","03263","邓博威","0101431307",97.4,{"$f":"VLOOKUP(D826:D2002,[1]按组排列版!$G:$P,10,FALSE)","v":"0308小学语数8组"},"小学语数","沈阳市铁西区应昌小学大明湖分校（西门）","0308小学语数8组","7月11日6：40-7：10"]
[824,"沈阳市铁西区工人村第二小学","小学语数教师","03263","徐至寒","0101490423",97.2,{"$f":"VLOOKUP(D827:D2003,[1]按组排列版!$G:$P,10,FALSE)","v":"0308小学语数8组"},"小学语数","沈阳市铁西区应昌小学大明湖分校（西门）","0308小学语数8组","7月11日6：40-7：10"]
[825,"沈阳市铁西区工人村第二小学","小学语数教师","03263","李天琪","0101250221",95.84,{"$f":"VLOOKUP(D828:D2004,[1]按组排列版!$G:$P,10,FALSE)","v":"0308小学语数8组"},"小学语数","沈阳市铁西区应昌小学大明湖分校（西门）","0308小学语数8组","7月11日6：40-7：10"]
[826,"沈阳市铁西区工人村第二小学","小学语数教师","03263","刘影","0101340618",95.8,{"$f":"VLOOKUP(D829:D2005,[1]按组排列版!$G:$P,10,FALSE)","v":"0308小学语数8组"},"小学语数","沈阳市铁西区应昌小学大明湖分校（西门）","0308小学语数8组","7月11日6：40-7：10"]
[827,"沈阳市铁西区工人村第二小学","小学语数教师","03263","马烨彬","0101250802",86.74,{"$f":"VLOOKUP(D830:D2006,[1]按组排列版!$G:$P,10,FALSE)","v":"0308小学语数8组"},"小学语数","沈阳市铁西区应昌小学大明湖分校（西门）","0308小学语数8组","7月11日6：40-7：10"]
[828,"沈阳市铁西区工人村第二小学","小学英语教师","03264","林岩","0101520601",118.11,{"$f":"VLOOKUP(D831:D2007,[1]按组排列版!$G:$P,10,FALSE)","v":"0319小学英语2组"},"小学英语","沈阳市铁西区应昌小学大明湖分校（西门）","0319小学英语2组","7月11日11：40-12：10"]
[829,"沈阳市铁西区工人村第二小学","小学英语教师","03264","王紫瑜","0101341203",117.11,{"$f":"VLOOKUP(D832:D2008,[1]按组排列版!$G:$P,10,FALSE)","v":"0319小学英语2组"},"小学英语","沈阳市铁西区应昌小学大明湖分校（西门）","0319小学英语2组","7月11日11：40-12：10"]
[830,"沈阳市铁西区工人村第二小学","小学英语教师","03264","许建洁","0101562427",115.36,{"$f":"VLOOKUP(D833:D2009,[1]按组排列版!$G:$P,10,FALSE)","v":"0319小学英语2组"},"小学英语","沈阳市铁西区应昌小学大明湖分校（西门）","0319小学英语2组","7月11日11：40-12：10"]
[831,"沈阳市铁西区工人村第二小学","小学英语教师","03265","牛飞","0101380323",105.05,{"$f":"VLOOKUP(D834:D2010,[1]按组排列版!$G:$P,10,FALSE)","v":"0319小学英语2组"},"小学英语","沈阳市铁西区应昌小学大明湖分校（西门）","0319小学英语2组","7月11日11：40-12：10"]
[832,"沈阳市铁西区工人村第二小学","小学英语教师","03265","朱彤","0101291915",103.9,{"$f":"VLOOKUP(D835:D2011,[1]按组排列版!$G:$P,10,FALSE)","v":"0319小学英语2组"},"小学英语","沈阳市铁西区应昌小学大明湖分校（西门）","0319小学英语2组","7月11日11：40-12：10"]
[833,"沈阳市铁西区工人村第二小学","小学英语教师","03265","王春淼","0101450930",102.77,{"$f":"VLOOKUP(D836:D2012,[1]按组排列版!$G:$P,10,FALSE)","v":"0319小学英语2组"},"小学英语","沈阳市铁西区应昌小学大明湖分校（西门）","0319小学英语2组","7月11日11：40-12：10"]
[834,"沈阳市铁西区工人村第二小学","小学体育教师","03266","杜天龙","0101521002",104.78,{"$f":"VLOOKUP(D837:D2013,[1]按组排列版!$G:$P,10,FALSE)","v":"0329小学体育3组"},"小学体育","沈阳市铁西区应昌小学大明湖分校（西门）","0329小学体育3组","7月12日11：40-12：10"]
[835,"沈阳市铁西区工人村第二小学","小学体育教师","03266","袁芳芳","0101310319",90.42,{"$f":"VLOOKUP(D838:D2014,[1]按组排列版!$G:$P,10,FALSE)","v":"0329小学体育3组"},"小学体育","沈阳市铁西区应昌小学大明湖分校（西门）","0329小学体育3组","7月12日11：40-12：10"]
[836,"沈阳市铁西区工人村第二小学","小学体育教师","03266","孙小健","0101281726",77.37,{"$f":"VLOOKUP(D839:D2015,[1]按组排列版!$G:$P,10,FALSE)","v":"0329小学体育3组"},"小学体育","沈阳市铁西区应昌小学大明湖分校（西门）","0329小学体育3组","7月12日11：40-12：10"]
[837,"沈阳市铁西区艳粉街第一小学","小学语数教师","03267","夏艺宁","0101440215",110.96,{"$f":"VLOOKUP(D840:D2016,[1]按组排列版!$G:$P,10,FALSE)","v":"0308小学语数8组"},"小学语数","沈阳市铁西区应昌小学大明湖分校（西门）","0308小学语数8组","7月11日6：40-7：10"]
[838,"沈阳市铁西区艳粉街第一小学","小学语数教师","03267","赵若含","0101441206",101.5,{"$f":"VLOOKUP(D841:D2017,[1]按组排列版!$G:$P,10,FALSE)","v":"0308小学语数8组"},"小学语数","沈阳市铁西区应昌小学大明湖分校（西门）","0308小学语数8组","7月11日6：40-7：10"]
[839,"沈阳市铁西区艳粉街第一小学","小学英语教师","03268","范晓慧","0101360123",109.86,{"$f":"VLOOKUP(D842:D2018,[1]按组排列版!$G:$P,10,FALSE)","v":"0319小学英语2组"},"小学英语","沈阳市铁西区应昌小学大明湖分校（西门）","0319小学英语2组","7月11日11：40-12：10"]
[840,"沈阳市铁西区艳粉街第一小学","小学英语教师","03268","王莹","0101231215",104.9,{"$f":"VLOOKUP(D843:D2019,[1]按组排列版!$G:$P,10,FALSE)","v":"0319小学英语2组"},"小学英语","沈阳市铁西区应昌小学大明湖分校（西门）","0319小学英语2组","7月11日11：40-12：10"]
[841,"沈阳市铁西区艳粉街第一小学","小学英语教师","03268","山琳瑛","0101340711",99.74,{"$f":"VLOOKUP(D844:D2020,[1]按组排列版!$G:$P,10,FALSE)","v":"0319小学英语2组"},"小学英语","沈阳市铁西区应昌小学大明湖分校（西门）","0319小学英语2组","7月11日11：40-12：10"]
[842,"沈阳市铁西区南十二路小学","小学语数教师","03269","张新月","0101460626",97.25,{"$f":"VLOOKUP(D845:D2021,[1]按组排列版!$G:$P,10,FALSE)","v":"0308小学语数8组"},"小学语数","沈阳市铁西区应昌小学大明湖分校（西门）","0308小学语数8组","7月11日6：40-7：10"]
[843,"沈阳市铁西区南十二路小学","小学语数教师","03269","张谊博","0101381406",92.57,{"$f":"VLOOKUP(D846:D2022,[1]按组排列版!$G:$P,10,FALSE)","v":"0308小学语数8组"},"小学语数","沈阳市铁西区应昌小学大明湖分校（西门）","0308小学语数8组","7月11日6：40-7：10"]
[844,"沈阳市铁西区南十二路小学","小学语数教师","03270","王靖雯","0101390430",111.24,{"$f":"VLOOKUP(D847:D2023,[1]按组排列版!$G:$P,10,FALSE)","v":"0308小学语数8组"},"小学语数","沈阳市铁西区应昌小学大明湖分校（西门）","0308小学语数8组","7月11日11：40-12：10"]
[845,"沈阳市铁西区南十二路小学","小学语数教师","03270","张彤彤","0101271020",108.51,{"$f":"VLOOKUP(D848:D2024,[1]按组排列版!$G:$P,10,FALSE)","v":"0308小学语数8组"},"小学语数","沈阳市铁西区应昌小学大明湖分校（西门）","0308小学语数8组","7月11日11：40-12：10"]
[846,"沈阳市铁西区南十二路小学","小学语数教师","03270","李秋玲","0101340627",105.66,{"$f":"VLOOKUP(D849:D2025,[1]按组排列版!$G:$P,10,FALSE)","v":"0308小学语数8组"},"小学语数","沈阳市铁西区应昌小学大明湖分校（西门）","0308小学语数8组","7月11日11：40-12：10"]
[847,"沈阳市铁西区南十二路小学","小学美术教师","03271","王楷晴","0101440701",105.21,{"$f":"VLOOKUP(D850:D2026,[1]按组排列版!$G:$P,10,FALSE)","v":"0324小学美术2组"},"小学美术","沈阳市铁西区应昌小学大明湖分校（西门）","0324小学美术2组","7月12日6：40-7：10"]
[848,"沈阳市铁西区南十二路小学","小学美术教师","03271","夏伯妍","0101440928",103.94,{"$f":"VLOOKUP(D851:D2027,[1]按组排列版!$G:$P,10,FALSE)","v":"0324小学美术2组"},"小学美术","沈阳市铁西区应昌小学大明湖分校（西门）","0324小学美术2组","7月12日6：40-7：10"]
[849,"沈阳市铁西区南十二路小学","小学美术教师","03271","张恺桐","0101510414",100.79,{"$f":"VLOOKUP(D852:D2028,[1]按组排列版!$G:$P,10,FALSE)","v":"0324小学美术2组"},"小学美术","沈阳市铁西区应昌小学大明湖分校（西门）","0324小学美术2组","7月12日6：40-7：10"]
[850,"沈阳市铁西区应昌街小学","小学语数教师","03272","于淼","0101441322",112.16,{"$f":"VLOOKUP(D853:D2029,[1]按组排列版!$G:$P,10,FALSE)","v":"0308小学语数8组"},"小学语数","沈阳市铁西区应昌小学大明湖分校（西门）","0308小学语数8组","7月11日11：40-12：10"]
[851,"沈阳市铁西区应昌街小学","小学语数教师","03273","邹倩文","0101420407",110.9,{"$f":"VLOOKUP(D854:D2030,[1]按组排列版!$G:$P,10,FALSE)","v":"0308小学语数8组"},"小学语数","沈阳市铁西区应昌小学大明湖分校（西门）","0308小学语数8组","7月11日11：40-12：10"]
[852,"沈阳市铁西区应昌街小学","小学语数教师","03273","闫雨薇","0101551216",100.19,{"$f":"VLOOKUP(D855:D2031,[1]按组排列版!$G:$P,10,FALSE)","v":"0308小学语数8组"},"小学语数","沈阳市铁西区应昌小学大明湖分校（西门）","0308小学语数8组","7月11日11：40-12：10"]
[853,"沈阳市铁西区应昌街小学","小学语数教师","03273","项占鑫","0101290603",95.12,{"$f":"VLOOKUP(D856:D2032,[1]按组排列版!$G:$P,10,FALSE)","v":"0308小学语数8组"},"小学语数","沈阳市铁西区应昌小学大明湖分校（西门）","0308小学语数8组","7月11日11：40-12：10"]
[854,"沈阳市铁西区应昌街小学","小学美术教师","03274","张冬祎","0101330619",94.03,{"$f":"VLOOKUP(D857:D2033,[1]按组排列版!$G:$P,10,FALSE)","v":"0324小学美术2组"},"小学美术","沈阳市铁西区应昌小学大明湖分校（西门）","0324小学美术2组","7月12日11：40-12：10"]
[855,"沈阳市铁西区应昌街小学","小学美术教师","03274","李文强","0101441130",91.72,{"$f":"VLOOKUP(D858:D2034,[1]按组排列版!$G:$P,10,FALSE)","v":"0324小学美术2组"},"小学美术","沈阳市铁西区应昌小学大明湖分校（西门）","0324小学美术2组","7月12日11：40-12：10"]
[856,"沈阳市铁西区应昌街小学","小学美术教师","03274","刘洋","0101491319",88.86,{"$f":"VLOOKUP(D859:D2035,[1]按组排列版!$G:$P,10,FALSE)","v":"0324小学美术2组"},"小学美术","沈阳市铁西区应昌小学大明湖分校（西门）","0324小学美术2组","7月12日11：40-12：10"]
[857,"沈阳市铁西区应昌小学大明湖分校","小学语数教师","03275","张晓娟","0101472028",110.9,{"$f":"VLOOKUP(D860:D2036,[1]按组排列版!$G:$P,10,FALSE)","v":"0308小学语数8组"},"小学语数","沈阳市铁西区应昌小学大明湖分校（西门）","0308小学语数8组","7月11日11：40-12：10"]
[858,"沈阳市铁西区应昌小学大明湖分校","小学语数教师","03276","宫静","0101490904",116.79,{"$f":"VLOOKUP(D861:D2037,[1]按组排列版!$G:$P,10,FALSE)","v":"0309小学语数9组"},"小学语数","沈阳市铁西区应昌小学大明湖分校（西门）","0309小学语数9组","7月11日6：40-7：10"]
[859,"沈阳市铁西区应昌小学大明湖分校","小学语数教师","03276","郑博","0101271416",115.03,{"$f":"VLOOKUP(D862:D2038,[1]按组排列版!$G:$P,10,FALSE)","v":"0309小学语数9组"},"小学语数","沈阳市铁西区应昌小学大明湖分校（西门）","0309小学语数9组","7月11日6：40-7：10"]
[860,"沈阳市铁西区应昌小学大明湖分校","小学语数教师","03276","李美佳","0101521219",114.24,{"$f":"VLOOKUP(D863:D2039,[1]按组排列版!$G:$P,10,FALSE)","v":"0309小学语数9组"},"小学语数","沈阳市铁西区应昌小学大明湖分校（西门）","0309小学语数9组","7月11日6：40-7：10"]
[861,"沈阳市铁西区应昌小学大明湖分校","小学语数教师","03276","赵新","0101440917",113.87,{"$f":"VLOOKUP(D864:D2040,[1]按组排列版!$G:$P,10,FALSE)","v":"0309小学语数9组"},"小学语数","沈阳市铁西区应昌小学大明湖分校（西门）","0309小学语数9组","7月11日6：40-7：10"]
[862,"沈阳市铁西区应昌小学大明湖分校","小学语数教师","03276","王丽娇","0101521622",111.63,{"$f":"VLOOKUP(D865:D2041,[1]按组排列版!$G:$P,10,FALSE)","v":"0309小学语数9组"},"小学语数","沈阳市铁西区应昌小学大明湖分校（西门）","0309小学语数9组","7月11日6：40-7：10"]
[863,"沈阳市铁西区应昌小学大明湖分校","小学语数教师","03276","董梅","0101331830",107.49,{"$f":"VLOOKUP(D866:D2042,[1]按组排列版!$G:$P,10,FALSE)","v":"0309小学语数9组"},"小学语数","沈阳市铁西区应昌小学大明湖分校（西门）","0309小学语数9组","7月11日6：40-7：10"]
[864,"沈阳市铁西区应昌小学大明湖分校","小学语数教师","03276","李末","0101231529",105.01,{"$f":"VLOOKUP(D867:D2043,[1]按组排列版!$G:$P,10,FALSE)","v":"0309小学语数9组"},"小学语数","沈阳市铁西区应昌小学大明湖分校（西门）","0309小学语数9组","7月11日6：40-7：10"]
[865,"沈阳市铁西区应昌小学大明湖分校","小学语数教师","03276","侯思琦","0101430502",102.72,{"$f":"VLOOKUP(D868:D2044,[1]按组排列版!$G:$P,10,FALSE)","v":"0309小学语数9组"},"小学语数","沈阳市铁西区应昌小学大明湖分校（西门）","0309小学语数9组","7月11日6：40-7：10"]
[866,"沈阳市铁西区应昌小学大明湖分校","小学语数教师","03276","徐硕","0101431301",95.26,{"$f":"VLOOKUP(D869:D2045,[1]按组排列版!$G:$P,10,FALSE)","v":"0309小学语数9组"},"小学语数","沈阳市铁西区应昌小学大明湖分校（西门）","0309小学语数9组","7月11日6：40-7：10"]
[867,"沈阳市铁西区应昌小学大明湖分校","小学体育教师","03277","刘婉婷","0101240129",112.59,{"$f":"VLOOKUP(D870:D2046,[1]按组排列版!$G:$P,10,FALSE)","v":"0329小学体育3组"},"小学体育","沈阳市铁西区应昌小学大明湖分校（西门）","0329小学体育3组","7月12日11：40-12：10"]
[868,"沈阳市铁西区应昌小学大明湖分校","小学体育教师","03277","刘雨洋","0101351405",100.25,{"$f":"VLOOKUP(D871:D2047,[1]按组排列版!$G:$P,10,FALSE)","v":"0329小学体育3组"},"小学体育","沈阳市铁西区应昌小学大明湖分校（西门）","0329小学体育3组","7月12日11：40-12：10"]
[869,"沈阳市铁西区应昌小学大明湖分校","小学体育教师","03277","李源","0101480307",99.71,{"$f":"VLOOKUP(D872:D2048,[1]按组排列版!$G:$P,10,FALSE)","v":"0329小学体育3组"},"小学体育","沈阳市铁西区应昌小学大明湖分校（西门）","0329小学体育3组","7月12日11：40-12：10"]
[870,"沈阳市铁西区应昌小学大明湖分校","小学音乐教师","03278","张琪","0101431015",102.47,{"$f":"VLOOKUP(D873:D2049,[1]按组排列版!$G:$P,10,FALSE)","v":"0333小学音乐1组"},"小学音乐","沈阳市铁西区应昌小学大明湖分校（西门）","0333小学音乐1组","7月12日11：40-12：10"]
[871,"沈阳市铁西区应昌小学大明湖分校","小学音乐教师","03278","王影","0101262115",86.05,{"$f":"VLOOKUP(D874:D2050,[1]按组排列版!$G:$P,10,FALSE)","v":"0333小学音乐1组"},"小学音乐","沈阳市铁西区应昌小学大明湖分校（西门）","0333小学音乐1组","7月12日11：40-12：10"]
[872,"沈阳市铁西区应昌小学大明湖分校","小学心理健康教师","03279","姜欣颐","0101490620",111.28,{"$f":"VLOOKUP(D875:D2051,[1]按组排列版!$G:$P,10,FALSE)","v":"0341初中、小学心理健康组"},"小学心理健康","沈阳市铁西区应昌小学大明湖分校（西门）","0341初中、小学心理健康组","7月12日11：40-12：10"]
[873,"沈阳市铁西区应昌小学大明湖分校","小学心理健康教师","03279","李嘉慧","0101230930",111.11,{"$f":"VLOOKUP(D876:D2052,[1]按组排列版!$G:$P,10,FALSE)","v":"0341初中、小学心理健康组"},"小学心理健康","沈阳市铁西区应昌小学大明湖分校（西门）","0341初中、小学心理健康组","7月12日11：40-12：10"]
[874,"沈阳市铁西区应昌小学大明湖分校","小学心理健康教师","03279","张洋","0101511823",108.75,{"$f":"VLOOKUP(D877:D2053,[1]按组排列版!$G:$P,10,FALSE)","v":"0341初中、小学心理健康组"},"小学心理健康","沈阳市铁西区应昌小学大明湖分校（西门）","0341初中、小学心理健康组","7月12日11：40-12：10"]
[875,"沈阳市铁西区应昌小学大明湖分校","小学信息技术教师","03280","沈志颖","0101550507",113.93,{"$f":"VLOOKUP(D878:D2054,[1]按组排列版!$G:$P,10,FALSE)","v":"0337小学信息技术2组"},"小学信息技术","沈阳市铁西区应昌小学大明湖分校（西门）","0337小学信息技术2组","7月12日6：40-7：10"]
[876,"沈阳市铁西区应昌小学大明湖分校","小学信息技术教师","03280","徐胜男","0101300924",109.32,{"$f":"VLOOKUP(D879:D2055,[1]按组排列版!$G:$P,10,FALSE)","v":"0337小学信息技术2组"},"小学信息技术","沈阳市铁西区应昌小学大明湖分校（西门）","0337小学信息技术2组","7月12日6：40-7：10"]
[877,"沈阳市铁西区应昌小学大明湖分校","小学信息技术教师","03280","王冠","0101570114",107.78,{"$f":"VLOOKUP(D880:D2056,[1]按组排列版!$G:$P,10,FALSE)","v":"0337小学信息技术2组"},"小学信息技术","沈阳市铁西区应昌小学大明湖分校（西门）","0337小学信息技术2组","7月12日6：40-7：10"]
[878,"沈阳市铁西区应昌小学大明湖分校","小学信息技术教师","03280","林丽菲","0101331703",107.25,{"$f":"VLOOKUP(D881:D2057,[1]按组排列版!$G:$P,10,FALSE)","v":"0337小学信息技术2组"},"小学信息技术","沈阳市铁西区应昌小学大明湖分校（西门）","0337小学信息技术2组","7月12日6：40-7：10"]
[879,"沈阳市铁西区应昌小学大明湖分校","小学信息技术教师","03280","李金珊","0101501121",105.65,{"$f":"VLOOKUP(D882:D2058,[1]按组排列版!$G:$P,10,FALSE)","v":"0337小学信息技术2组"},"小学信息技术","沈阳市铁西区应昌小学大明湖分校（西门）","0337小学信息技术2组","7月12日6：40-7：10"]
[880,"沈阳市铁西区应昌小学大明湖分校","小学信息技术教师","03280","张立丹","0101271822",96.97,{"$f":"VLOOKUP(D883:D2059,[1]按组排列版!$G:$P,10,FALSE)","v":"0337小学信息技术2组"},"小学信息技术","沈阳市铁西区应昌小学大明湖分校（西门）","0337小学信息技术2组","7月12日6：40-7：10"]
[881,"沈阳市铁西区应昌小学大明湖分校","小学英语教师","03281","沈大伟","0101511221",115.36,{"$f":"VLOOKUP(D884:D2060,[1]按组排列版!$G:$P,10,FALSE)","v":"0319小学英语2组"},"小学英语","沈阳市铁西区应昌小学大明湖分校（西门）","0319小学英语2组","7月11日11：40-12：10"]
[882,"沈阳市铁西区应昌小学大明湖分校","小学英语教师","03281","王超","0101480820",110.96,{"$f":"VLOOKUP(D885:D2061,[1]按组排列版!$G:$P,10,FALSE)","v":"0319小学英语2组"},"小学英语","沈阳市铁西区应昌小学大明湖分校（西门）","0319小学英语2组","7月11日11：40-12：10"]
[883,"沈阳市铁西区应昌小学大明湖分校","小学英语教师","03281","于嘉","0101431020",110.11,{"$f":"VLOOKUP(D886:D2062,[1]按组排列版!$G:$P,10,FALSE)","v":"0319小学英语2组"},"小学英语","沈阳市铁西区应昌小学大明湖分校（西门）","0319小学英语2组","7月11日11：40-12：10"]
[884,"沈阳市铁西区贵和街小学","小学体育教师","03282","王泽达","0101440404",89.7,{"$f":"VLOOKUP(D887:D2063,[1]按组排列版!$G:$P,10,FALSE)","v":"0330小学体育4组"},"小学体育","沈阳市铁西区应昌小学大明湖分校（西门）","0330小学体育4组","7月12日6：40-7：10"]
[885,"沈阳市铁西区贵和街小学","小学体育教师","03282","张旭","0101360530",84.41,{"$f":"VLOOKUP(D888:D2064,[1]按组排列版!$G:$P,10,FALSE)","v":"0330小学体育4组"},"小学体育","沈阳市铁西区应昌小学大明湖分校（西门）","0330小学体育4组","7月12日6：40-7：10"]
[886,"沈阳市铁西区贵和街小学","小学体育教师","03282","马荣辉","0101441624",83.62,{"$f":"VLOOKUP(D889:D2065,[1]按组排列版!$G:$P,10,FALSE)","v":"0330小学体育4组"},"小学体育","沈阳市铁西区应昌小学大明湖分校（西门）","0330小学体育4组","7月12日6：40-7：10"]
[887,"沈阳市铁西区贵和街小学","小学语数教师","03283","付玉","0101440115",104.19,{"$f":"VLOOKUP(D890:D2066,[1]按组排列版!$G:$P,10,FALSE)","v":"0308小学语数8组"},"小学语数","沈阳市铁西区应昌小学大明湖分校（西门）","0308小学语数8组","7月11日11：40-12：10"]
[888,"沈阳市铁西区兴顺街小学","小学语数教师","03284","闫伊宁","0101521529",115.28,{"$f":"VLOOKUP(D891:D2067,[1]按组排列版!$G:$P,10,FALSE)","v":"0308小学语数8组"},"小学语数","沈阳市铁西区应昌小学大明湖分校（西门）","0308小学语数8组","7月11日11：40-12：10"]
[889,"沈阳市铁西区兴顺街小学","小学语数教师","03284","王涵琪","0101460910",112.93,{"$f":"VLOOKUP(D892:D2068,[1]按组排列版!$G:$P,10,FALSE)","v":"0308小学语数8组"},"小学语数","沈阳市铁西区应昌小学大明湖分校（西门）","0308小学语数8组","7月11日11：40-12：10"]
[890,"沈阳市铁西区兴顺街小学","小学语数教师","03284","邸晨星","0101540604",107.98,{"$f":"VLOOKUP(D893:D2069,[1]按组排列版!$G:$P,10,FALSE)","v":"0308小学语数8组"},"小学语数","沈阳市铁西区应昌小学大明湖分校（西门）","0308小学语数8组","7月11日11：40-12：10"]
[891,"沈阳市铁西区兴顺街小学","小学语数教师","03284","曾颖","0101451828",103.28,{"$f":"VLOOKUP(D894:D2070,[1]按组排列版!$G:$P,10,FALSE)","v":"0308小学语数8组"},"小学语数","沈阳市铁西区应昌小学大明湖分校（西门）","0308小学语数8组","7月11日11：40-12：10"]
[892,"沈阳市铁西区兴顺街小学","小学语数教师","03284","于航","0101352002",102.15,{"$f":"VLOOKUP(D895:D2071,[1]按组排列版!$G:$P,10,FALSE)","v":"0308小学语数8组"},"小学语数","沈阳市铁西区应昌小学大明湖分校（西门）","0308小学语数8组","7月11日11：40-12：10"]
[893,"沈阳市铁西区兴顺街小学","小学语数教师","03284","陈梦瑶","0101400619",102.01,{"$f":"VLOOKUP(D896:D2072,[1]按组排列版!$G:$P,10,FALSE)","v":"0308小学语数8组"},"小学语数","沈阳市铁西区应昌小学大明湖分校（西门）","0308小学语数8组","7月11日11：40-12：10"]
[894,"沈阳市铁西区兴顺街小学","小学语数教师","03285","马慧","0101441528",116.91,{"$f":"VLOOKUP(D897:D2073,[1]按组排列版!$G:$P,10,FALSE)","v":"0309小学语数9组"},"小学语数","沈阳市铁西区应昌小学大明湖分校（西门）","0309小学语数9组","7月11日6：40-7：10"]
[895,"沈阳市铁西区兴顺街小学","小学语数教师","03285","孙熙盈","0101330516",115.56,{"$f":"VLOOKUP(D898:D2074,[1]按组排列版!$G:$P,10,FALSE)","v":"0309小学语数9组"},"小学语数","沈阳市铁西区应昌小学大明湖分校（西门）","0309小学语数9组","7月11日6：40-7：10"]
[896,"沈阳市铁西区兴顺街小学","小学语数教师","03286","李月红","0101430525",100.69,{"$f":"VLOOKUP(D899:D2075,[1]按组排列版!$G:$P,10,FALSE)","v":"0309小学语数9组"},"小学语数","沈阳市铁西区应昌小学大明湖分校（西门）","0309小学语数9组","7月11日6：40-7：10"]
[897,"沈阳市铁西区兴顺街小学","小学音乐教师","03287","苏红","0101450110",104.94,{"$f":"VLOOKUP(D900:D2076,[1]按组排列版!$G:$P,10,FALSE)","v":"0333小学音乐1组"},"小学音乐","沈阳市铁西区应昌小学大明湖分校（西门）","0333小学音乐1组","7月12日11：40-12：10"]
[898,"沈阳市铁西区兴顺街小学","小学音乐教师","03287","周默霖","0101320511",103.23,{"$f":"VLOOKUP(D901:D2077,[1]按组排列版!$G:$P,10,FALSE)","v":"0333小学音乐1组"},"小学音乐","沈阳市铁西区应昌小学大明湖分校（西门）","0333小学音乐1组","7月12日11：40-12：10"]
[899,"沈阳市铁西区兴顺街小学","小学音乐教师","03287","赵圣美","0101351418",98.25,{"$f":"VLOOKUP(D902:D2078,[1]按组排列版!$G:$P,10,FALSE)","v":"0333小学音乐1组"},"小学音乐","沈阳市铁西区应昌小学大明湖分校（西门）","0333小学音乐1组","7月12日11：40-12：10"]
[900,"沈阳市铁西区轻工街第二小学","小学体育教师","03288","周建仁","0101501024",99.66,{"$f":"VLOOKUP(D903:D2079,[1]按组排列版!$G:$P,10,FALSE)","v":"0330小学体育4组"},"小学体育","沈阳市铁西区应昌小学大明湖分校（西门）","0330小学体育4组","7月12日6：40-7：10"]
[901,"沈阳市铁西区轻工街第二小学","小学体育教师","03288","栾沈阳","0101380703",88.68,{"$f":"VLOOKUP(D904:D2080,[1]按组排列版!$G:$P,10,FALSE)","v":"0330小学体育4组"},"小学体育","沈阳市铁西区应昌小学大明湖分校（西门）","0330小学体育4组","7月12日6：40-7：10"]
[902,"沈阳市铁西区轻工街第二小学","小学体育教师","03288","陆海博","0101531502",82.86,{"$f":"VLOOKUP(D905:D2081,[1]按组排列版!$G:$P,10,FALSE)","v":"0330小学体育4组"},"小学体育","沈阳市铁西区应昌小学大明湖分校（西门）","0330小学体育4组","7月12日6：40-7：10"]
[903,"沈阳市铁西区轻工街第二小学","小学语数教师","03289","林鑫茹","0101450321",100.08,{"$f":"VLOOKUP(D906:D2082,[1]按组排列版!$G:$P,10,FALSE)","v":"0309小学语数9组"},"小学语数","沈阳市铁西区应昌小学大明湖分校（西门）","0309小学语数9组","7月11日6：40-7：10"]
[904,"沈阳市铁西区轻工街第二小学","小学语数教师","03289","尹彤","0101431703",94.59,{"$f":"VLOOKUP(D907:D2083,[1]按组排列版!$G:$P,10,FALSE)","v":"0309小学语数9组"},"小学语数","沈阳市铁西区应昌小学大明湖分校（西门）","0309小学语数9组","7月11日6：40-7：10"]
[905,"沈阳市铁西区轻工街第二小学","小学语数教师","03289","金珊","0101290622",93.42,{"$f":"VLOOKUP(D908:D2084,[1]按组排列版!$G:$P,10,FALSE)","v":"0309小学语数9组"},"小学语数","沈阳市铁西区应昌小学大明湖分校（西门）","0309小学语数9组","7月11日6：40-7：10"]
[906,"沈阳市铁西区轻工街第二小学","小学音乐教师","03290","蔡妮晔","0101432211",93.56,{"$f":"VLOOKUP(D909:D2085,[1]按组排列版!$G:$P,10,FALSE)","v":"0333小学音乐1组"},"小学音乐","沈阳市铁西区应昌小学大明湖分校（西门）","0333小学音乐1组","7月12日11：40-12：10"]
[907,"沈阳市铁西区轻工街第二小学","小学音乐教师","03290","张馨月","0101450823",85.59,{"$f":"VLOOKUP(D910:D2086,[1]按组排列版!$G:$P,10,FALSE)","v":"0333小学音乐1组"},"小学音乐","沈阳市铁西区应昌小学大明湖分校（西门）","0333小学音乐1组","7月12日11：40-12：10"]
[908,"沈阳市铁西区凌空街第一小学","小学语数教师","03291","王闵","0101450328",112.29,{"$f":"VLOOKUP(D911:D2087,[1]按组排列版!$G:$P,10,FALSE)","v":"0309小学语数9组"},"小学语数","沈阳市铁西区应昌小学大明湖分校（西门）","0309小学语数9组","7月11日11：40-12：10"]
[909,"沈阳市铁西区凌空街第一小学","小学语数教师","03291","赵娇","0101240315",111.97,{"$f":"VLOOKUP(D912:D2088,[1]按组排列版!$G:$P,10,FALSE)","v":"0309小学语数9组"},"小学语数","沈阳市铁西区应昌小学大明湖分校（西门）","0309小学语数9组","7月11日11：40-12：10"]
[910,"沈阳市铁西区凌空街第一小学","小学语数教师","03291","鹿平","0101510430",110.48,{"$f":"VLOOKUP(D913:D2089,[1]按组排列版!$G:$P,10,FALSE)","v":"0309小学语数9组"},"小学语数","沈阳市铁西区应昌小学大明湖分校（西门）","0309小学语数9组","7月11日11：40-12：10"]
[911,"沈阳市铁西区凌空街第一小学","小学语数教师","03291","施娜","0101301615",110.26,{"$f":"VLOOKUP(D914:D2090,[1]按组排列版!$G:$P,10,FALSE)","v":"0309小学语数9组"},"小学语数","沈阳市铁西区应昌小学大明湖分校（西门）","0309小学语数9组","7月11日11：40-12：10"]
[912,"沈阳市铁西区凌空街第一小学","小学语数教师","03291","冯程程","0101441108",110.06,{"$f":"VLOOKUP(D915:D2091,[1]按组排列版!$G:$P,10,FALSE)","v":"0309小学语数9组"},"小学语数","沈阳市铁西区应昌小学大明湖分校（西门）","0309小学语数9组","7月11日11：40-12：10"]
[913,"沈阳市铁西区凌空街第一小学","小学语数教师","03291","何会元","0101572811",107.37,{"$f":"VLOOKUP(D916:D2092,[1]按组排列版!$G:$P,10,FALSE)","v":"0309小学语数9组"},"小学语数","沈阳市铁西区应昌小学大明湖分校（西门）","0309小学语数9组","7月11日11：40-12：10"]
[914,"沈阳市铁西区凌空街第一小学","小学美术教师","03292","孙可涵","0101331603",115.24,{"$f":"VLOOKUP(D917:D2093,[1]按组排列版!$G:$P,10,FALSE)","v":"0324小学美术2组"},"小学美术","沈阳市铁西区应昌小学大明湖分校（西门）","0324小学美术2组","7月12日11：40-12：10"]
[915,"沈阳市铁西区凌空街第一小学","小学美术教师","03292","李双秀","0101490703",110.04,{"$f":"VLOOKUP(D918:D2094,[1]按组排列版!$G:$P,10,FALSE)","v":"0324小学美术2组"},"小学美术","沈阳市铁西区应昌小学大明湖分校（西门）","0324小学美术2组","7月12日11：40-12：10"]
[916,"沈阳市铁西区凌空街第一小学","小学美术教师","03292","吴明哲","0101461118",109.11,{"$f":"VLOOKUP(D919:D2095,[1]按组排列版!$G:$P,10,FALSE)","v":"0324小学美术2组"},"小学美术","沈阳市铁西区应昌小学大明湖分校（西门）","0324小学美术2组","7月12日11：40-12：10"]
[917,"沈阳市铁西区凌空街第一小学","小学英语教师","03293","徐佳","0101461720",114.33,{"$f":"VLOOKUP(D920:D2096,[1]按组排列版!$G:$P,10,FALSE)","v":"0319小学英语2组"},"小学英语","沈阳市铁西区应昌小学大明湖分校（西门）","0319小学英语2组","7月11日11：40-12：10"]
[918,"沈阳市铁西区凌空街第一小学","小学英语教师","03293","孙嘉悦","0101310227",110.63,{"$f":"VLOOKUP(D921:D2097,[1]按组排列版!$G:$P,10,FALSE)","v":"0319小学英语2组"},"小学英语","沈阳市铁西区应昌小学大明湖分校（西门）","0319小学英语2组","7月11日11：40-12：10"]
[919,"沈阳市铁西区凌空街第一小学","小学英语教师","03293","李晶晶","0101411010",108.97,{"$f":"VLOOKUP(D922:D2098,[1]按组排列版!$G:$P,10,FALSE)","v":"0319小学英语2组"},"小学英语","沈阳市铁西区应昌小学大明湖分校（西门）","0319小学英语2组","7月11日11：40-12：10"]
[920,"沈阳市铁西区凌空街第一小学","小学道德与法治教师","03294","张欣宇","0101381420",99.19,{"$f":"VLOOKUP(D923:D2099,[1]按组排列版!$G:$P,10,FALSE)","v":"0321初中、小学道法组"},"小学道德与法治","沈阳市铁西区应昌小学大明湖分校（西门）","0321初中、小学道法组","7月11日6：40-7：10"]
[921,"沈阳市铁西区凌空街第一小学","小学道德与法治教师","03294","李天娇","0101540830",94.65,{"$f":"VLOOKUP(D924:D2100,[1]按组排列版!$G:$P,10,FALSE)","v":"0321初中、小学道法组"},"小学道德与法治","沈阳市铁西区应昌小学大明湖分校（西门）","0321初中、小学道法组","7月11日6：40-7：10"]
[922,"沈阳市铁西区凌空街第一小学","小学道德与法治教师","03294","任禹佳","0101422101",94.27,{"$f":"VLOOKUP(D925:D2101,[1]按组排列版!$G:$P,10,FALSE)","v":"0321初中、小学道法组"},"小学道德与法治","沈阳市铁西区应昌小学大明湖分校（西门）","0321初中、小学道法组","7月11日6：40-7：10"]
[923,"沈阳市铁西区路官街小学","小学语数教师","03295","刘家彤","0101250113",111.39,{"$f":"VLOOKUP(D926:D2102,[1]按组排列版!$G:$P,10,FALSE)","v":"0309小学语数9组"},"小学语数","沈阳市铁西区应昌小学大明湖分校（西门）","0309小学语数9组","7月11日11：40-12：10"]
[924,"沈阳市铁西区路官街小学","小学语数教师","03295","刘雯雯","0101331803",107.77,{"$f":"VLOOKUP(D927:D2103,[1]按组排列版!$G:$P,10,FALSE)","v":"0309小学语数9组"},"小学语数","沈阳市铁西区应昌小学大明湖分校（西门）","0309小学语数9组","7月11日11：40-12：10"]
[925,"沈阳市铁西区路官街小学","小学语数教师","03295","凌瑞鸿","0101560708",106.64,{"$f":"VLOOKUP(D928:D2104,[1]按组排列版!$G:$P,10,FALSE)","v":"0309小学语数9组"},"小学语数","沈阳市铁西区应昌小学大明湖分校（西门）","0309小学语数9组","7月11日11：40-12：10"]
[926,"沈阳市铁西区路官街小学","小学语数教师","03295","牛馨悦","0101421109",105.18,{"$f":"VLOOKUP(D929:D2105,[1]按组排列版!$G:$P,10,FALSE)","v":"0309小学语数9组"},"小学语数","沈阳市铁西区应昌小学大明湖分校（西门）","0309小学语数9组","7月11日11：40-12：10"]
[927,"沈阳市铁西区路官街小学","小学语数教师","03295","胡宇晴","0101491928",103.28,{"$f":"VLOOKUP(D930:D2106,[1]按组排列版!$G:$P,10,FALSE)","v":"0309小学语数9组"},"小学语数","沈阳市铁西区应昌小学大明湖分校（西门）","0309小学语数9组","7月11日11：40-12：10"]
[928,"沈阳市铁西区路官街小学","小学语数教师","03295","李爽","0101400917",97.85,{"$f":"VLOOKUP(D931:D2107,[1]按组排列版!$G:$P,10,FALSE)","v":"0309小学语数9组"},"小学语数","沈阳市铁西区应昌小学大明湖分校（西门）","0309小学语数9组","7月11日11：40-12：10"]
[929,"沈阳市铁西区路官街小学","小学音乐教师","03296","崔雨晴","0101240813",104.15,{"$f":"VLOOKUP(D932:D2108,[1]按组排列版!$G:$P,10,FALSE)","v":"0333小学音乐1组"},"小学音乐","沈阳市铁西区应昌小学大明湖分校（西门）","0333小学音乐1组","7月12日11：40-12：10"]
[930,"沈阳市铁西区路官街小学","小学音乐教师","03296","任梦影","0101281107",94.28,{"$f":"VLOOKUP(D933:D2109,[1]按组排列版!$G:$P,10,FALSE)","v":"0333小学音乐1组"},"小学音乐","沈阳市铁西区应昌小学大明湖分校（西门）","0333小学音乐1组","7月12日11：40-12：10"]
[931,"沈阳市铁西区路官街小学","小学音乐教师","03296","纪然","0101351419",92.35,{"$f":"VLOOKUP(D934:D2110,[1]按组排列版!$G:$P,10,FALSE)","v":"0333小学音乐1组"},"小学音乐","沈阳市铁西区应昌小学大明湖分校（西门）","0333小学音乐1组","7月12日11：40-12：10"]
[932,"沈阳市铁西区路官街小学","小学语数教师","03297","刘曼","0101301801",100.84,{"$f":"VLOOKUP(D935:D2111,[1]按组排列版!$G:$P,10,FALSE)","v":"0309小学语数9组"},"小学语数","沈阳市铁西区应昌小学大明湖分校（西门）","0309小学语数9组","7月11日11：40-12：10"]
[933,"沈阳市铁西区路官街小学","小学语数教师","03297","田一秀","0101311604",99.26,{"$f":"VLOOKUP(D936:D2112,[1]按组排列版!$G:$P,10,FALSE)","v":"0309小学语数9组"},"小学语数","沈阳市铁西区应昌小学大明湖分校（西门）","0309小学语数9组","7月11日11：40-12：10"]
[934,"沈阳市铁西区路官街小学","小学语数教师","03297","杨梅","0101450402",92.6,{"$f":"VLOOKUP(D937:D2113,[1]按组排列版!$G:$P,10,FALSE)","v":"0309小学语数9组"},"小学语数","沈阳市铁西区应昌小学大明湖分校（西门）","0309小学语数9组","7月11日11：40-12：10"]
[935,"沈阳市铁西区路官街小学","小学美术教师","03298","张欣源","0101441228",110.17,{"$f":"VLOOKUP(D938:D2114,[1]按组排列版!$G:$P,10,FALSE)","v":"0324小学美术2组"},"小学美术","沈阳市铁西区应昌小学大明湖分校（西门）","0324小学美术2组","7月12日11：40-12：10"]
[936,"沈阳市铁西区路官街小学","小学美术教师","03298","张婷婷","0101431623",101.97,{"$f":"VLOOKUP(D939:D2115,[1]按组排列版!$G:$P,10,FALSE)","v":"0324小学美术2组"},"小学美术","沈阳市铁西区应昌小学大明湖分校（西门）","0324小学美术2组","7月12日11：40-12：10"]
[937,"沈阳市铁西区路官街小学","小学美术教师","03298","谢晓航","0101441425",97.88,{"$f":"VLOOKUP(D940:D2116,[1]按组排列版!$G:$P,10,FALSE)","v":"0324小学美术2组"},"小学美术","沈阳市铁西区应昌小学大明湖分校（西门）","0324小学美术2组","7月12日11：40-12：10"]
[938,"沈阳市铁西区路官街小学","小学体育教师","03299","王宁","0101551829",108.17,{"$f":"VLOOKUP(D941:D2117,[1]按组排列版!$G:$P,10,FALSE)","v":"0330小学体育4组"},"小学体育","沈阳市铁西区应昌小学大明湖分校（西门）","0330小学体育4组","7月12日6：40-7：10"]
[939,"沈阳市铁西区路官街小学","小学体育教师","03299","吴昊","0101432522",95.69,{"$f":"VLOOKUP(D942:D2118,[1]按组排列版!$G:$P,10,FALSE)","v":"0330小学体育4组"},"小学体育","沈阳市铁西区应昌小学大明湖分校（西门）","0330小学体育4组","7月12日6：40-7：10"]
[940,"沈阳市铁西区路官街小学","小学体育教师","03299","王淏頔","0101391003",92.14,{"$f":"VLOOKUP(D943:D2119,[1]按组排列版!$G:$P,10,FALSE)","v":"0330小学体育4组"},"小学体育","沈阳市铁西区应昌小学大明湖分校（西门）","0330小学体育4组","7月12日6：40-7：10"]
[941,"沈阳市铁西区路官街小学","小学英语教师","03300","孙惜童","0101380204",116.32,{"$f":"VLOOKUP(D944:D2120,[1]按组排列版!$G:$P,10,FALSE)","v":"0320小学英语3组"},"小学英语","沈阳市铁西区应昌小学大明湖分校（西门）","0320小学英语3组","7月11日6：40-7：10"]
[942,"沈阳市铁西区腾飞街第一小学","小学语数教师","03301","张卉","0101520702",107.05,{"$f":"VLOOKUP(D945:D2121,[1]按组排列版!$G:$P,10,FALSE)","v":"0310小学语数10组"},"小学语数","沈阳市铁西区应昌小学大明湖分校（西门）","0310小学语数10组","7月11日6：40-7：10"]
[943,"沈阳市铁西区腾飞街第一小学","小学语数教师","03301","郎佳美","0101540214",101.93,{"$f":"VLOOKUP(D946:D2122,[1]按组排列版!$G:$P,10,FALSE)","v":"0310小学语数10组"},"小学语数","沈阳市铁西区应昌小学大明湖分校（西门）","0310小学语数10组","7月11日6：40-7：10"]
[944,"沈阳市铁西区腾飞街第一小学","小学语数教师","03302","王超","0101531203",96.98,{"$f":"VLOOKUP(D947:D2123,[1]按组排列版!$G:$P,10,FALSE)","v":"0310小学语数10组"},"小学语数","沈阳市铁西区应昌小学大明湖分校（西门）","0310小学语数10组","7月11日6：40-7：10"]
[945,"沈阳市铁西区腾飞街第一小学","小学语数教师","03302","金子淇","0101430910",93.88,{"$f":"VLOOKUP(D948:D2124,[1]按组排列版!$G:$P,10,FALSE)","v":"0310小学语数10组"},"小学语数","沈阳市铁西区应昌小学大明湖分校（西门）","0310小学语数10组","7月11日6：40-7：10"]
[946,"沈阳市铁西区腾飞街第一小学","小学语数教师","03302","金淋淋","0101540722",90.19,{"$f":"VLOOKUP(D949:D2125,[1]按组排列版!$G:$P,10,FALSE)","v":"0310小学语数10组"},"小学语数","沈阳市铁西区应昌小学大明湖分校（西门）","0310小学语数10组","7月11日6：40-7：10"]
[947,"沈阳市铁西区腾飞街第一小学","小学英语教师","03303","赵晓双","0101431314",103.14,{"$f":"VLOOKUP(D950:D2126,[1]按组排列版!$G:$P,10,FALSE)","v":"0320小学英语3组"},"小学英语","沈阳市铁西区应昌小学大明湖分校（西门）","0320小学英语3组","7月11日6：40-7：10"]
[948,"沈阳市铁西区腾飞街第一小学","小学英语教师","03304","包文华","0101260115",109.58,{"$f":"VLOOKUP(D951:D2127,[1]按组排列版!$G:$P,10,FALSE)","v":"0320小学英语3组"},"小学英语","沈阳市铁西区应昌小学大明湖分校（西门）","0320小学英语3组","7月11日6：40-7：10"]
[949,"沈阳市铁西区腾飞街第一小学","小学英语教师","03304","周子钰","0101281908",107.78,{"$f":"VLOOKUP(D952:D2128,[1]按组排列版!$G:$P,10,FALSE)","v":"0320小学英语3组"},"小学英语","沈阳市铁西区应昌小学大明湖分校（西门）","0320小学英语3组","7月11日6：40-7：10"]
[950,"沈阳市铁西区腾飞街第一小学","小学英语教师","03304","郑博","0101561206",106.16,{"$f":"VLOOKUP(D953:D2129,[1]按组排列版!$G:$P,10,FALSE)","v":"0320小学英语3组"},"小学英语","沈阳市铁西区应昌小学大明湖分校（西门）","0320小学英语3组","7月11日6：40-7：10"]
[951,"沈阳市铁西区滑翔小学","小学体育教师","03305","聂静昕","0101290606",101.77,{"$f":"VLOOKUP(D954:D2130,[1]按组排列版!$G:$P,10,FALSE)","v":"0330小学体育4组"},"小学体育","沈阳市铁西区应昌小学大明湖分校（西门）","0330小学体育4组","7月12日6：40-7：10"]
[952,"沈阳市铁西区滑翔小学","小学语数教师","03306","佟可心","0101240403",107.31,{"$f":"VLOOKUP(D955:D2131,[1]按组排列版!$G:$P,10,FALSE)","v":"0310小学语数10组"},"小学语数","沈阳市铁西区应昌小学大明湖分校（西门）","0310小学语数10组","7月11日6：40-7：10"]
[953,"沈阳市铁西区滑翔小学","小学语数教师","03306","白丹","0101321008",105.13,{"$f":"VLOOKUP(D956:D2132,[1]按组排列版!$G:$P,10,FALSE)","v":"0310小学语数10组"},"小学语数","沈阳市铁西区应昌小学大明湖分校（西门）","0310小学语数10组","7月11日6：40-7：10"]
[954,"沈阳市铁西区滑翔小学","小学语数教师","03306","张彧嘉","0101472402",95.42,{"$f":"VLOOKUP(D957:D2133,[1]按组排列版!$G:$P,10,FALSE)","v":"0310小学语数10组"},"小学语数","沈阳市铁西区应昌小学大明湖分校（西门）","0310小学语数10组","7月11日6：40-7：10"]
[955,"沈阳市铁西区滑翔小学","小学语数教师","03307","佟晓楠","0101441203",92.48,{"$f":"VLOOKUP(D958:D2134,[1]按组排列版!$G:$P,10,FALSE)","v":"0310小学语数10组"},"小学语数","沈阳市铁西区应昌小学大明湖分校（西门）","0310小学语数10组","7月11日6：40-7：10"]
[956,"沈阳市铁西区滑翔小学","小学语数教师","03307","焦婷","0101431819",91.06,{"$f":"VLOOKUP(D959:D2135,[1]按组排列版!$G:$P,10,FALSE)","v":"0310小学语数10组"},"小学语数","沈阳市铁西区应昌小学大明湖分校（西门）","0310小学语数10组","7月11日6：40-7：10"]
[957,"沈阳市铁西区滑翔小学","小学语数教师","03308","鞠烁","0101440423",92.81,{"$f":"VLOOKUP(D960:D2136,[1]按组排列版!$G:$P,10,FALSE)","v":"0310小学语数10组"},"小学语数","沈阳市铁西区应昌小学大明湖分校（西门）","0310小学语数10组","7月11日6：40-7：10"]
[958,"沈阳市铁西区滑翔小学","小学英语教师","03309","王晓峰","0101450310",116.61,{"$f":"VLOOKUP(D961:D2137,[1]按组排列版!$G:$P,10,FALSE)","v":"0320小学英语3组"},"小学英语","沈阳市铁西区应昌小学大明湖分校（西门）","0320小学英语3组","7月11日6：40-7：10"]
[959,"沈阳市铁西区滑翔小学","小学英语教师","03309","卢健","0101321103",104.61,{"$f":"VLOOKUP(D962:D2138,[1]按组排列版!$G:$P,10,FALSE)","v":"0320小学英语3组"},"小学英语","沈阳市铁西区应昌小学大明湖分校（西门）","0320小学英语3组","7月11日6：40-7：10"]
[960,"沈阳市铁西区太阳小学","小学语数教师","03310","黄钰婷","0101550927",110.56,{"$f":"VLOOKUP(D963:D2139,[1]按组排列版!$G:$P,10,FALSE)","v":"0310小学语数10组"},"小学语数","沈阳市铁西区应昌小学大明湖分校（西门）","0310小学语数10组","7月11日6：40-7：10"]
[961,"沈阳市铁西区太阳小学","小学语数教师","03311","李小芳","0101450424",113.89,{"$f":"VLOOKUP(D964:D2140,[1]按组排列版!$G:$P,10,FALSE)","v":"0310小学语数10组"},"小学语数","沈阳市铁西区应昌小学大明湖分校（西门）","0310小学语数10组","7月11日6：40-7：10"]
[962,"沈阳市铁西区太阳小学","小学语数教师","03311","仇志莲","0101440330",108.75,{"$f":"VLOOKUP(D965:D2141,[1]按组排列版!$G:$P,10,FALSE)","v":"0310小学语数10组"},"小学语数","沈阳市铁西区应昌小学大明湖分校（西门）","0310小学语数10组","7月11日6：40-7：10"]
[963,"沈阳市铁西区太阳小学","小学语数教师","03311","刘洋","0101310920",101.35,{"$f":"VLOOKUP(D966:D2142,[1]按组排列版!$G:$P,10,FALSE)","v":"0310小学语数10组"},"小学语数","沈阳市铁西区应昌小学大明湖分校（西门）","0310小学语数10组","7月11日6：40-7：10"]
[964,"沈阳市铁西区太阳小学","小学英语教师","03312","齐文姝","0101461413",112.75,{"$f":"VLOOKUP(D967:D2143,[1]按组排列版!$G:$P,10,FALSE)","v":"0320小学英语3组"},"小学英语","沈阳市铁西区应昌小学大明湖分校（西门）","0320小学英语3组","7月11日6：40-7：10"]
[965,"沈阳市铁西区太阳小学","小学英语教师","03312","何慧楠","0101321927",110.49,{"$f":"VLOOKUP(D968:D2144,[1]按组排列版!$G:$P,10,FALSE)","v":"0320小学英语3组"},"小学英语","沈阳市铁西区应昌小学大明湖分校（西门）","0320小学英语3组","7月11日6：40-7：10"]
[966,"沈阳市铁西区太阳小学","小学英语教师","03312","管月","0101501925",109.23,{"$f":"VLOOKUP(D969:D2145,[1]按组排列版!$G:$P,10,FALSE)","v":"0320小学英语3组"},"小学英语","沈阳市铁西区应昌小学大明湖分校（西门）","0320小学英语3组","7月11日6：40-7：10"]
[967,"沈阳市铁西区太阳小学","小学音乐教师","03313","韩放","0101390708",111.59,{"$f":"VLOOKUP(D970:D2146,[1]按组排列版!$G:$P,10,FALSE)","v":"0333小学音乐1组"},"小学音乐","沈阳市铁西区应昌小学大明湖分校（西门）","0333小学音乐1组","7月12日11：40-12：10"]
[968,"沈阳市铁西区太阳小学","小学音乐教师","03313","于若琛","0101431702",90.39,{"$f":"VLOOKUP(D971:D2147,[1]按组排列版!$G:$P,10,FALSE)","v":"0333小学音乐1组"},"小学音乐","沈阳市铁西区应昌小学大明湖分校（西门）","0333小学音乐1组","7月12日11：40-12：10"]
[969,"沈阳市铁西区太阳小学","小学美术教师","03314","王馨悦","0101431126",112.14,{"$f":"VLOOKUP(D972:D2148,[1]按组排列版!$G:$P,10,FALSE)","v":"0324小学美术2组"},"小学美术","沈阳市铁西区应昌小学大明湖分校（西门）","0324小学美术2组","7月12日11：40-12：10"]
[970,"沈阳市铁西区太阳小学","小学美术教师","03314","李惠然","0101420723",109.81,{"$f":"VLOOKUP(D973:D2149,[1]按组排列版!$G:$P,10,FALSE)","v":"0324小学美术2组"},"小学美术","沈阳市铁西区应昌小学大明湖分校（西门）","0324小学美术2组","7月12日11：40-12：10"]
[971,"沈阳市铁西区太阳小学","小学美术教师","03314","姜广东","0101380612",108.73,{"$f":"VLOOKUP(D974:D2150,[1]按组排列版!$G:$P,10,FALSE)","v":"0324小学美术2组"},"小学美术","沈阳市铁西区应昌小学大明湖分校（西门）","0324小学美术2组","7月12日11：40-12：10"]
[972,"沈阳市铁西区雏鹰小学","小学语数教师","03315","刘懿婵","0101260218",108.01,{"$f":"VLOOKUP(D975:D2151,[1]按组排列版!$G:$P,10,FALSE)","v":"0310小学语数10组"},"小学语数","沈阳市铁西区应昌小学大明湖分校（西门）","0310小学语数10组","7月11日11：40-12：10"]
[973,"沈阳市铁西区雏鹰小学","小学语数教师","03316","孙莹莹","0101290807",107.32,{"$f":"VLOOKUP(D976:D2152,[1]按组排列版!$G:$P,10,FALSE)","v":"0310小学语数10组"},"小学语数","沈阳市铁西区应昌小学大明湖分校（西门）","0310小学语数10组","7月11日11：40-12：10"]
[974,"沈阳市铁西区雏鹰小学","小学语数教师","03316","王紫云","0101432410",94.45,{"$f":"VLOOKUP(D977:D2153,[1]按组排列版!$G:$P,10,FALSE)","v":"0310小学语数10组"},"小学语数","沈阳市铁西区应昌小学大明湖分校（西门）","0310小学语数10组","7月11日11：40-12：10"]
[975,"沈阳市铁西区雏鹰小学","小学体育教师","03317","丁明泽","0101551929",109.77,{"$f":"VLOOKUP(D978:D2154,[1]按组排列版!$G:$P,10,FALSE)","v":"0330小学体育4组"},"小学体育","沈阳市铁西区应昌小学大明湖分校（西门）","0330小学体育4组","7月12日6：40-7：10"]
[976,"沈阳市铁西区雏鹰小学","小学体育教师","03317","金文凯","0101280627",102.71,{"$f":"VLOOKUP(D979:D2155,[1]按组排列版!$G:$P,10,FALSE)","v":"0330小学体育4组"},"小学体育","沈阳市铁西区应昌小学大明湖分校（西门）","0330小学体育4组","7月12日6：40-7：10"]
[977,"沈阳市铁西区雏鹰小学","小学体育教师","03317","刘晏岐","0101531529",97.38,{"$f":"VLOOKUP(D980:D2156,[1]按组排列版!$G:$P,10,FALSE)","v":"0330小学体育4组"},"小学体育","沈阳市铁西区应昌小学大明湖分校（西门）","0330小学体育4组","7月12日6：40-7：10"]
[978,"沈阳市铁西区雏鹰小学","小学体育教师","03317","孙月娟","0101571905",97.06,{"$f":"VLOOKUP(D981:D2157,[1]按组排列版!$G:$P,10,FALSE)","v":"0330小学体育4组"},"小学体育","沈阳市铁西区应昌小学大明湖分校（西门）","0330小学体育4组","7月12日6：40-7：10"]
[979,"沈阳市铁西区雏鹰小学","小学体育教师","03317","田华","0101311827",96.88,{"$f":"VLOOKUP(D982:D2158,[1]按组排列版!$G:$P,10,FALSE)","v":"0330小学体育4组"},"小学体育","沈阳市铁西区应昌小学大明湖分校（西门）","0330小学体育4组","7月12日6：40-7：10"]
[980,"沈阳市铁西区雏鹰小学","小学体育教师","03317","黄子安","0101520715",93.64,{"$f":"VLOOKUP(D983:D2159,[1]按组排列版!$G:$P,10,FALSE)","v":"0330小学体育4组"},"小学体育","沈阳市铁西区应昌小学大明湖分校（西门）","0330小学体育4组","7月12日6：40-7：10"]
[981,"沈阳市铁西区雏鹰小学","小学体育教师","03318","崔孟竹","0101431206",98.46,{"$f":"VLOOKUP(D984:D2160,[1]按组排列版!$G:$P,10,FALSE)","v":"0330小学体育4组"},"小学体育","沈阳市铁西区应昌小学大明湖分校（西门）","0330小学体育4组","7月12日11：40-12：10"]
[982,"沈阳市铁西区雏鹰小学","小学音乐教师","03319","王梦茹","0101420607",112.48,{"$f":"VLOOKUP(D985:D2161,[1]按组排列版!$G:$P,10,FALSE)","v":"0334小学音乐2组"},"小学音乐","沈阳市铁西区应昌小学大明湖分校（西门）","0334小学音乐2组","7月12日6：40-7：10"]
[983,"沈阳市铁西区雏鹰小学","小学音乐教师","03319","管可莹","0101260906",103.74,{"$f":"VLOOKUP(D986:D2162,[1]按组排列版!$G:$P,10,FALSE)","v":"0334小学音乐2组"},"小学音乐","沈阳市铁西区应昌小学大明湖分校（西门）","0334小学音乐2组","7月12日6：40-7：10"]
[984,"沈阳市铁西区雏鹰小学","小学音乐教师","03319","韩婷婷","0101550406",96.99,{"$f":"VLOOKUP(D987:D2163,[1]按组排列版!$G:$P,10,FALSE)","v":"0334小学音乐2组"},"小学音乐","沈阳市铁西区应昌小学大明湖分校（西门）","0334小学音乐2组","7月12日6：40-7：10"]
[985,"沈阳市铁西区雏鹰小学","小学美术教师","03320","张起航","0101260712",107.57,{"$f":"VLOOKUP(D988:D2164,[1]按组排列版!$G:$P,10,FALSE)","v":"0324小学美术2组"},"小学美术","沈阳市铁西区应昌小学大明湖分校（西门）","0324小学美术2组","7月12日11：40-12：10"]
[986,"沈阳市铁西区雏鹰小学","小学美术教师","03320","李雨薇","0101571012",106.92,{"$f":"VLOOKUP(D989:D2165,[1]按组排列版!$G:$P,10,FALSE)","v":"0324小学美术2组"},"小学美术","沈阳市铁西区应昌小学大明湖分校（西门）","0324小学美术2组","7月12日11：40-12：10"]
[987,"沈阳市铁西区雏鹰小学","小学美术教师","03320","于枚甲","0101390304",105.66,{"$f":"VLOOKUP(D990:D2166,[1]按组排列版!$G:$P,10,FALSE)","v":"0324小学美术2组"},"小学美术","沈阳市铁西区应昌小学大明湖分校（西门）","0324小学美术2组","7月12日11：40-12：10"]
[988,"沈阳市铁西区勋望小学建农分校","小学语数教师","03321","徐丽","0101432514",119.47,{"$f":"VLOOKUP(D991:D2167,[1]按组排列版!$G:$P,10,FALSE)","v":"0310小学语数10组"},"小学语数","沈阳市铁西区应昌小学大明湖分校（西门）","0310小学语数10组","7月11日11：40-12：10"]
[989,"沈阳市铁西区勋望小学建农分校","小学语数教师","03321","刘婷","0101450114",118.36,{"$f":"VLOOKUP(D992:D2168,[1]按组排列版!$G:$P,10,FALSE)","v":"0310小学语数10组"},"小学语数","沈阳市铁西区应昌小学大明湖分校（西门）","0310小学语数10组","7月11日11：40-12：10"]
[990,"沈阳市铁西区勋望小学建农分校","小学语数教师","03321","王思聪","0101390118",109.9,{"$f":"VLOOKUP(D993:D2169,[1]按组排列版!$G:$P,10,FALSE)","v":"0310小学语数10组"},"小学语数","沈阳市铁西区应昌小学大明湖分校（西门）","0310小学语数10组","7月11日11：40-12：10"]
[991,"沈阳市铁西区勋望小学建农分校","小学语数教师","03322","李一鸣","0101571529",112.39,{"$f":"VLOOKUP(D994:D2170,[1]按组排列版!$G:$P,10,FALSE)","v":"0310小学语数10组"},"小学语数","沈阳市铁西区应昌小学大明湖分校（西门）","0310小学语数10组","7月11日11：40-12：10"]
[992,"沈阳市铁西区勋望小学建农分校","小学语数教师","03322","王腾月","0101351920",111.15,{"$f":"VLOOKUP(D995:D2171,[1]按组排列版!$G:$P,10,FALSE)","v":"0310小学语数10组"},"小学语数","沈阳市铁西区应昌小学大明湖分校（西门）","0310小学语数10组","7月11日11：40-12：10"]
[993,"沈阳市铁西区勋望小学建农分校","小学语数教师","03322","马瑞鸽","0101500713",108.18,{"$f":"VLOOKUP(D996:D2172,[1]按组排列版!$G:$P,10,FALSE)","v":"0310小学语数10组"},"小学语数","沈阳市铁西区应昌小学大明湖分校（西门）","0310小学语数10组","7月11日11：40-12：10"]
[994,"沈阳市铁西区勋望小学建农分校","小学语数教师","03322","于庆涛","0101341209",107.67,{"$f":"VLOOKUP(D997:D2173,[1]按组排列版!$G:$P,10,FALSE)","v":"0310小学语数10组"},"小学语数","沈阳市铁西区应昌小学大明湖分校（西门）","0310小学语数10组","7月11日11：40-12：10"]
[995,"沈阳市铁西区勋望小学建农分校","小学语数教师","03322","邢延琳","0101510910",105.04,{"$f":"VLOOKUP(D998:D2174,[1]按组排列版!$G:$P,10,FALSE)","v":"0310小学语数10组"},"小学语数","沈阳市铁西区应昌小学大明湖分校（西门）","0310小学语数10组","7月11日11：40-12：10"]
[996,"沈阳市铁西区勋望小学建农分校","小学语数教师","03322","张兵","0101261116",100.11,{"$f":"VLOOKUP(D999:D2175,[1]按组排列版!$G:$P,10,FALSE)","v":"0310小学语数10组"},"小学语数","沈阳市铁西区应昌小学大明湖分校（西门）","0310小学语数10组","7月11日11：40-12：10"]
[997,"沈阳市铁西区勋望小学建农分校","小学语数教师","03322","崔畅","0101280909",99.65,{"$f":"VLOOKUP(D1000:D2176,[1]按组排列版!$G:$P,10,FALSE)","v":"0310小学语数10组"},"小学语数","沈阳市铁西区应昌小学大明湖分校（西门）","0310小学语数10组","7月11日11：40-12：10"]
[998,"沈阳市铁西区勋望小学建农分校","小学语数教师","03322","夏宏轩","0101362028",99.33,{"$f":"VLOOKUP(D1001:D2177,[1]按组排列版!$G:$P,10,FALSE)","v":"0310小学语数10组"},"小学语数","沈阳市铁西区应昌小学大明湖分校（西门）","0310小学语数10组","7月11日11：40-12：10"]
[999,"沈阳市铁西区勋望小学建农分校","小学语数教师","03322","郭嘉伦","0101350214",98.97,{"$f":"VLOOKUP(D1002:D2178,[1]按组排列版!$G:$P,10,FALSE)","v":"0310小学语数10组"},"小学语数","沈阳市铁西区应昌小学大明湖分校（西门）","0310小学语数10组","7月11日11：40-12：10"]
[1000,"沈阳市铁西区勋望小学建农分校","小学语数教师","03323","王岩","0101440407",114.88,{"$f":"VLOOKUP(D1003:D2179,[1]按组排列版!$G:$P,10,FALSE)","v":"0311小学语数11组"},"小学语数","沈阳市铁西区应昌小学大明湖分校（西门）","0311小学语数11组","7月11日11：40-12：10"]
[1001,"沈阳市铁西区勋望小学建农分校","小学语数教师","03323","刘韫超","0101431520",114.16,{"$f":"VLOOKUP(D1004:D2180,[1]按组排列版!$G:$P,10,FALSE)","v":"0311小学语数11组"},"小学语数","沈阳市铁西区应昌小学大明湖分校（西门）","0311小学语数11组","7月11日11：40-12：10"]
[1002,"沈阳市铁西区勋望小学建农分校","小学语数教师","03323","周思宇","0101441024",110.99,{"$f":"VLOOKUP(D1005:D2181,[1]按组排列版!$G:$P,10,FALSE)","v":"0311小学语数11组"},"小学语数","沈阳市铁西区应昌小学大明湖分校（西门）","0311小学语数11组","7月11日11：40-12：10"]
[1003,"沈阳市铁西区勋望小学建农分校","小学语数教师","03323","马冰","0101401417",99.26,{"$f":"VLOOKUP(D1006:D2182,[1]按组排列版!$G:$P,10,FALSE)","v":"0311小学语数11组"},"小学语数","沈阳市铁西区应昌小学大明湖分校（西门）","0311小学语数11组","7月11日11：40-12：10"]
[1004,"沈阳市铁西区勋望小学建农分校","小学语数教师","03323","侯新哲","0101440204",97.46,{"$f":"VLOOKUP(D1007:D2183,[1]按组排列版!$G:$P,10,FALSE)","v":"0311小学语数11组"},"小学语数","沈阳市铁西区应昌小学大明湖分校（西门）","0311小学语数11组","7月11日11：40-12：10"]
[1005,"沈阳市铁西区勋望小学建农分校","小学语数教师","03324","胡凤芝","0101281611",114.89,{"$f":"VLOOKUP(D1008:D2184,[1]按组排列版!$G:$P,10,FALSE)","v":"0311小学语数11组"},"小学语数","沈阳市铁西区应昌小学大明湖分校（西门）","0311小学语数11组","7月11日6：40-7：10"]
[1006,"沈阳市铁西区勋望小学建农分校","小学语数教师","03324","蒋思怡","0101271526",114.63,{"$f":"VLOOKUP(D1009:D2185,[1]按组排列版!$G:$P,10,FALSE)","v":"0311小学语数11组"},"小学语数","沈阳市铁西区应昌小学大明湖分校（西门）","0311小学语数11组","7月11日6：40-7：10"]
[1007,"沈阳市铁西区勋望小学建农分校","小学语数教师","03324","徐洋","0101451404",111.65,{"$f":"VLOOKUP(D1010:D2186,[1]按组排列版!$G:$P,10,FALSE)","v":"0311小学语数11组"},"小学语数","沈阳市铁西区应昌小学大明湖分校（西门）","0311小学语数11组","7月11日6：40-7：10"]
[1008,"沈阳市铁西区勋望小学建农分校","小学语数教师","03324","白雪娇","0101470220",111.59,{"$f":"VLOOKUP(D1011:D2187,[1]按组排列版!$G:$P,10,FALSE)","v":"0311小学语数11组"},"小学语数","沈阳市铁西区应昌小学大明湖分校（西门）","0311小学语数11组","7月11日6：40-7：10"]
[1009,"沈阳市铁西区勋望小学建农分校","小学语数教师","03324","吕思语","0101501722",111.23,{"$f":"VLOOKUP(D1012:D2188,[1]按组排列版!$G:$P,10,FALSE)","v":"0311小学语数11组"},"小学语数","沈阳市铁西区应昌小学大明湖分校（西门）","0311小学语数11组","7月11日6：40-7：10"]
[1010,"沈阳市铁西区勋望小学建农分校","小学语数教师","03324","陈思名","0101501304",109.87,{"$f":"VLOOKUP(D1013:D2189,[1]按组排列版!$G:$P,10,FALSE)","v":"0311小学语数11组"},"小学语数","沈阳市铁西区应昌小学大明湖分校（西门）","0311小学语数11组","7月11日6：40-7：10"]
[1011,"沈阳市铁西区勋望小学建农分校","小学语数教师","03324","高洋","0101401102",109.59,{"$f":"VLOOKUP(D1014:D2190,[1]按组排列版!$G:$P,10,FALSE)","v":"0311小学语数11组"},"小学语数","沈阳市铁西区应昌小学大明湖分校（西门）","0311小学语数11组","7月11日6：40-7：10"]
[1012,"沈阳市铁西区勋望小学建农分校","小学语数教师","03324","于凤丽","0101251101",108.68,{"$f":"VLOOKUP(D1015:D2191,[1]按组排列版!$G:$P,10,FALSE)","v":"0311小学语数11组"},"小学语数","沈阳市铁西区应昌小学大明湖分校（西门）","0311小学语数11组","7月11日6：40-7：10"]
[1013,"沈阳市铁西区勋望小学建农分校","小学语数教师","03324","李伶俐","0101480608",108.57,{"$f":"VLOOKUP(D1016:D2192,[1]按组排列版!$G:$P,10,FALSE)","v":"0311小学语数11组"},"小学语数","沈阳市铁西区应昌小学大明湖分校（西门）","0311小学语数11组","7月11日6：40-7：10"]
[1014,"沈阳市铁西区勋望小学建农分校","小学语数教师","03324","梁悦","0101531314",108.55,{"$f":"VLOOKUP(D1017:D2193,[1]按组排列版!$G:$P,10,FALSE)","v":"0311小学语数11组"},"小学语数","沈阳市铁西区应昌小学大明湖分校（西门）","0311小学语数11组","7月11日6：40-7：10"]
[1015,"沈阳市铁西区勋望小学建农分校","小学语数教师","03324","梁红","0101530427",108.52,{"$f":"VLOOKUP(D1018:D2194,[1]按组排列版!$G:$P,10,FALSE)","v":"0311小学语数11组"},"小学语数","沈阳市铁西区应昌小学大明湖分校（西门）","0311小学语数11组","7月11日6：40-7：10"]
[1016,"沈阳市铁西区勋望小学建农分校","小学语数教师","03324","都田雪","0101511125",107.79,{"$f":"VLOOKUP(D1019:D2195,[1]按组排列版!$G:$P,10,FALSE)","v":"0311小学语数11组"},"小学语数","沈阳市铁西区应昌小学大明湖分校（西门）","0311小学语数11组","7月11日6：40-7：10"]
[1017,"沈阳市铁西区勋望小学建农分校","小学语数教师","03324","孙亚楠","0101300921",107.47,{"$f":"VLOOKUP(D1020:D2196,[1]按组排列版!$G:$P,10,FALSE)","v":"0311小学语数11组"},"小学语数","沈阳市铁西区应昌小学大明湖分校（西门）","0311小学语数11组","7月11日6：40-7：10"]
[1018,"沈阳市铁西区勋望小学建农分校","小学语数教师","03324","张安琪","0101561421",106.23,{"$f":"VLOOKUP(D1021:D2197,[1]按组排列版!$G:$P,10,FALSE)","v":"0311小学语数11组"},"小学语数","沈阳市铁西区应昌小学大明湖分校（西门）","0311小学语数11组","7月11日6：40-7：10"]
[1019,"沈阳市铁西区勋望小学建农分校","小学语数教师","03324","张艺馨","0101401205",105.93,{"$f":"VLOOKUP(D1022:D2198,[1]按组排列版!$G:$P,10,FALSE)","v":"0311小学语数11组"},"小学语数","沈阳市铁西区应昌小学大明湖分校（西门）","0311小学语数11组","7月11日6：40-7：10"]
[1020,"沈阳市铁西区勋望小学建农分校","小学语数教师","03324","梁艳文","0101391729",104.64,{"$f":"VLOOKUP(D1023:D2199,[1]按组排列版!$G:$P,10,FALSE)","v":"0311小学语数11组"},"小学语数","沈阳市铁西区应昌小学大明湖分校（西门）","0311小学语数11组","7月11日6：40-7：10"]
[1021,"沈阳市铁西区勋望小学建农分校","小学语数教师","03324","王鸿军","0101570622",103.13,{"$f":"VLOOKUP(D1024:D2200,[1]按组排列版!$G:$P,10,FALSE)","v":"0311小学语数11组"},"小学语数","沈阳市铁西区应昌小学大明湖分校（西门）","0311小学语数11组","7月11日6：40-7：10"]
[1022,"沈阳市铁西区勋望小学建农分校","小学语数教师","03324","唐乐","0101320624",101.13,{"$f":"VLOOKUP(D1025:D2201,[1]按组排列版!$G:$P,10,FALSE)","v":"0311小学语数11组"},"小学语数","沈阳市铁西区应昌小学大明湖分校（西门）","0311小学语数11组","7月11日6：40-7：10"]
[1023,"沈阳市铁西区勋望小学建农分校","小学体育教师","03325","高玉镜","0101470507",108.27,{"$f":"VLOOKUP(D1026:D2202,[1]按组排列版!$G:$P,10,FALSE)","v":"0330小学体育4组"},"小学体育","沈阳市铁西区应昌小学大明湖分校（西门）","0330小学体育4组","7月12日11：40-12：10"]
[1024,"沈阳市铁西区勋望小学建农分校","小学体育教师","03325","秦瑞隆","0101520924",108,{"$f":"VLOOKUP(D1027:D2203,[1]按组排列版!$G:$P,10,FALSE)","v":"0330小学体育4组"},"小学体育","沈阳市铁西区应昌小学大明湖分校（西门）","0330小学体育4组","7月12日11：40-12：10"]
[1025,"沈阳市铁西区勋望小学建农分校","小学体育教师","03325","王雨橦","0101230714",107.93,{"$f":"VLOOKUP(D1028:D2204,[1]按组排列版!$G:$P,10,FALSE)","v":"0330小学体育4组"},"小学体育","沈阳市铁西区应昌小学大明湖分校（西门）","0330小学体育4组","7月12日11：40-12：10"]
[1026,"沈阳市铁西区勋望小学建农分校","小学体育教师","03325","许金哲","0101280610",97.25,{"$f":"VLOOKUP(D1029:D2205,[1]按组排列版!$G:$P,10,FALSE)","v":"0330小学体育4组"},"小学体育","沈阳市铁西区应昌小学大明湖分校（西门）","0330小学体育4组","7月12日11：40-12：10"]
[1027,"沈阳市铁西区勋望小学建农分校","小学体育教师","03325","刘宏宇","0101551615",90.78,{"$f":"VLOOKUP(D1030:D2206,[1]按组排列版!$G:$P,10,FALSE)","v":"0330小学体育4组"},"小学体育","沈阳市铁西区应昌小学大明湖分校（西门）","0330小学体育4组","7月12日11：40-12：10"]
[1028,"沈阳市铁西区勋望小学建农分校","小学体育教师","03325","张毅坤","0101330821",90.55,{"$f":"VLOOKUP(D1031:D2207,[1]按组排列版!$G:$P,10,FALSE)","v":"0330小学体育4组"},"小学体育","沈阳市铁西区应昌小学大明湖分校（西门）","0330小学体育4组","7月12日11：40-12：10"]
[1029,"沈阳市铁西区勋望小学建农分校","小学体育教师","03326","冯赫","0101420907",100.06,{"$f":"VLOOKUP(D1032:D2208,[1]按组排列版!$G:$P,10,FALSE)","v":"0330小学体育4组"},"小学体育","沈阳市铁西区应昌小学大明湖分校（西门）","0330小学体育4组","7月12日11：40-12：10"]
[1030,"沈阳市铁西区勋望小学建农分校","小学体育教师","03326","田志明","0101331614",96.34,{"$f":"VLOOKUP(D1033:D2209,[1]按组排列版!$G:$P,10,FALSE)","v":"0330小学体育4组"},"小学体育","沈阳市铁西区应昌小学大明湖分校（西门）","0330小学体育4组","7月12日11：40-12：10"]
[1031,"沈阳市铁西区勋望小学建农分校","小学体育教师","03327","刘少维","0101421711",98.79,{"$f":"VLOOKUP(D1034:D2210,[1]按组排列版!$G:$P,10,FALSE)","v":"0330小学体育4组"},"小学体育","沈阳市铁西区应昌小学大明湖分校（西门）","0330小学体育4组","7月12日11：40-12：10"]
[1032,"沈阳市铁西区勋望小学建农分校","小学体育教师","03327","王鑫豪","0101430421",98.11,{"$f":"VLOOKUP(D1035:D2211,[1]按组排列版!$G:$P,10,FALSE)","v":"0330小学体育4组"},"小学体育","沈阳市铁西区应昌小学大明湖分校（西门）","0330小学体育4组","7月12日11：40-12：10"]
[1033,"沈阳市铁西区勋望小学建农分校","小学体育教师","03327","王一池","0101310501",97.82,{"$f":"VLOOKUP(D1036:D2212,[1]按组排列版!$G:$P,10,FALSE)","v":"0330小学体育4组"},"小学体育","沈阳市铁西区应昌小学大明湖分校（西门）","0330小学体育4组","7月12日11：40-12：10"]
[1034,"沈阳市铁西区勋望小学建农分校","小学体育教师","03327","王春秋","0101441414",96.23,{"$f":"VLOOKUP(D1037:D2213,[1]按组排列版!$G:$P,10,FALSE)","v":"0330小学体育4组"},"小学体育","沈阳市铁西区应昌小学大明湖分校（西门）","0330小学体育4组","7月12日11：40-12：10"]
[1035,"沈阳市铁西区勋望小学建农分校","小学体育教师","03327","孙文超","0101421009",93.75,{"$f":"VLOOKUP(D1038:D2214,[1]按组排列版!$G:$P,10,FALSE)","v":"0330小学体育4组"},"小学体育","沈阳市铁西区应昌小学大明湖分校（西门）","0330小学体育4组","7月12日11：40-12：10"]
[1036,"沈阳市铁西区勋望小学建农分校","小学体育教师","03327","刘钖","0101261215",93.28,{"$f":"VLOOKUP(D1039:D2215,[1]按组排列版!$G:$P,10,FALSE)","v":"0330小学体育4组"},"小学体育","沈阳市铁西区应昌小学大明湖分校（西门）","0330小学体育4组","7月12日11：40-12：10"]
[1037,"沈阳市铁西区勋望小学建农分校","小学英语教师","03328","陈思铭","0101450830",114.25,{"$f":"VLOOKUP(D1040:D2216,[1]按组排列版!$G:$P,10,FALSE)","v":"0320小学英语3组"},"小学英语","沈阳市铁西区应昌小学大明湖分校（西门）","0320小学英语3组","7月11日6：40-7：10"]
[1038,"沈阳市铁西区勋望小学建农分校","小学英语教师","03328","徐萌","0101310404",112.89,{"$f":"VLOOKUP(D1041:D2217,[1]按组排列版!$G:$P,10,FALSE)","v":"0320小学英语3组"},"小学英语","沈阳市铁西区应昌小学大明湖分校（西门）","0320小学英语3组","7月11日6：40-7：10"]
[1039,"沈阳市铁西区勋望小学建农分校","小学英语教师","03328","徐华蔓","0101331511",109.52,{"$f":"VLOOKUP(D1042:D2218,[1]按组排列版!$G:$P,10,FALSE)","v":"0320小学英语3组"},"小学英语","沈阳市铁西区应昌小学大明湖分校（西门）","0320小学英语3组","7月11日6：40-7：10"]
[1040,"沈阳市铁西区勋望小学建农分校","小学美术教师","03329","李婧莹","0101301916",115.9,{"$f":"VLOOKUP(D1043:D2219,[1]按组排列版!$G:$P,10,FALSE)","v":"0324小学美术2组"},"小学美术","沈阳市铁西区应昌小学大明湖分校（西门）","0324小学美术2组","7月12日11：40-12：10"]
[1041,"沈阳市铁西区勋望小学建农分校","小学美术教师","03329","王珏","0101351021",107.46,{"$f":"VLOOKUP(D1044:D2220,[1]按组排列版!$G:$P,10,FALSE)","v":"0324小学美术2组"},"小学美术","沈阳市铁西区应昌小学大明湖分校（西门）","0324小学美术2组","7月12日11：40-12：10"]
[1042,"沈阳市铁西区勋望小学建农分校","小学美术教师","03329","李彤","0101321006",103.71,{"$f":"VLOOKUP(D1045:D2221,[1]按组排列版!$G:$P,10,FALSE)","v":"0324小学美术2组"},"小学美术","沈阳市铁西区应昌小学大明湖分校（西门）","0324小学美术2组","7月12日11：40-12：10"]
[1043,"沈阳市铁西区勋望小学建农分校","小学美术教师","03330","冯中相","0101450207",110.45,{"$f":"VLOOKUP(D1046:D2222,[1]按组排列版!$G:$P,10,FALSE)","v":"0325小学美术3组"},"小学美术","沈阳市铁西区应昌小学大明湖分校（西门）","0325小学美术3组","7月12日6：40-7：10"]
[1044,"沈阳市铁西区勋望小学建农分校","小学美术教师","03330","刘赢","0101430609",108.58,{"$f":"VLOOKUP(D1047:D2223,[1]按组排列版!$G:$P,10,FALSE)","v":"0325小学美术3组"},"小学美术","沈阳市铁西区应昌小学大明湖分校（西门）","0325小学美术3组","7月12日6：40-7：10"]
[1045,"沈阳市铁西区勋望小学建农分校","小学美术教师","03330","林丽荣","0101430818",107.37,{"$f":"VLOOKUP(D1048:D2224,[1]按组排列版!$G:$P,10,FALSE)","v":"0325小学美术3组"},"小学美术","沈阳市铁西区应昌小学大明湖分校（西门）","0325小学美术3组","7月12日6：40-7：10"]
[1046,"沈阳市铁西区勋望小学建农分校","小学美术教师","03330","郇玉婷","0101431918",106.8,{"$f":"VLOOKUP(D1049:D2225,[1]按组排列版!$G:$P,10,FALSE)","v":"0325小学美术3组"},"小学美术","沈阳市铁西区应昌小学大明湖分校（西门）","0325小学美术3组","7月12日6：40-7：10"]
[1047,"沈阳市铁西区勋望小学建农分校","小学美术教师","03330","于晴晴","0101320506",105.59,{"$f":"VLOOKUP(D1050:D2226,[1]按组排列版!$G:$P,10,FALSE)","v":"0325小学美术3组"},"小学美术","沈阳市铁西区应昌小学大明湖分校（西门）","0325小学美术3组","7月12日6：40-7：10"]
[1048,"沈阳市铁西区勋望小学建农分校","小学美术教师","03330","郑丽娇","0101431925",104.87,{"$f":"VLOOKUP(D1051:D2227,[1]按组排列版!$G:$P,10,FALSE)","v":"0325小学美术3组"},"小学美术","沈阳市铁西区应昌小学大明湖分校（西门）","0325小学美术3组","7月12日6：40-7：10"]
[1049,"沈阳市铁西区勋望小学建农分校","小学美术教师","03330","史靓","0101550312",104.64,{"$f":"VLOOKUP(D1052:D2228,[1]按组排列版!$G:$P,10,FALSE)","v":"0325小学美术3组"},"小学美术","沈阳市铁西区应昌小学大明湖分校（西门）","0325小学美术3组","7月12日6：40-7：10"]
[1050,"沈阳市铁西区勋望小学建农分校","小学美术教师","03330","李莹","0101490822",103.93,{"$f":"VLOOKUP(D1053:D2229,[1]按组排列版!$G:$P,10,FALSE)","v":"0325小学美术3组"},"小学美术","沈阳市铁西区应昌小学大明湖分校（西门）","0325小学美术3组","7月12日6：40-7：10"]
[1051,"沈阳市铁西区勋望小学建农分校","小学美术教师","03330","胥雯文","0101401111",103.15,{"$f":"VLOOKUP(D1054:D2230,[1]按组排列版!$G:$P,10,FALSE)","v":"0325小学美术3组"},"小学美术","沈阳市铁西区应昌小学大明湖分校（西门）","0325小学美术3组","7月12日6：40-7：10"]
[1052,"沈阳市铁西区勋望小学建农分校","小学科学教师","03331","王宜凡","0101401221",108.92,{"$f":"VLOOKUP(D1055:D2231,[1]按组排列版!$G:$P,10,FALSE)","v":"0335小学科学组"},"小学科学","沈阳市铁西区应昌小学大明湖分校（西门）","0335小学科学组","7月12日11：40-12：10"]
[1053,"沈阳市铁西区勋望小学建农分校","小学科学教师","03331","杨欢","0101532119",106.85,{"$f":"VLOOKUP(D1056:D2232,[1]按组排列版!$G:$P,10,FALSE)","v":"0335小学科学组"},"小学科学","沈阳市铁西区应昌小学大明湖分校（西门）","0335小学科学组","7月12日11：40-12：10"]
[1054,"沈阳市铁西区勋望小学建农分校","小学科学教师","03331","史阳阳","0101551423",106.72,{"$f":"VLOOKUP(D1057:D2233,[1]按组排列版!$G:$P,10,FALSE)","v":"0335小学科学组"},"小学科学","沈阳市铁西区应昌小学大明湖分校（西门）","0335小学科学组","7月12日11：40-12：10"]
[1055,"沈阳市铁西区勋望小学建农分校","小学信息技术教师","03332","彭镜蓉","0101500615",111.13,{"$f":"VLOOKUP(D1058:D2234,[1]按组排列版!$G:$P,10,FALSE)","v":"0337小学信息技术2组"},"小学信息技术","沈阳市铁西区应昌小学大明湖分校（西门）","0337小学信息技术2组","7月12日6：40-7：10"]
[1056,"沈阳市铁西区勋望小学建农分校","小学信息技术教师","03332","梁宸","0101411305",107.21,{"$f":"VLOOKUP(D1059:D2235,[1]按组排列版!$G:$P,10,FALSE)","v":"0337小学信息技术2组"},"小学信息技术","沈阳市铁西区应昌小学大明湖分校（西门）","0337小学信息技术2组","7月12日6：40-7：10"]
[1057,"沈阳市铁西区勋望小学建农分校","小学信息技术教师","03332","王慧","0101270809",106.7,{"$f":"VLOOKUP(D1060:D2236,[1]按组排列版!$G:$P,10,FALSE)","v":"0337小学信息技术2组"},"小学信息技术","沈阳市铁西区应昌小学大明湖分校（西门）","0337小学信息技术2组","7月12日6：40-7：10"]
[1058,"沈阳市铁西区勋望小学建农分校","小学信息技术教师","03332","王婼霖","0101551123",102.39,{"$f":"VLOOKUP(D1061:D2237,[1]按组排列版!$G:$P,10,FALSE)","v":"0337小学信息技术2组"},"小学信息技术","沈阳市铁西区应昌小学大明湖分校（西门）","0337小学信息技术2组","7月12日6：40-7：10"]
[1059,"沈阳市铁西区勋望小学建农分校","小学信息技术教师","03332","李洋","0101571020",100.91,{"$f":"VLOOKUP(D1062:D2238,[1]按组排列版!$G:$P,10,FALSE)","v":"0337小学信息技术2组"},"小学信息技术","沈阳市铁西区应昌小学大明湖分校（西门）","0337小学信息技术2组","7月12日6：40-7：10"]
[1060,"沈阳市铁西区勋望小学建农分校","小学信息技术教师","03332","许佳欣","0101331504",66.49,{"$f":"VLOOKUP(D1063:D2239,[1]按组排列版!$G:$P,10,FALSE)","v":"0337小学信息技术2组"},"小学信息技术","沈阳市铁西区应昌小学大明湖分校（西门）","0337小学信息技术2组","7月12日6：40-7：10"]
[1061,"沈阳市铁西区勋望小学建农分校","小学心理健康教师","03333","孙继秋","0101440702",116.59,{"$f":"VLOOKUP(D1064:D2240,[1]按组排列版!$G:$P,10,FALSE)","v":"0341初中、小学心理健康组"},"小学心理健康","沈阳市铁西区应昌小学大明湖分校（西门）","0341初中、小学心理健康组","7月12日11：40-12：10"]
[1062,"沈阳市铁西区勋望小学建农分校","小学心理健康教师","03333","耿雪","0101241012",111.17,{"$f":"VLOOKUP(D1065:D2241,[1]按组排列版!$G:$P,10,FALSE)","v":"0341初中、小学心理健康组"},"小学心理健康","沈阳市铁西区应昌小学大明湖分校（西门）","0341初中、小学心理健康组","7月12日11：40-12：10"]
[1063,"沈阳市铁西区勋望小学建农分校","小学心理健康教师","03333","徐明","0101241116",109.29,{"$f":"VLOOKUP(D1066:D2242,[1]按组排列版!$G:$P,10,FALSE)","v":"0341初中、小学心理健康组"},"小学心理健康","沈阳市铁西区应昌小学大明湖分校（西门）","0341初中、小学心理健康组","7月12日11：40-12：10"]
[1064,"沈阳市铁西区勋望小学建农分校","小学音乐教师","03334","任小雪","0101241110",108.07,{"$f":"VLOOKUP(D1067:D2243,[1]按组排列版!$G:$P,10,FALSE)","v":"0334小学音乐2组"},"小学音乐","沈阳市铁西区应昌小学大明湖分校（西门）","0334小学音乐2组","7月12日6：40-7：10"]
[1065,"沈阳市铁西区勋望小学建农分校","小学音乐教师","03334","杨雯月","0101472301",99,{"$f":"VLOOKUP(D1068:D2244,[1]按组排列版!$G:$P,10,FALSE)","v":"0334小学音乐2组"},"小学音乐","沈阳市铁西区应昌小学大明湖分校（西门）","0334小学音乐2组","7月12日6：40-7：10"]
[1066,"沈阳市铁西区勋望小学建农分校","小学音乐教师","03334","张晓玮","0101470503",97.4,{"$f":"VLOOKUP(D1069:D2245,[1]按组排列版!$G:$P,10,FALSE)","v":"0334小学音乐2组"},"小学音乐","沈阳市铁西区应昌小学大明湖分校（西门）","0334小学音乐2组","7月12日6：40-7：10"]
[1067,"沈阳市铁西区勋望小学建农分校","小学音乐教师","03334","李宛桐","0101330511",97.35,{"$f":"VLOOKUP(D1070:D2246,[1]按组排列版!$G:$P,10,FALSE)","v":"0334小学音乐2组"},"小学音乐","沈阳市铁西区应昌小学大明湖分校（西门）","0334小学音乐2组","7月12日6：40-7：10"]
[1068,"沈阳市铁西区勋望小学建农分校","小学音乐教师","03334","王新颖","0101552103",95.4,{"$f":"VLOOKUP(D1071:D2247,[1]按组排列版!$G:$P,10,FALSE)","v":"0334小学音乐2组"},"小学音乐","沈阳市铁西区应昌小学大明湖分校（西门）","0334小学音乐2组","7月12日6：40-7：10"]
[1069,"沈阳市铁西区勋望小学建农分校","小学音乐教师","03334","赵薇","0101530127",95.31,{"$f":"VLOOKUP(D1072:D2248,[1]按组排列版!$G:$P,10,FALSE)","v":"0334小学音乐2组"},"小学音乐","沈阳市铁西区应昌小学大明湖分校（西门）","0334小学音乐2组","7月12日6：40-7：10"]
[1070,"沈阳市铁西区勋望小学建农分校","小学音乐教师","03335","刘雯","0101501929",105.47,{"$f":"VLOOKUP(D1073:D2249,[1]按组排列版!$G:$P,10,FALSE)","v":"0334小学音乐2组"},"小学音乐","沈阳市铁西区应昌小学大明湖分校（西门）","0334小学音乐2组","7月12日6：40-7：10"]
[1071,"沈阳市铁西区勋望小学建农分校","小学音乐教师","03335","李惠","0101520425",101.26,{"$f":"VLOOKUP(D1074:D2250,[1]按组排列版!$G:$P,10,FALSE)","v":"0334小学音乐2组"},"小学音乐","沈阳市铁西区应昌小学大明湖分校（西门）","0334小学音乐2组","7月12日6：40-7：10"]
[1072,"沈阳市铁西区勋望小学建农分校","小学音乐教师","03335","刘笑嘉","0101420404",99.44,{"$f":"VLOOKUP(D1075:D2251,[1]按组排列版!$G:$P,10,FALSE)","v":"0334小学音乐2组"},"小学音乐","沈阳市铁西区应昌小学大明湖分校（西门）","0334小学音乐2组","7月12日6：40-7：10"]
[1073,"沈阳市铁西区勋望小学建农分校","小学音乐教师","03335","苏香","0101552430",96.9,{"$f":"VLOOKUP(D1076:D2252,[1]按组排列版!$G:$P,10,FALSE)","v":"0334小学音乐2组"},"小学音乐","沈阳市铁西区应昌小学大明湖分校（西门）","0334小学音乐2组","7月12日6：40-7：10"]
[1074,"沈阳市铁西区勋望小学建农分校","小学音乐教师","03335","杜姗珊","0101410412",96.23,{"$f":"VLOOKUP(D1077:D2253,[1]按组排列版!$G:$P,10,FALSE)","v":"0334小学音乐2组"},"小学音乐","沈阳市铁西区应昌小学大明湖分校（西门）","0334小学音乐2组","7月12日6：40-7：10"]
[1075,"沈阳市铁西区勋望小学建农分校","小学音乐教师","03335","张若愚","0101380720",91.69,{"$f":"VLOOKUP(D1078:D2254,[1]按组排列版!$G:$P,10,FALSE)","v":"0334小学音乐2组"},"小学音乐","沈阳市铁西区应昌小学大明湖分校（西门）","0334小学音乐2组","7月12日6：40-7：10"]
[1076,"沈阳市铁西区勋望小学建农分校","小学劳动教师","03336","于晓玲","0101401528",109.11,{"$f":"VLOOKUP(D1079:D2255,[1]按组排列版!$G:$P,10,FALSE)","v":"0342初中、小学劳动组"},"小学劳动","沈阳市铁西区应昌小学大明湖分校（西门）","0342初中、小学劳动组","7月12日6：40-7：10"]
[1077,"沈阳市铁西区勋望小学建农分校","小学劳动教师","03336","任家慧","0101461102",109.04,{"$f":"VLOOKUP(D1080:D2256,[1]按组排列版!$G:$P,10,FALSE)","v":"0342初中、小学劳动组"},"小学劳动","沈阳市铁西区应昌小学大明湖分校（西门）","0342初中、小学劳动组","7月12日6：40-7：10"]
[1078,"沈阳市铁西区勋望小学建农分校","小学劳动教师","03337","王兴芳","0101440725",115.73,{"$f":"VLOOKUP(D1081:D2257,[1]按组排列版!$G:$P,10,FALSE)","v":"0342初中、小学劳动组"},"小学劳动","沈阳市铁西区应昌小学大明湖分校（西门）","0342初中、小学劳动组","7月12日6：40-7：10"]
[1079,"沈阳市铁西区勋望小学建农分校","小学劳动教师","03337","何金秀","0101310413",105.03,{"$f":"VLOOKUP(D1082:D2258,[1]按组排列版!$G:$P,10,FALSE)","v":"0342初中、小学劳动组"},"小学劳动","沈阳市铁西区应昌小学大明湖分校（西门）","0342初中、小学劳动组","7月12日6：40-7：10"]
[1080,"沈阳市铁西区勋望小学建农分校","小学劳动教师","03337","尚晓娜","0101571804",104.74,{"$f":"VLOOKUP(D1083:D2259,[1]按组排列版!$G:$P,10,FALSE)","v":"0342初中、小学劳动组"},"小学劳动","沈阳市铁西区应昌小学大明湖分校（西门）","0342初中、小学劳动组","7月12日6：40-7：10"]
[1081,"沈阳市铁西区勋望小学燕塞湖分校","小学语数教师","03338","关诗琪","0101331015",117.48,{"$f":"VLOOKUP(D1084:D2260,[1]按组排列版!$G:$P,10,FALSE)","v":"0311小学语数11组"},"小学语数","沈阳市铁西区应昌小学大明湖分校（西门）","0311小学语数11组","7月11日11：40-12：10"]
[1082,"沈阳市铁西区勋望小学燕塞湖分校","小学语数教师","03338","唐莹","0101371408",106.89,{"$f":"VLOOKUP(D1085:D2261,[1]按组排列版!$G:$P,10,FALSE)","v":"0311小学语数11组"},"小学语数","沈阳市铁西区应昌小学大明湖分校（西门）","0311小学语数11组","7月11日11：40-12：10"]
[1083,"沈阳市铁西区勋望小学燕塞湖分校","小学语数教师","03338","刘小郁","0101341725",101.04,{"$f":"VLOOKUP(D1086:D2262,[1]按组排列版!$G:$P,10,FALSE)","v":"0311小学语数11组"},"小学语数","沈阳市铁西区应昌小学大明湖分校（西门）","0311小学语数11组","7月11日11：40-12：10"]
[1084,"沈阳市铁西区勋望小学燕塞湖分校","小学语数教师","03338","徐嘉蔚","0101492230",94.43,{"$f":"VLOOKUP(D1087:D2263,[1]按组排列版!$G:$P,10,FALSE)","v":"0311小学语数11组"},"小学语数","沈阳市铁西区应昌小学大明湖分校（西门）","0311小学语数11组","7月11日11：40-12：10"]
[1085,"沈阳市铁西区勋望小学燕塞湖分校","小学语数教师","03338","毕馨予","0101570617",92.92,{"$f":"VLOOKUP(D1088:D2264,[1]按组排列版!$G:$P,10,FALSE)","v":"0311小学语数11组"},"小学语数","沈阳市铁西区应昌小学大明湖分校（西门）","0311小学语数11组","7月11日11：40-12：10"]
[1086,"沈阳市铁西区勋望小学燕塞湖分校","小学语数教师","03339","任辉","0101391621",102.89,{"$f":"VLOOKUP(D1089:D2265,[1]按组排列版!$G:$P,10,FALSE)","v":"0311小学语数11组"},"小学语数","沈阳市铁西区应昌小学大明湖分校（西门）","0311小学语数11组","7月11日11：40-12：10"]
[1087,"沈阳市铁西区勋望小学燕塞湖分校","小学语数教师","03339","王静","0101301329",100,{"$f":"VLOOKUP(D1090:D2266,[1]按组排列版!$G:$P,10,FALSE)","v":"0311小学语数11组"},"小学语数","沈阳市铁西区应昌小学大明湖分校（西门）","0311小学语数11组","7月11日11：40-12：10"]
[1088,"沈阳市铁西区勋望小学燕塞湖分校","小学语数教师","03339","祁新","0101432504",93.57,{"$f":"VLOOKUP(D1091:D2267,[1]按组排列版!$G:$P,10,FALSE)","v":"0311小学语数11组"},"小学语数","沈阳市铁西区应昌小学大明湖分校（西门）","0311小学语数11组","7月11日11：40-12：10"]
[1089,"沈阳市铁西区勋望小学燕塞湖分校","小学语数教师","03340","张佳璐","0101531905",107.37,{"$f":"VLOOKUP(D1092:D2268,[1]按组排列版!$G:$P,10,FALSE)","v":"0312小学语数12组"},"小学语数","沈阳市铁西区应昌小学大明湖分校（西门）","0312小学语数12组","7月11日6：40-7：10"]
[1090,"沈阳市铁西区勋望小学燕塞湖分校","小学语数教师","03340","杨佳乐","0101432517",106.69,{"$f":"VLOOKUP(D1093:D2269,[1]按组排列版!$G:$P,10,FALSE)","v":"0312小学语数12组"},"小学语数","沈阳市铁西区应昌小学大明湖分校（西门）","0312小学语数12组","7月11日6：40-7：10"]
[1091,"沈阳市铁西区勋望小学燕塞湖分校","小学语数教师","03340","李斯文","0101431109",101.82,{"$f":"VLOOKUP(D1094:D2270,[1]按组排列版!$G:$P,10,FALSE)","v":"0312小学语数12组"},"小学语数","沈阳市铁西区应昌小学大明湖分校（西门）","0312小学语数12组","7月11日6：40-7：10"]
[1092,"沈阳市铁西区勋望小学燕塞湖分校","小学语数教师","03340","王芳","0101431627",97.77,{"$f":"VLOOKUP(D1095:D2271,[1]按组排列版!$G:$P,10,FALSE)","v":"0312小学语数12组"},"小学语数","沈阳市铁西区应昌小学大明湖分校（西门）","0312小学语数12组","7月11日6：40-7：10"]
[1093,"沈阳市铁西区勋望小学燕塞湖分校","小学语数教师","03340","李男","0101481920",96.08,{"$f":"VLOOKUP(D1096:D2272,[1]按组排列版!$G:$P,10,FALSE)","v":"0312小学语数12组"},"小学语数","沈阳市铁西区应昌小学大明湖分校（西门）","0312小学语数12组","7月11日6：40-7：10"]
[1094,"沈阳市铁西区勋望小学燕塞湖分校","小学语数教师","03341","赵雪","0101381018",106.83,{"$f":"VLOOKUP(D1097:D2273,[1]按组排列版!$G:$P,10,FALSE)","v":"0311小学语数11组"},"小学语数","沈阳市铁西区应昌小学大明湖分校（西门）","0311小学语数11组","7月11日11：40-12：10"]
[1095,"沈阳市铁西区勋望小学燕塞湖分校","小学语数教师","03341","王欣欣","0101371114",98.59,{"$f":"VLOOKUP(D1098:D2274,[1]按组排列版!$G:$P,10,FALSE)","v":"0311小学语数11组"},"小学语数","沈阳市铁西区应昌小学大明湖分校（西门）","0311小学语数11组","7月11日11：40-12：10"]
[1096,"沈阳市铁西区勋望小学燕塞湖分校","小学语数教师","03341","安珊","0101440120",93.6,{"$f":"VLOOKUP(D1099:D2275,[1]按组排列版!$G:$P,10,FALSE)","v":"0311小学语数11组"},"小学语数","沈阳市铁西区应昌小学大明湖分校（西门）","0311小学语数11组","7月11日11：40-12：10"]
[1097,"沈阳市铁西区勋望小学燕塞湖分校","小学语数教师","03342","周笛","0101390611",104.55,{"$f":"VLOOKUP(D1100:D2276,[1]按组排列版!$G:$P,10,FALSE)","v":"0312小学语数12组"},"小学语数","沈阳市铁西区应昌小学大明湖分校（西门）","0312小学语数12组","7月11日6：40-7：10"]
[1098,"沈阳市铁西区勋望小学燕塞湖分校","小学语数教师","03342","张硕","0101440130",95.04,{"$f":"VLOOKUP(D1101:D2277,[1]按组排列版!$G:$P,10,FALSE)","v":"0312小学语数12组"},"小学语数","沈阳市铁西区应昌小学大明湖分校（西门）","0312小学语数12组","7月11日6：40-7：10"]
[1099,"沈阳市铁西区勋望小学燕塞湖分校","小学体育教师","03343","周敏轩","0101520922",98.49,{"$f":"VLOOKUP(D1102:D2278,[1]按组排列版!$G:$P,10,FALSE)","v":"0330小学体育4组"},"小学体育","沈阳市铁西区应昌小学大明湖分校（西门）","0330小学体育4组","7月12日11：40-12：10"]
[1100,"沈阳市铁西区勋望小学燕塞湖分校","小学体育教师","03343","李家乐","0101502021",91.8,{"$f":"VLOOKUP(D1103:D2279,[1]按组排列版!$G:$P,10,FALSE)","v":"0330小学体育4组"},"小学体育","沈阳市铁西区应昌小学大明湖分校（西门）","0330小学体育4组","7月12日11：40-12：10"]
[1101,"沈阳市铁西区勋望小学燕塞湖分校","小学体育教师","03343","程培杰","0101251320",87.27,{"$f":"VLOOKUP(D1104:D2280,[1]按组排列版!$G:$P,10,FALSE)","v":"0330小学体育4组"},"小学体育","沈阳市铁西区应昌小学大明湖分校（西门）","0330小学体育4组","7月12日11：40-12：10"]
[1102,"沈阳市铁西区勋望小学燕塞湖分校","小学体育教师","03344","贾广纯","0101552203",101.14,{"$f":"VLOOKUP(D1105:D2281,[1]按组排列版!$G:$P,10,FALSE)","v":"0331小学体育5组"},"小学体育","沈阳市铁西区应昌小学大明湖分校（西门）","0331小学体育5组","7月12日6：40-7：10"]
[1103,"沈阳市铁西区勋望小学燕塞湖分校","小学体育教师","03344","傅万裕","0101411111",98.44,{"$f":"VLOOKUP(D1106:D2282,[1]按组排列版!$G:$P,10,FALSE)","v":"0331小学体育5组"},"小学体育","沈阳市铁西区应昌小学大明湖分校（西门）","0331小学体育5组","7月12日6：40-7：10"]
[1104,"沈阳市铁西区勋望小学燕塞湖分校","小学体育教师","03344","罗绍强","0101401103",91.72,{"$f":"VLOOKUP(D1107:D2283,[1]按组排列版!$G:$P,10,FALSE)","v":"0331小学体育5组"},"小学体育","沈阳市铁西区应昌小学大明湖分校（西门）","0331小学体育5组","7月12日6：40-7：10"]
[1105,"沈阳市铁西区勋望小学燕塞湖分校","小学体育教师","03344","包帅","0101271128",91.35,{"$f":"VLOOKUP(D1108:D2284,[1]按组排列版!$G:$P,10,FALSE)","v":"0331小学体育5组"},"小学体育","沈阳市铁西区应昌小学大明湖分校（西门）","0331小学体育5组","7月12日6：40-7：10"]
[1106,"沈阳市铁西区勋望小学燕塞湖分校","小学体育教师","03344","高宇宏","0101280317",90.62,{"$f":"VLOOKUP(D1109:D2285,[1]按组排列版!$G:$P,10,FALSE)","v":"0331小学体育5组"},"小学体育","沈阳市铁西区应昌小学大明湖分校（西门）","0331小学体育5组","7月12日6：40-7：10"]
[1107,"沈阳市铁西区勋望小学燕塞湖分校","小学体育教师","03344","王微","0101430917",76.39,{"$f":"VLOOKUP(D1110:D2286,[1]按组排列版!$G:$P,10,FALSE)","v":"0331小学体育5组"},"小学体育","沈阳市铁西区应昌小学大明湖分校（西门）","0331小学体育5组","7月12日6：40-7：10"]
[1108,"沈阳市铁西区勋望小学燕塞湖分校","小学体育教师","03345","王帅","0101350430",101.72,{"$f":"VLOOKUP(D1111:D2287,[1]按组排列版!$G:$P,10,FALSE)","v":"0331小学体育5组"},"小学体育","沈阳市铁西区应昌小学大明湖分校（西门）","0331小学体育5组","7月12日6：40-7：10"]
[1109,"沈阳市铁西区勋望小学燕塞湖分校","小学体育教师","03345","姜旭","0101450423",98.62,{"$f":"VLOOKUP(D1112:D2288,[1]按组排列版!$G:$P,10,FALSE)","v":"0331小学体育5组"},"小学体育","沈阳市铁西区应昌小学大明湖分校（西门）","0331小学体育5组","7月12日6：40-7：10"]
[1110,"沈阳市铁西区勋望小学燕塞湖分校","小学体育教师","03345","崔佳奇","0101511009",96.66,{"$f":"VLOOKUP(D1113:D2289,[1]按组排列版!$G:$P,10,FALSE)","v":"0331小学体育5组"},"小学体育","沈阳市铁西区应昌小学大明湖分校（西门）","0331小学体育5组","7月12日6：40-7：10"]
[1111,"沈阳市铁西区勋望小学燕塞湖分校","小学体育教师","03345","姜奕丞","0101431427",94.62,{"$f":"VLOOKUP(D1114:D2290,[1]按组排列版!$G:$P,10,FALSE)","v":"0331小学体育5组"},"小学体育","沈阳市铁西区应昌小学大明湖分校（西门）","0331小学体育5组","7月12日6：40-7：10"]
[1112,"沈阳市铁西区勋望小学燕塞湖分校","小学体育教师","03345","付钰","0101540220",93.58,{"$f":"VLOOKUP(D1115:D2291,[1]按组排列版!$G:$P,10,FALSE)","v":"0331小学体育5组"},"小学体育","沈阳市铁西区应昌小学大明湖分校（西门）","0331小学体育5组","7月12日6：40-7：10"]
[1113,"沈阳市铁西区勋望小学燕塞湖分校","小学体育教师","03345","孙铜徽","0101262307",92.85,{"$f":"VLOOKUP(D1116:D2292,[1]按组排列版!$G:$P,10,FALSE)","v":"0331小学体育5组"},"小学体育","沈阳市铁西区应昌小学大明湖分校（西门）","0331小学体育5组","7月12日6：40-7：10"]
[1114,"沈阳市铁西区勋望小学燕塞湖分校","小学信息技术教师","03346","王紫祎","0101431517",107.46,{"$f":"VLOOKUP(D1117:D2293,[1]按组排列版!$G:$P,10,FALSE)","v":"0337小学信息技术2组"},"小学信息技术","沈阳市铁西区应昌小学大明湖分校（西门）","0337小学信息技术2组","7月12日6：40-7：10"]
[1115,"沈阳市铁西区勋望小学燕塞湖分校","小学信息技术教师","03346","洪佳欣","0101231424",99.03,{"$f":"VLOOKUP(D1118:D2294,[1]按组排列版!$G:$P,10,FALSE)","v":"0337小学信息技术2组"},"小学信息技术","沈阳市铁西区应昌小学大明湖分校（西门）","0337小学信息技术2组","7月12日6：40-7：10"]
[1116,"沈阳市铁西区勋望小学燕塞湖分校","小学信息技术教师","03346","林涵峥","0101281316",85.73,{"$f":"VLOOKUP(D1119:D2295,[1]按组排列版!$G:$P,10,FALSE)","v":"0337小学信息技术2组"},"小学信息技术","沈阳市铁西区应昌小学大明湖分校（西门）","0337小学信息技术2组","7月12日6：40-7：10"]
[1117,"沈阳市铁西区勋望小学燕塞湖分校","小学信息技术教师","03347","邢亮","0101291617",114.84,{"$f":"VLOOKUP(D1120:D2296,[1]按组排列版!$G:$P,10,FALSE)","v":"0337小学信息技术2组"},"小学信息技术","沈阳市铁西区应昌小学大明湖分校（西门）","0337小学信息技术2组","7月12日11：40-12：10"]
[1118,"沈阳市铁西区勋望小学燕塞湖分校","小学信息技术教师","03347","赵拓","0101432102",110.02,{"$f":"VLOOKUP(D1121:D2297,[1]按组排列版!$G:$P,10,FALSE)","v":"0337小学信息技术2组"},"小学信息技术","沈阳市铁西区应昌小学大明湖分校（西门）","0337小学信息技术2组","7月12日11：40-12：10"]
[1119,"沈阳市铁西区勋望小学燕塞湖分校","小学信息技术教师","03347","郑令凤","0101310418",109.51,{"$f":"VLOOKUP(D1122:D2298,[1]按组排列版!$G:$P,10,FALSE)","v":"0337小学信息技术2组"},"小学信息技术","沈阳市铁西区应昌小学大明湖分校（西门）","0337小学信息技术2组","7月12日11：40-12：10"]
[1120,"沈阳市铁西区勋望小学燕塞湖分校","小学音乐教师","03348","高晓茜","0101300514",100.88,{"$f":"VLOOKUP(D1123:D2299,[1]按组排列版!$G:$P,10,FALSE)","v":"0334小学音乐2组"},"小学音乐","沈阳市铁西区应昌小学大明湖分校（西门）","0334小学音乐2组","7月12日6：40-7：10"]
[1121,"沈阳市铁西区勋望小学燕塞湖分校","小学音乐教师","03348","张荻","0101461510",98.61,{"$f":"VLOOKUP(D1124:D2300,[1]按组排列版!$G:$P,10,FALSE)","v":"0334小学音乐2组"},"小学音乐","沈阳市铁西区应昌小学大明湖分校（西门）","0334小学音乐2组","7月12日6：40-7：10"]
[1122,"沈阳市铁西区勋望小学燕塞湖分校","小学音乐教师","03348","李雨溪","0101471709",97.25,{"$f":"VLOOKUP(D1125:D2301,[1]按组排列版!$G:$P,10,FALSE)","v":"0334小学音乐2组"},"小学音乐","沈阳市铁西区应昌小学大明湖分校（西门）","0334小学音乐2组","7月12日6：40-7：10"]
[1123,"沈阳市铁西区勋望小学燕塞湖分校","小学音乐教师","03349","张力丹","0101441025",103.12,{"$f":"VLOOKUP(D1126:D2302,[1]按组排列版!$G:$P,10,FALSE)","v":"0334小学音乐2组"},"小学音乐","沈阳市铁西区应昌小学大明湖分校（西门）","0334小学音乐2组","7月12日11：40-12：10"]
[1124,"沈阳市铁西区勋望小学燕塞湖分校","小学音乐教师","03349","高藩宁","0101441309",93.79,{"$f":"VLOOKUP(D1127:D2303,[1]按组排列版!$G:$P,10,FALSE)","v":"0334小学音乐2组"},"小学音乐","沈阳市铁西区应昌小学大明湖分校（西门）","0334小学音乐2组","7月12日11：40-12：10"]
[1125,"沈阳市铁西区勋望小学燕塞湖分校","小学音乐教师","03349","左李","0101361730",93.53,{"$f":"VLOOKUP(D1128:D2304,[1]按组排列版!$G:$P,10,FALSE)","v":"0334小学音乐2组"},"小学音乐","沈阳市铁西区应昌小学大明湖分校（西门）","0334小学音乐2组","7月12日11：40-12：10"]
[1126,"沈阳市铁西区勋望小学燕塞湖分校","小学音乐教师","03350","邢雅岚","0101440327",96.4,{"$f":"VLOOKUP(D1129:D2305,[1]按组排列版!$G:$P,10,FALSE)","v":"0334小学音乐2组"},"小学音乐","沈阳市铁西区应昌小学大明湖分校（西门）","0334小学音乐2组","7月12日11：40-12：10"]
[1127,"沈阳市铁西区勋望小学燕塞湖分校","小学音乐教师","03350","李响","0101431415",93.96,{"$f":"VLOOKUP(D1130:D2306,[1]按组排列版!$G:$P,10,FALSE)","v":"0334小学音乐2组"},"小学音乐","沈阳市铁西区应昌小学大明湖分校（西门）","0334小学音乐2组","7月12日11：40-12：10"]
[1128,"沈阳市铁西区勋望小学燕塞湖分校","小学音乐教师","03350","于忠雪","0101521329",80.43,{"$f":"VLOOKUP(D1131:D2307,[1]按组排列版!$G:$P,10,FALSE)","v":"0334小学音乐2组"},"小学音乐","沈阳市铁西区应昌小学大明湖分校（西门）","0334小学音乐2组","7月12日11：40-12：10"]
[1129,"沈阳市铁西区勋望小学燕塞湖分校","小学英语教师","03351","金笑伃","0101480102",109.28,{"$f":"VLOOKUP(D1132:D2308,[1]按组排列版!$G:$P,10,FALSE)","v":"0320小学英语3组"},"小学英语","沈阳市铁西区应昌小学大明湖分校（西门）","0320小学英语3组","7月11日6：40-7：10"]
[1130,"沈阳市铁西区勋望小学燕塞湖分校","小学英语教师","03351","赵雨竹","0101562710",108.93,{"$f":"VLOOKUP(D1133:D2309,[1]按组排列版!$G:$P,10,FALSE)","v":"0320小学英语3组"},"小学英语","沈阳市铁西区应昌小学大明湖分校（西门）","0320小学英语3组","7月11日6：40-7：10"]
[1131,"沈阳市铁西区勋望小学燕塞湖分校","小学英语教师","03351","魏思杨","0101331016",96.43,{"$f":"VLOOKUP(D1134:D2310,[1]按组排列版!$G:$P,10,FALSE)","v":"0320小学英语3组"},"小学英语","沈阳市铁西区应昌小学大明湖分校（西门）","0320小学英语3组","7月11日6：40-7：10"]
[1132,"沈阳市铁西区勋望小学燕塞湖分校","小学英语教师","03352","李雪","0101281609",117.44,{"$f":"VLOOKUP(D1135:D2311,[1]按组排列版!$G:$P,10,FALSE)","v":"0320小学英语3组"},"小学英语","沈阳市铁西区应昌小学大明湖分校（西门）","0320小学英语3组","7月11日11：40-12：10"]
[1133,"沈阳市铁西区勋望小学燕塞湖分校","小学英语教师","03352","王旭","0101440926",115.16,{"$f":"VLOOKUP(D1136:D2312,[1]按组排列版!$G:$P,10,FALSE)","v":"0320小学英语3组"},"小学英语","沈阳市铁西区应昌小学大明湖分校（西门）","0320小学英语3组","7月11日11：40-12：10"]
[1134,"沈阳市铁西区勋望小学燕塞湖分校","小学英语教师","03352","张娜","0101440922",112,{"$f":"VLOOKUP(D1137:D2313,[1]按组排列版!$G:$P,10,FALSE)","v":"0320小学英语3组"},"小学英语","沈阳市铁西区应昌小学大明湖分校（西门）","0320小学英语3组","7月11日11：40-12：10"]
[1135,"沈阳市铁西区勋望小学燕塞湖分校","小学英语教师","03352","李鑫塽","0101280911",109.18,{"$f":"VLOOKUP(D1138:D2314,[1]按组排列版!$G:$P,10,FALSE)","v":"0320小学英语3组"},"小学英语","沈阳市铁西区应昌小学大明湖分校（西门）","0320小学英语3组","7月11日11：40-12：10"]
[1136,"沈阳市铁西区勋望小学燕塞湖分校","小学英语教师","03352","高钰","0101440125",106.47,{"$f":"VLOOKUP(D1139:D2315,[1]按组排列版!$G:$P,10,FALSE)","v":"0320小学英语3组"},"小学英语","沈阳市铁西区应昌小学大明湖分校（西门）","0320小学英语3组","7月11日11：40-12：10"]
[1137,"沈阳市铁西区勋望小学燕塞湖分校","小学英语教师","03352","杨宁","0101560112",105.46,{"$f":"VLOOKUP(D1140:D2316,[1]按组排列版!$G:$P,10,FALSE)","v":"0320小学英语3组"},"小学英语","沈阳市铁西区应昌小学大明湖分校（西门）","0320小学英语3组","7月11日11：40-12：10"]
[1138,"沈阳市铁西区勋望小学燕塞湖分校","小学美术教师","03353","刘栩廷","0101330223",109.46,{"$f":"VLOOKUP(D1141:D2317,[1]按组排列版!$G:$P,10,FALSE)","v":"0325小学美术3组"},"小学美术","沈阳市铁西区应昌小学大明湖分校（西门）","0325小学美术3组","7月12日6：40-7：10"]
[1139,"沈阳市铁西区勋望小学燕塞湖分校","小学美术教师","03353","关长虹","0101371710",108.78,{"$f":"VLOOKUP(D1142:D2318,[1]按组排列版!$G:$P,10,FALSE)","v":"0325小学美术3组"},"小学美术","沈阳市铁西区应昌小学大明湖分校（西门）","0325小学美术3组","7月12日6：40-7：10"]
[1140,"沈阳市铁西区勋望小学燕塞湖分校","小学美术教师","03353","孙佳瑞","0101240725",105,{"$f":"VLOOKUP(D1143:D2319,[1]按组排列版!$G:$P,10,FALSE)","v":"0325小学美术3组"},"小学美术","沈阳市铁西区应昌小学大明湖分校（西门）","0325小学美术3组","7月12日6：40-7：10"]
[1141,"沈阳市铁西区勋望小学燕塞湖分校","小学美术教师","03354","刘璎漫","0101321420",101.25,{"$f":"VLOOKUP(D1144:D2320,[1]按组排列版!$G:$P,10,FALSE)","v":"0325小学美术3组"},"小学美术","沈阳市铁西区应昌小学大明湖分校（西门）","0325小学美术3组","7月12日6：40-7：10"]
[1142,"沈阳市铁西区勋望小学燕塞湖分校","小学美术教师","03354","唐欢","0101561812",101,{"$f":"VLOOKUP(D1145:D2321,[1]按组排列版!$G:$P,10,FALSE)","v":"0325小学美术3组"},"小学美术","沈阳市铁西区应昌小学大明湖分校（西门）","0325小学美术3组","7月12日6：40-7：10"]
[1143,"沈阳市铁西区勋望小学燕塞湖分校","小学美术教师","03354","温爽","0101371808",100.56,{"$f":"VLOOKUP(D1146:D2322,[1]按组排列版!$G:$P,10,FALSE)","v":"0325小学美术3组"},"小学美术","沈阳市铁西区应昌小学大明湖分校（西门）","0325小学美术3组","7月12日6：40-7：10"]
[1144,"沈阳市铁西区勋望小学燕塞湖分校","小学美术教师","03355","李倩","0101441201",105.51,{"$f":"VLOOKUP(D1147:D2323,[1]按组排列版!$G:$P,10,FALSE)","v":"0325小学美术3组"},"小学美术","沈阳市铁西区应昌小学大明湖分校（西门）","0325小学美术3组","7月12日6：40-7：10"]
[1145,"沈阳市铁西区勋望小学燕塞湖分校","小学美术教师","03355","庄榕鼎","0101562121",102.44,{"$f":"VLOOKUP(D1148:D2324,[1]按组排列版!$G:$P,10,FALSE)","v":"0325小学美术3组"},"小学美术","沈阳市铁西区应昌小学大明湖分校（西门）","0325小学美术3组","7月12日6：40-7：10"]
[1146,"沈阳市铁西区勋望小学燕塞湖分校","小学美术教师","03355","卢小飞","0101571504",101.96,{"$f":"VLOOKUP(D1149:D2325,[1]按组排列版!$G:$P,10,FALSE)","v":"0325小学美术3组"},"小学美术","沈阳市铁西区应昌小学大明湖分校（西门）","0325小学美术3组","7月12日6：40-7：10"]
[1147,"沈阳市铁西区勋望小学燕塞湖分校","小学美术教师","03356","刘春阳","0101360624",111.11,{"$f":"VLOOKUP(D1150:D2326,[1]按组排列版!$G:$P,10,FALSE)","v":"0325小学美术3组"},"小学美术","沈阳市铁西区应昌小学大明湖分校（西门）","0325小学美术3组","7月12日11：40-12：10"]
[1148,"沈阳市铁西区勋望小学燕塞湖分校","小学美术教师","03356","石慧宇","0101481719",110.49,{"$f":"VLOOKUP(D1151:D2327,[1]按组排列版!$G:$P,10,FALSE)","v":"0325小学美术3组"},"小学美术","沈阳市铁西区应昌小学大明湖分校（西门）","0325小学美术3组","7月12日11：40-12：10"]
[1149,"沈阳市铁西区勋望小学燕塞湖分校","小学美术教师","03356","陈学影","0101562316",108.81,{"$f":"VLOOKUP(D1152:D2328,[1]按组排列版!$G:$P,10,FALSE)","v":"0325小学美术3组"},"小学美术","沈阳市铁西区应昌小学大明湖分校（西门）","0325小学美术3组","7月12日11：40-12：10"]
[1150,"沈阳市铁西区勋望小学燕塞湖分校","小学美术教师","03356","韩金诺","0101411229",107.14,{"$f":"VLOOKUP(D1153:D2329,[1]按组排列版!$G:$P,10,FALSE)","v":"0325小学美术3组"},"小学美术","沈阳市铁西区应昌小学大明湖分校（西门）","0325小学美术3组","7月12日11：40-12：10"]
[1151,"沈阳市铁西区勋望小学燕塞湖分校","小学美术教师","03356","曹婧琪","0101561128",107.03,{"$f":"VLOOKUP(D1154:D2330,[1]按组排列版!$G:$P,10,FALSE)","v":"0325小学美术3组"},"小学美术","沈阳市铁西区应昌小学大明湖分校（西门）","0325小学美术3组","7月12日11：40-12：10"]
[1152,"沈阳市铁西区勋望小学燕塞湖分校","小学美术教师","03356","王超","0101492126",105.5,{"$f":"VLOOKUP(D1155:D2331,[1]按组排列版!$G:$P,10,FALSE)","v":"0325小学美术3组"},"小学美术","沈阳市铁西区应昌小学大明湖分校（西门）","0325小学美术3组","7月12日11：40-12：10"]
[1153,"沈阳市铁西区勋望小学燕塞湖分校","小学科学教师","03357","李方圆","0101371420",115.61,{"$f":"VLOOKUP(D1156:D2332,[1]按组排列版!$G:$P,10,FALSE)","v":"0335小学科学组"},"小学科学","沈阳市铁西区应昌小学大明湖分校（西门）","0335小学科学组","7月12日11：40-12：10"]
[1154,"沈阳市铁西区勋望小学燕塞湖分校","小学科学教师","03357","刘淼靖美","0101371819",113.45,{"$f":"VLOOKUP(D1157:D2333,[1]按组排列版!$G:$P,10,FALSE)","v":"0335小学科学组"},"小学科学","沈阳市铁西区应昌小学大明湖分校（西门）","0335小学科学组","7月12日11：40-12：10"]
[1155,"沈阳市铁西区勋望小学燕塞湖分校","小学科学教师","03357","武亿","0101351916",111.01,{"$f":"VLOOKUP(D1158:D2334,[1]按组排列版!$G:$P,10,FALSE)","v":"0335小学科学组"},"小学科学","沈阳市铁西区应昌小学大明湖分校（西门）","0335小学科学组","7月12日11：40-12：10"]
[1156,"沈阳市铁西区勋望小学燕塞湖分校","小学科学教师","03357","孟祥玉","0101531119",110.25,{"$f":"VLOOKUP(D1159:D2335,[1]按组排列版!$G:$P,10,FALSE)","v":"0335小学科学组"},"小学科学","沈阳市铁西区应昌小学大明湖分校（西门）","0335小学科学组","7月12日11：40-12：10"]
[1157,"沈阳市铁西区勋望小学燕塞湖分校","小学科学教师","03357","李雪","0101500619",110.07,{"$f":"VLOOKUP(D1160:D2336,[1]按组排列版!$G:$P,10,FALSE)","v":"0335小学科学组"},"小学科学","沈阳市铁西区应昌小学大明湖分校（西门）","0335小学科学组","7月12日11：40-12：10"]
[1158,"沈阳市铁西区勋望小学燕塞湖分校","小学科学教师","03357","王晨颖","0101301719",108.52,{"$f":"VLOOKUP(D1161:D2337,[1]按组排列版!$G:$P,10,FALSE)","v":"0335小学科学组"},"小学科学","沈阳市铁西区应昌小学大明湖分校（西门）","0335小学科学组","7月12日11：40-12：10"]
[1159,"沈阳市铁西区勋望小学燕塞湖分校","小学心理健康教师","03358","李楠","0101291128",109.85,{"$f":"VLOOKUP(D1162:D2338,[1]按组排列版!$G:$P,10,FALSE)","v":"0341初中、小学心理健康组"},"小学心理健康","沈阳市铁西区应昌小学大明湖分校（西门）","0341初中、小学心理健康组","7月12日11：40-12：10"]
[1160,"沈阳市铁西区勋望小学燕塞湖分校","小学心理健康教师","03358","张哲","0101311109",107.65,{"$f":"VLOOKUP(D1163:D2339,[1]按组排列版!$G:$P,10,FALSE)","v":"0341初中、小学心理健康组"},"小学心理健康","沈阳市铁西区应昌小学大明湖分校（西门）","0341初中、小学心理健康组","7月12日11：40-12：10"]
[1161,"沈阳市铁西区勋望小学燕塞湖分校","小学心理健康教师","03358","沈韵婷","0101491223",106.12,{"$f":"VLOOKUP(D1164:D2340,[1]按组排列版!$G:$P,10,FALSE)","v":"0341初中、小学心理健康组"},"小学心理健康","沈阳市铁西区应昌小学大明湖分校（西门）","0341初中、小学心理健康组","7月12日11：40-12：10"]
[1162,"沈阳市铁西区勋望小学燕塞湖分校","小学道德与法治教师","03359","金祉含","0101260703",114.75,{"$f":"VLOOKUP(D1165:D2341,[1]按组排列版!$G:$P,10,FALSE)","v":"0321初中、小学道法组"},"小学道德与法治","沈阳市铁西区应昌小学大明湖分校（西门）","0321初中、小学道法组","7月11日6：40-7：10"]
[1163,"沈阳市铁西区勋望小学燕塞湖分校","小学道德与法治教师","03359","姜学莹","0101240719",111.98,{"$f":"VLOOKUP(D1166:D2342,[1]按组排列版!$G:$P,10,FALSE)","v":"0321初中、小学道法组"},"小学道德与法治","沈阳市铁西区应昌小学大明湖分校（西门）","0321初中、小学道法组","7月11日6：40-7：10"]
[1164,"沈阳市铁西区勋望小学燕塞湖分校","小学道德与法治教师","03359","周妍如","0101571913",105.4,{"$f":"VLOOKUP(D1167:D2343,[1]按组排列版!$G:$P,10,FALSE)","v":"0321初中、小学道法组"},"小学道德与法治","沈阳市铁西区应昌小学大明湖分校（西门）","0321初中、小学道法组","7月11日6：40-7：10"]
[1165,"沈阳市铁西区勋望小学中德分校","小学语数教师","03360","冯磊","0101430315",101.93,{"$f":"VLOOKUP(D1168:D2344,[1]按组排列版!$G:$P,10,FALSE)","v":"0312小学语数12组"},"小学语数","沈阳市铁西区应昌小学大明湖分校（西门）","0312小学语数12组","7月11日6：40-7：10"]
[1166,"沈阳市铁西区勋望小学中德分校","小学语数教师","03361","袁宝玉","0101311521",100.61,{"$f":"VLOOKUP(D1169:D2345,[1]按组排列版!$G:$P,10,FALSE)","v":"0312小学语数12组"},"小学语数","沈阳市铁西区应昌小学大明湖分校（西门）","0312小学语数12组","7月11日6：40-7：10"]
[1167,"沈阳市铁西区勋望小学中德分校","小学语数教师","03361","刘芷屹","0101281930",99.15,{"$f":"VLOOKUP(D1170:D2346,[1]按组排列版!$G:$P,10,FALSE)","v":"0312小学语数12组"},"小学语数","沈阳市铁西区应昌小学大明湖分校（西门）","0312小学语数12组","7月11日6：40-7：10"]
[1168,"沈阳市铁西区勋望小学中德分校","小学语数教师","03361","于淞","0101311219",91.28,{"$f":"VLOOKUP(D1171:D2347,[1]按组排列版!$G:$P,10,FALSE)","v":"0312小学语数12组"},"小学语数","沈阳市铁西区应昌小学大明湖分校（西门）","0312小学语数12组","7月11日6：40-7：10"]
[1169,"沈阳市铁西区勋望小学中德分校","小学语数教师","03362","那舒淇","0101320203",117.59,{"$f":"VLOOKUP(D1172:D2348,[1]按组排列版!$G:$P,10,FALSE)","v":"0312小学语数12组"},"小学语数","沈阳市铁西区应昌小学大明湖分校（西门）","0312小学语数12组","7月11日11：40-12：10"]
[1170,"沈阳市铁西区勋望小学中德分校","小学语数教师","03362","许贞兰","0101491511",115.7,{"$f":"VLOOKUP(D1173:D2349,[1]按组排列版!$G:$P,10,FALSE)","v":"0312小学语数12组"},"小学语数","沈阳市铁西区应昌小学大明湖分校（西门）","0312小学语数12组","7月11日11：40-12：10"]
[1171,"沈阳市铁西区勋望小学中德分校","小学语数教师","03362","孔祥鸥","0101541218",113.9,{"$f":"VLOOKUP(D1174:D2350,[1]按组排列版!$G:$P,10,FALSE)","v":"0312小学语数12组"},"小学语数","沈阳市铁西区应昌小学大明湖分校（西门）","0312小学语数12组","7月11日11：40-12：10"]
[1172,"沈阳市铁西区勋望小学中德分校","小学语数教师","03362","卢佳慧","0101482017",110.86,{"$f":"VLOOKUP(D1175:D2351,[1]按组排列版!$G:$P,10,FALSE)","v":"0312小学语数12组"},"小学语数","沈阳市铁西区应昌小学大明湖分校（西门）","0312小学语数12组","7月11日11：40-12：10"]
[1173,"沈阳市铁西区勋望小学中德分校","小学语数教师","03362","左馨宇","0101330227",110.06,{"$f":"VLOOKUP(D1176:D2352,[1]按组排列版!$G:$P,10,FALSE)","v":"0312小学语数12组"},"小学语数","沈阳市铁西区应昌小学大明湖分校（西门）","0312小学语数12组","7月11日11：40-12：10"]
[1174,"沈阳市铁西区勋望小学中德分校","小学语数教师","03362","李悦","0101522108",108.41,{"$f":"VLOOKUP(D1177:D2353,[1]按组排列版!$G:$P,10,FALSE)","v":"0312小学语数12组"},"小学语数","沈阳市铁西区应昌小学大明湖分校（西门）","0312小学语数12组","7月11日11：40-12：10"]
[1175,"沈阳市铁西区勋望小学中德分校","小学语数教师","03362","唐翠","0101481708",105.59,{"$f":"VLOOKUP(D1178:D2354,[1]按组排列版!$G:$P,10,FALSE)","v":"0312小学语数12组"},"小学语数","沈阳市铁西区应昌小学大明湖分校（西门）","0312小学语数12组","7月11日11：40-12：10"]
[1176,"沈阳市铁西区勋望小学中德分校","小学语数教师","03362","黄语嫣","0101290523",103.49,{"$f":"VLOOKUP(D1179:D2355,[1]按组排列版!$G:$P,10,FALSE)","v":"0312小学语数12组"},"小学语数","沈阳市铁西区应昌小学大明湖分校（西门）","0312小学语数12组","7月11日11：40-12：10"]
[1177,"沈阳市铁西区勋望小学中德分校","小学语数教师","03362","关东","0101311722",102.44,{"$f":"VLOOKUP(D1180:D2356,[1]按组排列版!$G:$P,10,FALSE)","v":"0312小学语数12组"},"小学语数","沈阳市铁西区应昌小学大明湖分校（西门）","0312小学语数12组","7月11日11：40-12：10"]
[1178,"沈阳市铁西区勋望小学中德分校","小学语数教师","03362","杨帅","0101490802",102.02,{"$f":"VLOOKUP(D1181:D2357,[1]按组排列版!$G:$P,10,FALSE)","v":"0312小学语数12组"},"小学语数","沈阳市铁西区应昌小学大明湖分校（西门）","0312小学语数12组","7月11日11：40-12：10"]
[1179,"沈阳市铁西区勋望小学中德分校","小学语数教师","03362","李佳桐","0101350811",100.7,{"$f":"VLOOKUP(D1182:D2358,[1]按组排列版!$G:$P,10,FALSE)","v":"0312小学语数12组"},"小学语数","沈阳市铁西区应昌小学大明湖分校（西门）","0312小学语数12组","7月11日11：40-12：10"]
[1180,"沈阳市铁西区勋望小学中德分校","小学语数教师","03362","贾磊","0101270211",100.09,{"$f":"VLOOKUP(D1183:D2359,[1]按组排列版!$G:$P,10,FALSE)","v":"0312小学语数12组"},"小学语数","沈阳市铁西区应昌小学大明湖分校（西门）","0312小学语数12组","7月11日11：40-12：10"]
[1181,"沈阳市铁西区勋望小学中德分校","小学语数教师","03362","曾楚涵","0101371625",99.78,{"$f":"VLOOKUP(D1184:D2360,[1]按组排列版!$G:$P,10,FALSE)","v":"0312小学语数12组"},"小学语数","沈阳市铁西区应昌小学大明湖分校（西门）","0312小学语数12组","7月11日11：40-12：10"]
[1182,"沈阳市铁西区勋望小学中德分校","小学语数教师","03362","周涛","0101451516",99.41,{"$f":"VLOOKUP(D1185:D2361,[1]按组排列版!$G:$P,10,FALSE)","v":"0312小学语数12组"},"小学语数","沈阳市铁西区应昌小学大明湖分校（西门）","0312小学语数12组","7月11日11：40-12：10"]
[1183,"沈阳市铁西区勋望小学中德分校","小学语数教师","03362","韩京蓉","0101340529",99.37,{"$f":"VLOOKUP(D1186:D2362,[1]按组排列版!$G:$P,10,FALSE)","v":"0312小学语数12组"},"小学语数","沈阳市铁西区应昌小学大明湖分校（西门）","0312小学语数12组","7月11日11：40-12：10"]
[1184,"沈阳市铁西区勋望小学中德分校","小学语数教师","03362","张金梅","0101492225",98.5,{"$f":"VLOOKUP(D1187:D2363,[1]按组排列版!$G:$P,10,FALSE)","v":"0312小学语数12组"},"小学语数","沈阳市铁西区应昌小学大明湖分校（西门）","0312小学语数12组","7月11日11：40-12：10"]
[1185,"沈阳市铁西区勋望小学中德分校","小学语数教师","03362","霍英君","0101461326",96.71,{"$f":"VLOOKUP(D1188:D2364,[1]按组排列版!$G:$P,10,FALSE)","v":"0312小学语数12组"},"小学语数","沈阳市铁西区应昌小学大明湖分校（西门）","0312小学语数12组","7月11日11：40-12：10"]
[1186,"沈阳市铁西区勋望小学中德分校","小学语数教师","03362","刘莹","0101371013",96.33,{"$f":"VLOOKUP(D1189:D2365,[1]按组排列版!$G:$P,10,FALSE)","v":"0312小学语数12组"},"小学语数","沈阳市铁西区应昌小学大明湖分校（西门）","0312小学语数12组","7月11日11：40-12：10"]
[1187,"沈阳市铁西区勋望小学中德分校","小学体育教师","03363","马婧哲","0101491627",95.95,{"$f":"VLOOKUP(D1190:D2366,[1]按组排列版!$G:$P,10,FALSE)","v":"0331小学体育5组"},"小学体育","沈阳市铁西区应昌小学大明湖分校（西门）","0331小学体育5组","7月12日6：40-7：10"]
[1188,"沈阳市铁西区勋望小学中德分校","小学体育教师","03363","董晶","0101400510",89.6,{"$f":"VLOOKUP(D1191:D2367,[1]按组排列版!$G:$P,10,FALSE)","v":"0331小学体育5组"},"小学体育","沈阳市铁西区应昌小学大明湖分校（西门）","0331小学体育5组","7月12日6：40-7：10"]
[1189,"沈阳市铁西区勋望小学中德分校","小学体育教师","03363","王竞文","0101521916",88.04,{"$f":"VLOOKUP(D1192:D2368,[1]按组排列版!$G:$P,10,FALSE)","v":"0331小学体育5组"},"小学体育","沈阳市铁西区应昌小学大明湖分校（西门）","0331小学体育5组","7月12日6：40-7：10"]
[1190,"沈阳市铁西区勋望小学中德分校","小学体育教师","03364","王静","0101431026",93.13,{"$f":"VLOOKUP(D1193:D2369,[1]按组排列版!$G:$P,10,FALSE)","v":"0331小学体育5组"},"小学体育","沈阳市铁西区应昌小学大明湖分校（西门）","0331小学体育5组","7月12日6：40-7：10"]
[1191,"沈阳市铁西区勋望小学中德分校","小学体育教师","03364","陈晨","0101390224",85.94,{"$f":"VLOOKUP(D1194:D2370,[1]按组排列版!$G:$P,10,FALSE)","v":"0331小学体育5组"},"小学体育","沈阳市铁西区应昌小学大明湖分校（西门）","0331小学体育5组","7月12日6：40-7：10"]
[1192,"沈阳市铁西区勋望小学中德分校","小学体育教师","03365","于双泽","0101240127",87,{"$f":"VLOOKUP(D1195:D2371,[1]按组排列版!$G:$P,10,FALSE)","v":"0331小学体育5组"},"小学体育","沈阳市铁西区应昌小学大明湖分校（西门）","0331小学体育5组","7月12日11：40-12：10"]
[1193,"沈阳市铁西区勋望小学中德分校","小学科学教师","03366","陈博","0101561105",119.73,{"$f":"VLOOKUP(D1196:D2372,[1]按组排列版!$G:$P,10,FALSE)","v":"0335小学科学组"},"小学科学","沈阳市铁西区应昌小学大明湖分校（西门）","0335小学科学组","7月12日11：40-12：10"]
[1194,"沈阳市铁西区勋望小学中德分校","小学科学教师","03366","周兵","0101570811",112.75,{"$f":"VLOOKUP(D1197:D2373,[1]按组排列版!$G:$P,10,FALSE)","v":"0335小学科学组"},"小学科学","沈阳市铁西区应昌小学大明湖分校（西门）","0335小学科学组","7月12日11：40-12：10"]
[1195,"沈阳市铁西区勋望小学中德分校","小学科学教师","03366","安静","0101440420",109.37,{"$f":"VLOOKUP(D1198:D2374,[1]按组排列版!$G:$P,10,FALSE)","v":"0335小学科学组"},"小学科学","沈阳市铁西区应昌小学大明湖分校（西门）","0335小学科学组","7月12日11：40-12：10"]
[1196,"沈阳市铁西区勋望小学中德分校","小学科学教师","03367","崔晓诗","0101511419",118.18,{"$f":"VLOOKUP(D1199:D2375,[1]按组排列版!$G:$P,10,FALSE)","v":"0335小学科学组"},"小学科学","沈阳市铁西区应昌小学大明湖分校（西门）","0335小学科学组","7月12日11：40-12：10"]
[1197,"沈阳市铁西区勋望小学中德分校","小学科学教师","03367","万霁瑶","0101532009",112.13,{"$f":"VLOOKUP(D1200:D2376,[1]按组排列版!$G:$P,10,FALSE)","v":"0335小学科学组"},"小学科学","沈阳市铁西区应昌小学大明湖分校（西门）","0335小学科学组","7月12日11：40-12：10"]
[1198,"沈阳市铁西区勋望小学中德分校","小学科学教师","03367","岳丹","0101271023",110.6,{"$f":"VLOOKUP(D1201:D2377,[1]按组排列版!$G:$P,10,FALSE)","v":"0335小学科学组"},"小学科学","沈阳市铁西区应昌小学大明湖分校（西门）","0335小学科学组","7月12日11：40-12：10"]
[1199,"沈阳市铁西区勋望小学中德分校","小学信息技术教师","03368","杨阳","0101492024",115.81,{"$f":"VLOOKUP(D1202:D2378,[1]按组排列版!$G:$P,10,FALSE)","v":"0337小学信息技术2组"},"小学信息技术","沈阳市铁西区应昌小学大明湖分校（西门）","0337小学信息技术2组","7月12日11：40-12：10"]
[1200,"沈阳市铁西区勋望小学中德分校","小学信息技术教师","03368","赵宁","0101571520",103.63,{"$f":"VLOOKUP(D1203:D2379,[1]按组排列版!$G:$P,10,FALSE)","v":"0337小学信息技术2组"},"小学信息技术","沈阳市铁西区应昌小学大明湖分校（西门）","0337小学信息技术2组","7月12日11：40-12：10"]
[1201,"沈阳市铁西区勋望小学中德分校","小学信息技术教师","03368","李峡","0101470326",101.95,{"$f":"VLOOKUP(D1204:D2380,[1]按组排列版!$G:$P,10,FALSE)","v":"0337小学信息技术2组"},"小学信息技术","沈阳市铁西区应昌小学大明湖分校（西门）","0337小学信息技术2组","7月12日11：40-12：10"]
[1202,"沈阳市铁西区勋望小学中德分校","小学音乐教师","03369","王宁","0101291207",100.19,{"$f":"VLOOKUP(D1205:D2381,[1]按组排列版!$G:$P,10,FALSE)","v":"0334小学音乐2组"},"小学音乐","沈阳市铁西区应昌小学大明湖分校（西门）","0334小学音乐2组","7月12日11：40-12：10"]
[1203,"沈阳市铁西区勋望小学中德分校","小学音乐教师","03369","徐英辉","0101430613",96.72,{"$f":"VLOOKUP(D1206:D2382,[1]按组排列版!$G:$P,10,FALSE)","v":"0334小学音乐2组"},"小学音乐","沈阳市铁西区应昌小学大明湖分校（西门）","0334小学音乐2组","7月12日11：40-12：10"]
[1204,"沈阳市铁西区勋望小学中德分校","小学音乐教师","03369","徐宁","0101571916",96.59,{"$f":"VLOOKUP(D1207:D2383,[1]按组排列版!$G:$P,10,FALSE)","v":"0334小学音乐2组"},"小学音乐","沈阳市铁西区应昌小学大明湖分校（西门）","0334小学音乐2组","7月12日11：40-12：10"]
[1205,"沈阳市铁西区勋望小学中德分校","小学音乐教师","03369","王媛","0101562507",94.55,{"$f":"VLOOKUP(D1208:D2384,[1]按组排列版!$G:$P,10,FALSE)","v":"0334小学音乐2组"},"小学音乐","沈阳市铁西区应昌小学大明湖分校（西门）","0334小学音乐2组","7月12日11：40-12：10"]
[1206,"沈阳市铁西区勋望小学中德分校","小学音乐教师","03369","王筱馥","0101430514",90.47,{"$f":"VLOOKUP(D1209:D2385,[1]按组排列版!$G:$P,10,FALSE)","v":"0334小学音乐2组"},"小学音乐","沈阳市铁西区应昌小学大明湖分校（西门）","0334小学音乐2组","7月12日11：40-12：10"]
[1207,"沈阳市铁西区勋望小学中德分校","小学音乐教师","03369","刘洋洋","0101531007",89.93,{"$f":"VLOOKUP(D1210:D2386,[1]按组排列版!$G:$P,10,FALSE)","v":"0334小学音乐2组"},"小学音乐","沈阳市铁西区应昌小学大明湖分校（西门）","0334小学音乐2组","7月12日11：40-12：10"]
[1208,"沈阳市铁西区勋望小学中德分校","小学美术教师","03370","张娣","0101470214",109.62,{"$f":"VLOOKUP(D1211:D2387,[1]按组排列版!$G:$P,10,FALSE)","v":"0325小学美术3组"},"小学美术","沈阳市铁西区应昌小学大明湖分校（西门）","0325小学美术3组","7月12日11：40-12：10"]
[1209,"沈阳市铁西区勋望小学中德分校","小学美术教师","03370","马麟","0101502016",109.33,{"$f":"VLOOKUP(D1212:D2388,[1]按组排列版!$G:$P,10,FALSE)","v":"0325小学美术3组"},"小学美术","沈阳市铁西区应昌小学大明湖分校（西门）","0325小学美术3组","7月12日11：40-12：10"]
[1210,"沈阳市铁西区勋望小学中德分校","小学美术教师","03370","郑臻","0101240601",106.32,{"$f":"VLOOKUP(D1213:D2389,[1]按组排列版!$G:$P,10,FALSE)","v":"0325小学美术3组"},"小学美术","沈阳市铁西区应昌小学大明湖分校（西门）","0325小学美术3组","7月12日11：40-12：10"]
[1211,"沈阳市铁西区勋望小学中德分校","小学英语教师","03371","夏裴蔚","0101350606",107.97,{"$f":"VLOOKUP(D1214:D2390,[1]按组排列版!$G:$P,10,FALSE)","v":"0320小学英语3组"},"小学英语","沈阳市铁西区应昌小学大明湖分校（西门）","0320小学英语3组","7月11日11：40-12：10"]
[1212,"沈阳市铁西区勋望小学中德分校","小学英语教师","03371","鲁芷暄","0101400808",100.95,{"$f":"VLOOKUP(D1215:D2391,[1]按组排列版!$G:$P,10,FALSE)","v":"0320小学英语3组"},"小学英语","沈阳市铁西区应昌小学大明湖分校（西门）","0320小学英语3组","7月11日11：40-12：10"]
[1213,"沈阳市铁西区勋望小学中德分校","小学英语教师","03371","袁兵","0101540407",100.67,{"$f":"VLOOKUP(D1216:D2392,[1]按组排列版!$G:$P,10,FALSE)","v":"0320小学英语3组"},"小学英语","沈阳市铁西区应昌小学大明湖分校（西门）","0320小学英语3组","7月11日11：40-12：10"]
[1214,"沈阳市铁西区勋望小学中德分校","小学心理健康教师","03372","侯群贺","0101361202",112.18,{"$f":"VLOOKUP(D1217:D2393,[1]按组排列版!$G:$P,10,FALSE)","v":"0341初中、小学心理健康组"},"小学心理健康","沈阳市铁西区应昌小学大明湖分校（西门）","0341初中、小学心理健康组","7月12日11：40-12：10"]
[1215,"沈阳市铁西区勋望小学中德分校","小学心理健康教师","03372","于馥畅","0101401302",107.57,{"$f":"VLOOKUP(D1218:D2394,[1]按组排列版!$G:$P,10,FALSE)","v":"0341初中、小学心理健康组"},"小学心理健康","沈阳市铁西区应昌小学大明湖分校（西门）","0341初中、小学心理健康组","7月12日11：40-12：10"]
[1216,"沈阳市铁西区勋望小学中德分校","小学心理健康教师","03372","赵琰","0101551819",105.9,{"$f":"VLOOKUP(D1219:D2395,[1]按组排列版!$G:$P,10,FALSE)","v":"0341初中、小学心理健康组"},"小学心理健康","沈阳市铁西区应昌小学大明湖分校（西门）","0341初中、小学心理健康组","7月12日11：40-12：10"]
[1217,"沈阳市铁西区勋望小学中德分校（远大分校）","小学语数教师","03373","刘鑫","0101460712",96.42,{"$f":"VLOOKUP(D1220:D2396,[1]按组排列版!$G:$P,10,FALSE)","v":"0312小学语数12组"},"小学语数","沈阳市铁西区应昌小学大明湖分校（西门）","0312小学语数12组","7月11日6：40-7：10"]
[1218,"沈阳市铁西区勋望小学中德分校（远大分校）","小学语数教师","03374","岳建惠","0101262003",108.84,{"$f":"VLOOKUP(D1221:D2397,[1]按组排列版!$G:$P,10,FALSE)","v":"0313小学语数13组"},"小学语数","沈阳市铁西区应昌小学大明湖分校（西门）","0313小学语数13组","7月11日6：40-7：10"]
[1219,"沈阳市铁西区勋望小学中德分校（远大分校）","小学语数教师","03374","付倩倩","0101251708",108.32,{"$f":"VLOOKUP(D1222:D2398,[1]按组排列版!$G:$P,10,FALSE)","v":"0313小学语数13组"},"小学语数","沈阳市铁西区应昌小学大明湖分校（西门）","0313小学语数13组","7月11日6：40-7：10"]
[1220,"沈阳市铁西区勋望小学中德分校（远大分校）","小学语数教师","03374","郝舒适","0101552007",103.05,{"$f":"VLOOKUP(D1223:D2399,[1]按组排列版!$G:$P,10,FALSE)","v":"0313小学语数13组"},"小学语数","沈阳市铁西区应昌小学大明湖分校（西门）","0313小学语数13组","7月11日6：40-7：10"]
[1221,"沈阳市铁西区勋望小学中德分校（远大分校）","小学语数教师","03374","李凡姿","0101432007",102.84,{"$f":"VLOOKUP(D1224:D2400,[1]按组排列版!$G:$P,10,FALSE)","v":"0313小学语数13组"},"小学语数","沈阳市铁西区应昌小学大明湖分校（西门）","0313小学语数13组","7月11日6：40-7：10"]
[1222,"沈阳市铁西区勋望小学中德分校（远大分校）","小学语数教师","03374","刘雅楠","0101551625",100.3,{"$f":"VLOOKUP(D1225:D2401,[1]按组排列版!$G:$P,10,FALSE)","v":"0313小学语数13组"},"小学语数","沈阳市铁西区应昌小学大明湖分校（西门）","0313小学语数13组","7月11日6：40-7：10"]
[1223,"沈阳市铁西区勋望小学中德分校（远大分校）","小学语数教师","03374","安红婧","0101381718",98.76,{"$f":"VLOOKUP(D1226:D2402,[1]按组排列版!$G:$P,10,FALSE)","v":"0313小学语数13组"},"小学语数","沈阳市铁西区应昌小学大明湖分校（西门）","0313小学语数13组","7月11日6：40-7：10"]
[1224,"沈阳市铁西区勋望小学中德分校（远大分校）","小学语数教师","03374","李萍","0101231515",91.21,{"$f":"VLOOKUP(D1227:D2403,[1]按组排列版!$G:$P,10,FALSE)","v":"0313小学语数13组"},"小学语数","沈阳市铁西区应昌小学大明湖分校（西门）","0313小学语数13组","7月11日6：40-7：10"]
[1225,"沈阳市铁西区勋望小学中德分校（远大分校）","小学体育教师","03375","季倩茜","0101431823",93.37,{"$f":"VLOOKUP(D1228:D2404,[1]按组排列版!$G:$P,10,FALSE)","v":"0331小学体育5组"},"小学体育","沈阳市铁西区应昌小学大明湖分校（西门）","0331小学体育5组","7月12日11：40-12：10"]
[1226,"沈阳市铁西区勋望小学中德分校（远大分校）","小学体育教师","03375","龚妍琳","0101430709",91.13,{"$f":"VLOOKUP(D1229:D2405,[1]按组排列版!$G:$P,10,FALSE)","v":"0331小学体育5组"},"小学体育","沈阳市铁西区应昌小学大明湖分校（西门）","0331小学体育5组","7月12日11：40-12：10"]
[1227,"沈阳市铁西区勋望小学中德分校（远大分校）","小学体育教师","03375","王鹏博","0101440613",89.76,{"$f":"VLOOKUP(D1230:D2406,[1]按组排列版!$G:$P,10,FALSE)","v":"0331小学体育5组"},"小学体育","沈阳市铁西区应昌小学大明湖分校（西门）","0331小学体育5组","7月12日11：40-12：10"]
[1228,"沈阳市铁西区勋望小学中德分校（远大分校）","小学音乐教师","03376","陈思竹","0101281708",108.39,{"$f":"VLOOKUP(D1231:D2407,[1]按组排列版!$G:$P,10,FALSE)","v":"0334小学音乐2组"},"小学音乐","沈阳市铁西区应昌小学大明湖分校（西门）","0334小学音乐2组","7月12日11：40-12：10"]
[1229,"沈阳市铁西区勋望小学中德分校（远大分校）","小学音乐教师","03376","韩震","0101490224",97.65,{"$f":"VLOOKUP(D1232:D2408,[1]按组排列版!$G:$P,10,FALSE)","v":"0334小学音乐2组"},"小学音乐","沈阳市铁西区应昌小学大明湖分校（西门）","0334小学音乐2组","7月12日11：40-12：10"]
[1230,"沈阳市铁西区勋望小学中德分校（远大分校）","小学音乐教师","03376","张晋","0101360420",84.77,{"$f":"VLOOKUP(D1233:D2409,[1]按组排列版!$G:$P,10,FALSE)","v":"0334小学音乐2组"},"小学音乐","沈阳市铁西区应昌小学大明湖分校（西门）","0334小学音乐2组","7月12日11：40-12：10"]
[1231,"沈阳市铁西区勋望小学中德分校（远大分校）","小学美术教师","03377","李诗尧","0101431625",106.48,{"$f":"VLOOKUP(D1234:D2410,[1]按组排列版!$G:$P,10,FALSE)","v":"0325小学美术3组"},"小学美术","沈阳市铁西区应昌小学大明湖分校（西门）","0325小学美术3组","7月12日11：40-12：10"]
[1232,"沈阳市铁西区勋望小学中德分校（远大分校）","小学美术教师","03377","高翯","0101431223",102.5,{"$f":"VLOOKUP(D1235:D2411,[1]按组排列版!$G:$P,10,FALSE)","v":"0325小学美术3组"},"小学美术","沈阳市铁西区应昌小学大明湖分校（西门）","0325小学美术3组","7月12日11：40-12：10"]
[1233,"沈阳市铁西区勋望小学中德分校（远大分校）","小学美术教师","03377","李洋","0101562518",100.86,{"$f":"VLOOKUP(D1236:D2412,[1]按组排列版!$G:$P,10,FALSE)","v":"0325小学美术3组"},"小学美术","沈阳市铁西区应昌小学大明湖分校（西门）","0325小学美术3组","7月12日11：40-12：10"]
[1234,"沈阳市铁西区勋望小学中德分校（远大分校）","小学美术教师","03377","李然熙","0101430908",95.85,{"$f":"VLOOKUP(D1237:D2413,[1]按组排列版!$G:$P,10,FALSE)","v":"0325小学美术3组"},"小学美术","沈阳市铁西区应昌小学大明湖分校（西门）","0325小学美术3组","7月12日11：40-12：10"]
[1235,"沈阳市铁西区勋望小学中德分校（远大分校）","小学美术教师","03377","李彬彬","0101390311",91.51,{"$f":"VLOOKUP(D1238:D2414,[1]按组排列版!$G:$P,10,FALSE)","v":"0325小学美术3组"},"小学美术","沈阳市铁西区应昌小学大明湖分校（西门）","0325小学美术3组","7月12日11：40-12：10"]
[1236,"沈阳市铁西区勋望小学中德分校（远大分校）","小学美术教师","03377","吴奕萱","0101390103",88,{"$f":"VLOOKUP(D1239:D2415,[1]按组排列版!$G:$P,10,FALSE)","v":"0325小学美术3组"},"小学美术","沈阳市铁西区应昌小学大明湖分校（西门）","0325小学美术3组","7月12日11：40-12：10"]
[1237,"沈阳市铁西区勋望小学中德分校（远大分校）","小学科学教师","03378","曲仁旭","0101280115",109,{"$f":"VLOOKUP(D1240:D2416,[1]按组排列版!$G:$P,10,FALSE)","v":"0335小学科学组"},"小学科学","沈阳市铁西区应昌小学大明湖分校（西门）","0335小学科学组","7月12日11：40-12：10"]
[1238,"沈阳市铁西区勋望小学中德分校（远大分校）","小学科学教师","03378","杨程琳","0101321024",103.54,{"$f":"VLOOKUP(D1241:D2417,[1]按组排列版!$G:$P,10,FALSE)","v":"0335小学科学组"},"小学科学","沈阳市铁西区应昌小学大明湖分校（西门）","0335小学科学组","7月12日11：40-12：10"]
[1239,"沈阳市铁西区勋望小学中德分校（远大分校）","小学科学教师","03378","雷可新","0101270911",101.8,{"$f":"VLOOKUP(D1242:D2418,[1]按组排列版!$G:$P,10,FALSE)","v":"0335小学科学组"},"小学科学","沈阳市铁西区应昌小学大明湖分校（西门）","0335小学科学组","7月12日11：40-12：10"]
[1240,"沈阳市铁西区勋望小学中德分校（远大分校）","小学信息技术教师","03379","张子爱","0101300116",104.2,{"$f":"VLOOKUP(D1243:D2419,[1]按组排列版!$G:$P,10,FALSE)","v":"0337小学信息技术2组"},"小学信息技术","沈阳市铁西区应昌小学大明湖分校（西门）","0337小学信息技术2组","7月12日11：40-12：10"]
[1241,"沈阳市铁西区勋望小学中德分校（远大分校）","小学信息技术教师","03379","黄晨","0101261117",95.97,{"$f":"VLOOKUP(D1244:D2420,[1]按组排列版!$G:$P,10,FALSE)","v":"0337小学信息技术2组"},"小学信息技术","沈阳市铁西区应昌小学大明湖分校（西门）","0337小学信息技术2组","7月12日11：40-12：10"]
[1242,"沈阳市铁西区勋望小学中德分校（文海分校）","小学语数教师","03380","潘小玉","0101441625",115.13,{"$f":"VLOOKUP(D1245:D2421,[1]按组排列版!$G:$P,10,FALSE)","v":"0313小学语数13组"},"小学语数","沈阳市铁西区应昌小学大明湖分校（西门）","0313小学语数13组","7月11日6：40-7：10"]
[1243,"沈阳市铁西区勋望小学中德分校（文海分校）","小学语数教师","03380","谭灵祎","0101432416",111.66,{"$f":"VLOOKUP(D1246:D2422,[1]按组排列版!$G:$P,10,FALSE)","v":"0313小学语数13组"},"小学语数","沈阳市铁西区应昌小学大明湖分校（西门）","0313小学语数13组","7月11日6：40-7：10"]
[1244,"沈阳市铁西区勋望小学中德分校（文海分校）","小学语数教师","03380","贺萍萍","0101230221",109.17,{"$f":"VLOOKUP(D1247:D2423,[1]按组排列版!$G:$P,10,FALSE)","v":"0313小学语数13组"},"小学语数","沈阳市铁西区应昌小学大明湖分校（西门）","0313小学语数13组","7月11日6：40-7：10"]
[1245,"沈阳市铁西区勋望小学中德分校（文海分校）","小学语数教师","03380","李晓芳","0101430909",108.93,{"$f":"VLOOKUP(D1248:D2424,[1]按组排列版!$G:$P,10,FALSE)","v":"0313小学语数13组"},"小学语数","沈阳市铁西区应昌小学大明湖分校（西门）","0313小学语数13组","7月11日6：40-7：10"]
[1246,"沈阳市铁西区勋望小学中德分校（文海分校）","小学语数教师","03380","姜楠","0101430827",105.51,{"$f":"VLOOKUP(D1249:D2425,[1]按组排列版!$G:$P,10,FALSE)","v":"0313小学语数13组"},"小学语数","沈阳市铁西区应昌小学大明湖分校（西门）","0313小学语数13组","7月11日6：40-7：10"]
[1247,"沈阳市铁西区勋望小学中德分校（文海分校）","小学语数教师","03380","潘佳馨","0101440222",102.8,{"$f":"VLOOKUP(D1250:D2426,[1]按组排列版!$G:$P,10,FALSE)","v":"0313小学语数13组"},"小学语数","沈阳市铁西区应昌小学大明湖分校（西门）","0313小学语数13组","7月11日6：40-7：10"]
[1248,"沈阳市铁西区勋望小学中德分校（文海分校）","小学语数教师","03380","杜婉婷","0101432324",98.89,{"$f":"VLOOKUP(D1251:D2427,[1]按组排列版!$G:$P,10,FALSE)","v":"0313小学语数13组"},"小学语数","沈阳市铁西区应昌小学大明湖分校（西门）","0313小学语数13组","7月11日6：40-7：10"]
[1249,"沈阳市铁西区勋望小学中德分校（文海分校）","小学语数教师","03380","崔东吉","0101440302",97.21,{"$f":"VLOOKUP(D1252:D2428,[1]按组排列版!$G:$P,10,FALSE)","v":"0313小学语数13组"},"小学语数","沈阳市铁西区应昌小学大明湖分校（西门）","0313小学语数13组","7月11日6：40-7：10"]
[1250,"沈阳市铁西区勋望小学中德分校（文海分校）","小学语数教师","03380","穆文照","0101331713",95.2,{"$f":"VLOOKUP(D1253:D2429,[1]按组排列版!$G:$P,10,FALSE)","v":"0313小学语数13组"},"小学语数","沈阳市铁西区应昌小学大明湖分校（西门）","0313小学语数13组","7月11日6：40-7：10"]
[1251,"沈阳市铁西区勋望小学中德分校（文海分校）","小学语数教师","03381","邱添","0101240510",115.09,{"$f":"VLOOKUP(D1254:D2430,[1]按组排列版!$G:$P,10,FALSE)","v":"0313小学语数13组"},"小学语数","沈阳市铁西区应昌小学大明湖分校（西门）","0313小学语数13组","7月11日11：40-12：10"]
[1252,"沈阳市铁西区勋望小学中德分校（文海分校）","小学语数教师","03381","孙世钰","0101350303",114.63,{"$f":"VLOOKUP(D1255:D2431,[1]按组排列版!$G:$P,10,FALSE)","v":"0313小学语数13组"},"小学语数","沈阳市铁西区应昌小学大明湖分校（西门）","0313小学语数13组","7月11日11：40-12：10"]
[1253,"沈阳市铁西区勋望小学中德分校（文海分校）","小学语数教师","03381","崔楚晗","0101381709",101.98,{"$f":"VLOOKUP(D1256:D2432,[1]按组排列版!$G:$P,10,FALSE)","v":"0313小学语数13组"},"小学语数","沈阳市铁西区应昌小学大明湖分校（西门）","0313小学语数13组","7月11日11：40-12：10"]
[1254,"沈阳市铁西区勋望小学中德分校（文海分校）","小学语数教师","03381","王洁","0101562610",100.77,{"$f":"VLOOKUP(D1257:D2433,[1]按组排列版!$G:$P,10,FALSE)","v":"0313小学语数13组"},"小学语数","沈阳市铁西区应昌小学大明湖分校（西门）","0313小学语数13组","7月11日11：40-12：10"]
[1255,"沈阳市铁西区勋望小学中德分校（文海分校）","小学语数教师","03381","邹爽","0101520630",100.74,{"$f":"VLOOKUP(D1258:D2434,[1]按组排列版!$G:$P,10,FALSE)","v":"0313小学语数13组"},"小学语数","沈阳市铁西区应昌小学大明湖分校（西门）","0313小学语数13组","7月11日11：40-12：10"]
[1256,"沈阳市铁西区勋望小学中德分校（文海分校）","小学语数教师","03381","姚晓彤","0101361129",100.6,{"$f":"VLOOKUP(D1259:D2435,[1]按组排列版!$G:$P,10,FALSE)","v":"0313小学语数13组"},"小学语数","沈阳市铁西区应昌小学大明湖分校（西门）","0313小学语数13组","7月11日11：40-12：10"]
[1257,"沈阳市铁西区勋望小学中德分校（文海分校）","小学语数教师","03381","董邑雯","0101421921",100.14,{"$f":"VLOOKUP(D1260:D2436,[1]按组排列版!$G:$P,10,FALSE)","v":"0313小学语数13组"},"小学语数","沈阳市铁西区应昌小学大明湖分校（西门）","0313小学语数13组","7月11日11：40-12：10"]
[1258,"沈阳市铁西区勋望小学中德分校（文海分校）","小学语数教师","03381","何书仪","0101480404",97.89,{"$f":"VLOOKUP(D1261:D2437,[1]按组排列版!$G:$P,10,FALSE)","v":"0313小学语数13组"},"小学语数","沈阳市铁西区应昌小学大明湖分校（西门）","0313小学语数13组","7月11日11：40-12：10"]
[1259,"沈阳市铁西区勋望小学中德分校（文海分校）","小学语数教师","03381","赵晓琳","0101351202",94.26,{"$f":"VLOOKUP(D1262:D2438,[1]按组排列版!$G:$P,10,FALSE)","v":"0313小学语数13组"},"小学语数","沈阳市铁西区应昌小学大明湖分校（西门）","0313小学语数13组","7月11日11：40-12：10"]
[1260,"沈阳市铁西区勋望小学中德分校（文海分校）","小学语数教师","03381","孙琪霞","0101370606",79.98,{"$f":"VLOOKUP(D1263:D2439,[1]按组排列版!$G:$P,10,FALSE)","v":"0313小学语数13组"},"小学语数","沈阳市铁西区应昌小学大明湖分校（西门）","0313小学语数13组","7月11日11：40-12：10"]
[1261,"沈阳市铁西区勋望小学中德分校（文海分校）","小学体育教师","03382","赵岩","0101441325",94.74,{"$f":"VLOOKUP(D1264:D2440,[1]按组排列版!$G:$P,10,FALSE)","v":"0331小学体育5组"},"小学体育","沈阳市铁西区应昌小学大明湖分校（西门）","0331小学体育5组","7月12日11：40-12：10"]
[1262,"沈阳市铁西区勋望小学中德分校（文海分校）","小学体育教师","03382","王文静","0101262119",88.8,{"$f":"VLOOKUP(D1265:D2441,[1]按组排列版!$G:$P,10,FALSE)","v":"0331小学体育5组"},"小学体育","沈阳市铁西区应昌小学大明湖分校（西门）","0331小学体育5组","7月12日11：40-12：10"]
[1263,"沈阳市铁西区勋望小学中德分校（文海分校）","小学体育教师","03383","孙通","0101410126",103.75,{"$f":"VLOOKUP(D1266:D2442,[1]按组排列版!$G:$P,10,FALSE)","v":"0331小学体育5组"},"小学体育","沈阳市铁西区应昌小学大明湖分校（西门）","0331小学体育5组","7月12日11：40-12：10"]
[1264,"沈阳市铁西区勋望小学中德分校（文海分校）","小学体育教师","03383","潘欣","0101260408",92.65,{"$f":"VLOOKUP(D1267:D2443,[1]按组排列版!$G:$P,10,FALSE)","v":"0331小学体育5组"},"小学体育","沈阳市铁西区应昌小学大明湖分校（西门）","0331小学体育5组","7月12日11：40-12：10"]
[1265,"沈阳市铁西区勋望小学中德分校（文海分校）","小学体育教师","03383","刘琳琳","0101551230",91.08,{"$f":"VLOOKUP(D1268:D2444,[1]按组排列版!$G:$P,10,FALSE)","v":"0331小学体育5组"},"小学体育","沈阳市铁西区应昌小学大明湖分校（西门）","0331小学体育5组","7月12日11：40-12：10"]
[1266,"沈阳市铁西区勋望小学中德分校（文海分校）","小学体育教师","03383","龚铭浩","0101551129",87.97,{"$f":"VLOOKUP(D1269:D2445,[1]按组排列版!$G:$P,10,FALSE)","v":"0331小学体育5组"},"小学体育","沈阳市铁西区应昌小学大明湖分校（西门）","0331小学体育5组","7月12日11：40-12：10"]
[1267,"沈阳市铁西区勋望小学中德分校（文海分校）","小学体育教师","03383","王言","0101351603",75.12,{"$f":"VLOOKUP(D1270:D2446,[1]按组排列版!$G:$P,10,FALSE)","v":"0331小学体育5组"},"小学体育","沈阳市铁西区应昌小学大明湖分校（西门）","0331小学体育5组","7月12日11：40-12：10"]
[1268,"沈阳市铁西区勋望小学中德分校（文海分校）","小学音乐教师","03385","赵润楠","0101271001",101.14,{"$f":"VLOOKUP(D1271:D2447,[1]按组排列版!$G:$P,10,FALSE)","v":"0334小学音乐2组"},"小学音乐","沈阳市铁西区应昌小学大明湖分校（西门）","0334小学音乐2组","7月12日11：40-12：10"]
[1269,"沈阳市铁西区勋望小学中德分校（文海分校）","小学音乐教师","03385","潘雪","0101321514",100.62,{"$f":"VLOOKUP(D1272:D2448,[1]按组排列版!$G:$P,10,FALSE)","v":"0334小学音乐2组"},"小学音乐","沈阳市铁西区应昌小学大明湖分校（西门）","0334小学音乐2组","7月12日11：40-12：10"]
[1270,"沈阳市铁西区勋望小学中德分校（文海分校）","小学音乐教师","03385","李想","0101390915",94.35,{"$f":"VLOOKUP(D1273:D2449,[1]按组排列版!$G:$P,10,FALSE)","v":"0334小学音乐2组"},"小学音乐","沈阳市铁西区应昌小学大明湖分校（西门）","0334小学音乐2组","7月12日11：40-12：10"]
[1271,"沈阳市铁西区勋望小学中德分校（文海分校）","小学美术教师","03386","武玥","0101390419",110.18,{"$f":"VLOOKUP(D1274:D2450,[1]按组排列版!$G:$P,10,FALSE)","v":"0325小学美术3组"},"小学美术","沈阳市铁西区应昌小学大明湖分校（西门）","0325小学美术3组","7月12日11：40-12：10"]
[1272,"沈阳市铁西区勋望小学中德分校（文海分校）","小学美术教师","03387","吕嘉琳","0101341529",112.75,{"$f":"VLOOKUP(D1275:D2451,[1]按组排列版!$G:$P,10,FALSE)","v":"0325小学美术3组"},"小学美术","沈阳市铁西区应昌小学大明湖分校（西门）","0325小学美术3组","7月12日11：40-12：10"]
[1273,"沈阳市铁西区勋望小学中德分校（文海分校）","小学美术教师","03387","谭一苇","0101380215",107.7,{"$f":"VLOOKUP(D1276:D2452,[1]按组排列版!$G:$P,10,FALSE)","v":"0325小学美术3组"},"小学美术","沈阳市铁西区应昌小学大明湖分校（西门）","0325小学美术3组","7月12日11：40-12：10"]
[1274,"沈阳市铁西区勋望小学中德分校（文海分校）","小学美术教师","03387","杨珺雯","0101531716",107.21,{"$f":"VLOOKUP(D1277:D2453,[1]按组排列版!$G:$P,10,FALSE)","v":"0325小学美术3组"},"小学美术","沈阳市铁西区应昌小学大明湖分校（西门）","0325小学美术3组","7月12日11：40-12：10"]
[1275,"沈阳市铁西区勋望小学中德分校（文海分校）","小学科学教师","03388","安欣悦","0101521907",118.72,{"$f":"VLOOKUP(D1278:D2454,[1]按组排列版!$G:$P,10,FALSE)","v":"0335小学科学组"},"小学科学","沈阳市铁西区应昌小学大明湖分校（西门）","0335小学科学组","7月12日11：40-12：10"]
[1276,"沈阳市铁西区勋望小学中德分校（文海分校）","小学科学教师","03388","赵璐","0101331019",114.12,{"$f":"VLOOKUP(D1279:D2455,[1]按组排列版!$G:$P,10,FALSE)","v":"0335小学科学组"},"小学科学","沈阳市铁西区应昌小学大明湖分校（西门）","0335小学科学组","7月12日11：40-12：10"]
[1277,"沈阳市铁西区勋望小学中德分校（文海分校）","小学科学教师","03388","倪美","0101492406",110.79,{"$f":"VLOOKUP(D1280:D2456,[1]按组排列版!$G:$P,10,FALSE)","v":"0335小学科学组"},"小学科学","沈阳市铁西区应昌小学大明湖分校（西门）","0335小学科学组","7月12日11：40-12：10"]
[1278,"沈阳市铁西区勋望小学中德分校（文海分校）","小学科学教师","03389","张竞方","0101431010",111.45,{"$f":"VLOOKUP(D1281:D2457,[1]按组排列版!$G:$P,10,FALSE)","v":"0335小学科学组"},"小学科学","沈阳市铁西区应昌小学大明湖分校（西门）","0335小学科学组","7月12日11：40-12：10"]
[1279,"沈阳市铁西区勋望小学中德分校（文海分校）","小学科学教师","03389","格日乐","0101440612",108.45,{"$f":"VLOOKUP(D1282:D2458,[1]按组排列版!$G:$P,10,FALSE)","v":"0335小学科学组"},"小学科学","沈阳市铁西区应昌小学大明湖分校（西门）","0335小学科学组","7月12日11：40-12：10"]
[1280,"沈阳市铁西区勋望小学中德分校（文海分校）","小学科学教师","03389","吴琼","0101431503",101.42,{"$f":"VLOOKUP(D1283:D2459,[1]按组排列版!$G:$P,10,FALSE)","v":"0335小学科学组"},"小学科学","沈阳市铁西区应昌小学大明湖分校（西门）","0335小学科学组","7月12日11：40-12：10"]
[1281,"沈阳市铁西区勋望小学中德分校（文海分校）","小学信息技术教师","03390","周瑞雪","0101492011",115.95,{"$f":"VLOOKUP(D1284:D2460,[1]按组排列版!$G:$P,10,FALSE)","v":"0337小学信息技术2组"},"小学信息技术","沈阳市铁西区应昌小学大明湖分校（西门）","0337小学信息技术2组","7月12日11：40-12：10"]
[1282,"沈阳市铁西区勋望小学中德分校（文海分校）","小学信息技术教师","03390","闻明珠","0101391910",111.37,{"$f":"VLOOKUP(D1285:D2461,[1]按组排列版!$G:$P,10,FALSE)","v":"0337小学信息技术2组"},"小学信息技术","沈阳市铁西区应昌小学大明湖分校（西门）","0337小学信息技术2组","7月12日11：40-12：10"]
[1283,"沈阳市铁西区勋望小学中德分校（文海分校）","小学信息技术教师","03390","王聪","0101380928",109.12,{"$f":"VLOOKUP(D1286:D2462,[1]按组排列版!$G:$P,10,FALSE)","v":"0337小学信息技术2组"},"小学信息技术","沈阳市铁西区应昌小学大明湖分校（西门）","0337小学信息技术2组","7月12日11：40-12：10"]
[1284,"沈阳市铁西区勋望小学中德分校（文海分校）","小学信息技术教师","03390","何东","0101320610",107.72,{"$f":"VLOOKUP(D1287:D2463,[1]按组排列版!$G:$P,10,FALSE)","v":"0337小学信息技术2组"},"小学信息技术","沈阳市铁西区应昌小学大明湖分校（西门）","0337小学信息技术2组","7月12日11：40-12：10"]
[1285,"沈阳市铁西区勋望小学中德分校（文海分校）","小学信息技术教师","03390","商晶","0101261619",104.86,{"$f":"VLOOKUP(D1288:D2464,[1]按组排列版!$G:$P,10,FALSE)","v":"0337小学信息技术2组"},"小学信息技术","沈阳市铁西区应昌小学大明湖分校（西门）","0337小学信息技术2组","7月12日11：40-12：10"]
[1286,"沈阳市铁西区勋望小学中德分校（文海分校）","小学信息技术教师","03390","辛玲","0101461416",103.44,{"$f":"VLOOKUP(D1289:D2465,[1]按组排列版!$G:$P,10,FALSE)","v":"0337小学信息技术2组"},"小学信息技术","沈阳市铁西区应昌小学大明湖分校（西门）","0337小学信息技术2组","7月12日11：40-12：10"]
[1287,"沈阳市铁西区勋望小学中德分校（文海分校）","小学道德与法治教师","03391","陈萍楠","0101562310",105.83,{"$f":"VLOOKUP(D1290:D2466,[1]按组排列版!$G:$P,10,FALSE)","v":"0321初中、小学道法组"},"小学道德与法治","沈阳市铁西区应昌小学大明湖分校（西门）","0321初中、小学道法组","7月11日6：40-7：10"]
[1288,"沈阳市铁西区勋望小学中德分校（文海分校）","小学道德与法治教师","03391","车东石","0101231514",97.88,{"$f":"VLOOKUP(D1291:D2467,[1]按组排列版!$G:$P,10,FALSE)","v":"0321初中、小学道法组"},"小学道德与法治","沈阳市铁西区应昌小学大明湖分校（西门）","0321初中、小学道法组","7月11日6：40-7：10"]
[1289,"沈阳市铁西区勋望小学中德分校（文海分校）","小学道德与法治教师","03391","王玲","0101321316",94.24,{"$f":"VLOOKUP(D1292:D2468,[1]按组排列版!$G:$P,10,FALSE)","v":"0321初中、小学道法组"},"小学道德与法治","沈阳市铁西区应昌小学大明湖分校（西门）","0321初中、小学道法组","7月11日6：40-7：10"]
[1290,"沈阳市铁西区勋望小学中德分校（文海分校）","小学心理健康教师","03392","李娜","0101471008",112.96,{"$f":"VLOOKUP(D1293:D2469,[1]按组排列版!$G:$P,10,FALSE)","v":"0341初中、小学心理健康组"},"小学心理健康","沈阳市铁西区应昌小学大明湖分校（西门）","0341初中、小学心理健康组","7月12日11：40-12：10"]
[1291,"沈阳市铁西区勋望小学中德分校（文海分校）","小学心理健康教师","03392","尹文放","0101530420",104.91,{"$f":"VLOOKUP(D1294:D2470,[1]按组排列版!$G:$P,10,FALSE)","v":"0341初中、小学心理健康组"},"小学心理健康","沈阳市铁西区应昌小学大明湖分校（西门）","0341初中、小学心理健康组","7月12日11：40-12：10"]
[1292,"沈阳市铁西区勋望小学中德分校（文海分校）","小学心理健康教师","03392","王薇","0101570428",99.02,{"$f":"VLOOKUP(D1295:D2471,[1]按组排列版!$G:$P,10,FALSE)","v":"0341初中、小学心理健康组"},"小学心理健康","沈阳市铁西区应昌小学大明湖分校（西门）","0341初中、小学心理健康组","7月12日11：40-12：10"]
[1293,"沈阳市铁西区勋望小学中央大街分校","小学英语教师","03393","郭芮溪","0101531017",113.92,{"$f":"VLOOKUP(D1296:D2472,[1]按组排列版!$G:$P,10,FALSE)","v":"0320小学英语3组"},"小学英语","沈阳市铁西区应昌小学大明湖分校（西门）","0320小学英语3组","7月11日11：40-12：10"]
[1294,"沈阳市铁西区勋望小学中央大街分校","小学英语教师","03393","邰子琦","0101461426",110.69,{"$f":"VLOOKUP(D1297:D2473,[1]按组排列版!$G:$P,10,FALSE)","v":"0320小学英语3组"},"小学英语","沈阳市铁西区应昌小学大明湖分校（西门）","0320小学英语3组","7月11日11：40-12：10"]
[1295,"沈阳市铁西区勋望小学中央大街分校","小学英语教师","03393","于秀悦","0101471115",107,{"$f":"VLOOKUP(D1298:D2474,[1]按组排列版!$G:$P,10,FALSE)","v":"0320小学英语3组"},"小学英语","沈阳市铁西区应昌小学大明湖分校（西门）","0320小学英语3组","7月11日11：40-12：10"]
[1296,"沈阳市铁西区勋望小学中央大街分校","小学体育教师","03394","米文华","0101450628",93.85,{"$f":"VLOOKUP(D1299:D2475,[1]按组排列版!$G:$P,10,FALSE)","v":"0331小学体育5组"},"小学体育","沈阳市铁西区应昌小学大明湖分校（西门）","0331小学体育5组","7月12日11：40-12：10"]
[1297,"沈阳市铁西区勋望小学中央大街分校","小学体育教师","03394","曲孟楠","0101401130",93.75,{"$f":"VLOOKUP(D1300:D2476,[1]按组排列版!$G:$P,10,FALSE)","v":"0331小学体育5组"},"小学体育","沈阳市铁西区应昌小学大明湖分校（西门）","0331小学体育5组","7月12日11：40-12：10"]
[1298,"沈阳市铁西区勋望小学中央大街分校","小学体育教师","03394","桑闯","0101430114",92.77,{"$f":"VLOOKUP(D1301:D2477,[1]按组排列版!$G:$P,10,FALSE)","v":"0331小学体育5组"},"小学体育","沈阳市铁西区应昌小学大明湖分校（西门）","0331小学体育5组","7月12日11：40-12：10"]
[1299,"沈阳市铁西区勋望小学中央大街分校（曙光校区）","小学语数教师","03395","陈迦南","0101291909",106.77,{"$f":"VLOOKUP(D1302:D2478,[1]按组排列版!$G:$P,10,FALSE)","v":"0313小学语数13组"},"小学语数","沈阳市铁西区应昌小学大明湖分校（西门）","0313小学语数13组","7月11日11：40-12：10"]
[1300,"沈阳市铁西区勋望小学中央大街分校（曙光校区）","小学语数教师","03395","谷孟卓","0101250123",103.9,{"$f":"VLOOKUP(D1303:D2479,[1]按组排列版!$G:$P,10,FALSE)","v":"0313小学语数13组"},"小学语数","沈阳市铁西区应昌小学大明湖分校（西门）","0313小学语数13组","7月11日11：40-12：10"]
[1301,"沈阳市铁西区勋望小学中央大街分校（曙光校区）","小学语数教师","03395","李英楠","0101400525",100.59,{"$f":"VLOOKUP(D1304:D2480,[1]按组排列版!$G:$P,10,FALSE)","v":"0313小学语数13组"},"小学语数","沈阳市铁西区应昌小学大明湖分校（西门）","0313小学语数13组","7月11日11：40-12：10"]
[1302,"沈阳市铁西区勋望小学中央大街分校（曙光校区）","小学语数教师","03395","李志超","0101261130",97.36,{"$f":"VLOOKUP(D1305:D2481,[1]按组排列版!$G:$P,10,FALSE)","v":"0313小学语数13组"},"小学语数","沈阳市铁西区应昌小学大明湖分校（西门）","0313小学语数13组","7月11日11：40-12：10"]
[1303,"沈阳市铁西区勋望小学中央大街分校（曙光校区）","小学语数教师","03395","周艳","0101421320",96.54,{"$f":"VLOOKUP(D1306:D2482,[1]按组排列版!$G:$P,10,FALSE)","v":"0313小学语数13组"},"小学语数","沈阳市铁西区应昌小学大明湖分校（西门）","0313小学语数13组","7月11日11：40-12：10"]
[1304,"沈阳市铁西区勋望小学中央大街分校（曙光校区）","小学语数教师","03395","张婷","0101540413",92.24,{"$f":"VLOOKUP(D1307:D2483,[1]按组排列版!$G:$P,10,FALSE)","v":"0313小学语数13组"},"小学语数","沈阳市铁西区应昌小学大明湖分校（西门）","0313小学语数13组","7月11日11：40-12：10"]
[1305,"沈阳市铁西区勋望小学中央大街分校（曙光校区）","小学语数教师","03396","韩雪","0101341506",94.95,{"$f":"VLOOKUP(D1308:D2484,[1]按组排列版!$G:$P,10,FALSE)","v":"0312小学语数12组"},"小学语数","沈阳市铁西区应昌小学大明湖分校（西门）","0312小学语数12组","7月11日6：40-7：10"]
[1306,"沈阳市铁西区勋望小学中央大街分校（曙光校区）","小学英语教师","03397","陈英","0101411020",91.69,{"$f":"VLOOKUP(D1309:D2486,[1]按组排列版!$G:$P,10,FALSE)","v":"0320小学英语3组"},"小学英语","沈阳市铁西区应昌小学大明湖分校（西门）","0320小学英语3组","7月11日11：40-12：10"]
[1307,"沈阳市铁西区勋望小学中央大街分校（曙光校区）","小学信息技术教师","03398","朱悦莹","0101351218",115.18,{"$f":"VLOOKUP(D1310:D2487,[1]按组排列版!$G:$P,10,FALSE)","v":"0337小学信息技术2组"},"小学信息技术","沈阳市铁西区应昌小学大明湖分校（西门）","0337小学信息技术2组","7月12日11：40-12：10"]
[1308,"沈阳市铁西区勋望小学中央大街分校（曙光校区）","小学信息技术教师","03398","刘文雯","0101400702",103.23,{"$f":"VLOOKUP(D1311:D2488,[1]按组排列版!$G:$P,10,FALSE)","v":"0337小学信息技术2组"},"小学信息技术","沈阳市铁西区应昌小学大明湖分校（西门）","0337小学信息技术2组","7月12日11：40-12：10"]
[1309,"沈阳市铁西区勋望小学中央大街分校（曙光校区）","小学信息技术教师","03398","孙亦翾","0101330416",99.42,{"$f":"VLOOKUP(D1312:D2489,[1]按组排列版!$G:$P,10,FALSE)","v":"0337小学信息技术2组"},"小学信息技术","沈阳市铁西区应昌小学大明湖分校（西门）","0337小学信息技术2组","7月12日11：40-12：10"]
[1310,"沈阳市铁西区勋望小学中央大街分校（曙光校区）","小学信息技术教师","03398","徐瑞雪","0101360428",70.53,{"$f":"VLOOKUP(D1313:D2490,[1]按组排列版!$G:$P,10,FALSE)","v":"0337小学信息技术2组"},"小学信息技术","沈阳市铁西区应昌小学大明湖分校（西门）","0337小学信息技术2组","7月12日11：40-12：10"]
[1311,"沈阳市铁西区翟家镇中心小学","小学道德与法治教师","03399","刘婷","0101431916",108.42,{"$f":"VLOOKUP(D1314:D2491,[1]按组排列版!$G:$P,10,FALSE)","v":"0321初中、小学道法组"},"小学道德与法治","沈阳市铁西区应昌小学大明湖分校（西门）","0321初中、小学道法组","7月11日6：40-7：10"]
[1312,"沈阳市铁西区大青中朝友谊乡中心校","小学音乐教师","03400","王越","0101230105",101.56,{"$f":"VLOOKUP(D1315:D2492,[1]按组排列版!$G:$P,10,FALSE)","v":"0334小学音乐2组"},"小学音乐","沈阳市铁西区应昌小学大明湖分校（西门）","0334小学音乐2组","7月12日11：40-12：10"]
[1313,"沈阳市铁西区大青中朝友谊乡中心校","小学音乐教师","03400","赵晓诗","0101440923",95.92,{"$f":"VLOOKUP(D1316:D2493,[1]按组排列版!$G:$P,10,FALSE)","v":"0334小学音乐2组"},"小学音乐","沈阳市铁西区应昌小学大明湖分校（西门）","0334小学音乐2组","7月12日11：40-12：10"]
[1314,"沈阳市铁西区大青中朝友谊乡中心校","小学音乐教师","03400","张唯","0101430617",92.82,{"$f":"VLOOKUP(D1317:D2494,[1]按组排列版!$G:$P,10,FALSE)","v":"0334小学音乐2组"},"小学音乐","沈阳市铁西区应昌小学大明湖分校（西门）","0334小学音乐2组","7月12日11：40-12：10"]
[1315,"沈阳市铁西区春晖学校","特殊教育小学体育教师","03401","杜雪菲","0101472123",87.96,{"$f":"VLOOKUP(D1318:D2495,[1]按组排列版!$G:$P,10,FALSE)","v":"0331小学体育5组"},"小学体育","沈阳市铁西区应昌小学大明湖分校（西门）","0331小学体育5组","7月12日11：40-12：10"]
[1316,"沈阳市铁西区春晖学校","特殊教育小学体育教师","03401","孙向昱","0101440321",83.19,{"$f":"VLOOKUP(D1319:D2496,[1]按组排列版!$G:$P,10,FALSE)","v":"0331小学体育5组"},"小学体育","沈阳市铁西区应昌小学大明湖分校（西门）","0331小学体育5组","7月12日11：40-12：10"]
[1317,"沈阳市铁西区春晖学校","特殊教育生活语文教师","03402","陈万煜","0101471203",116.67,{"$f":"VLOOKUP(D1320:D2497,[1]按组排列版!$G:$P,10,FALSE)","v":"0345特教生活语文组、学前教育组"},"特教生活语文","沈阳市铁西区应昌小学大明湖分校（西门）","0345特教生活语文组、学前教育组","7月12日11：40-12：10"]
[1318,"沈阳市铁西区春晖学校","特殊教育生活语文教师","03402","沈易蓁","0101430612",109.2,{"$f":"VLOOKUP(D1321:D2498,[1]按组排列版!$G:$P,10,FALSE)","v":"0345特教生活语文组、学前教育组"},"特教生活语文","沈阳市铁西区应昌小学大明湖分校（西门）","0345特教生活语文组、学前教育组","7月12日11：40-12：10"]
[1319,"沈阳市铁西区春晖学校","特殊教育生活语文教师","03402","许嘉琪","0101361130",107.48,{"$f":"VLOOKUP(D1322:D2499,[1]按组排列版!$G:$P,10,FALSE)","v":"0345特教生活语文组、学前教育组"},"特教生活语文","沈阳市铁西区应昌小学大明湖分校（西门）","0345特教生活语文组、学前教育组","7月12日11：40-12：10"]
[1320,"沈阳市铁西区教工第二幼儿园","幼儿教师","03403","张雪娇","0101460927",122.72,{"$f":"VLOOKUP(D1323:D2500,[1]按组排列版!$G:$P,10,FALSE)","v":"0345特教生活语文组、学前教育组"},"学前教育","沈阳市铁西区应昌小学大明湖分校（西门）","0345特教生活语文组、学前教育组","7月12日11：40-12：10"]
[1321,"沈阳市铁西区教工第二幼儿园","幼儿教师","03403","修源苹","0101501719",112.52,{"$f":"VLOOKUP(D1324:D2501,[1]按组排列版!$G:$P,10,FALSE)","v":"0345特教生活语文组、学前教育组"},"学前教育","沈阳市铁西区应昌小学大明湖分校（西门）","0345特教生活语文组、学前教育组","7月12日11：40-12：10"]
[1322,"沈阳市铁西区教工第二幼儿园","幼儿教师","03403","史宝钰","0101570104",107.62,{"$f":"VLOOKUP(D1325:D2502,[1]按组排列版!$G:$P,10,FALSE)","v":"0345特教生活语文组、学前教育组"},"学前教育","沈阳市铁西区应昌小学大明湖分校（西门）","0345特教生活语文组、学前教育组","7月12日11：40-12：10"]
[1323,"沈阳市铁西区凌空幼儿园","幼儿教师","03404","吕欣怡","0101542009",110.13,{"$f":"VLOOKUP(D1326:D2503,[1]按组排列版!$G:$P,10,FALSE)","v":"0345特教生活语文组、学前教育组"},"学前教育","沈阳市铁西区应昌小学大明湖分校（西门）","0345特教生活语文组、学前教育组","7月12日11：40-12：10"]
[1324,"沈阳市铁西区凌空幼儿园","幼儿教师","03404","刘岫淇","0101370420",109.43,{"$f":"VLOOKUP(D1327:D2504,[1]按组排列版!$G:$P,10,FALSE)","v":"0345特教生活语文组、学前教育组"},"学前教育","沈阳市铁西区应昌小学大明湖分校（西门）","0345特教生活语文组、学前教育组","7月12日11：40-12：10"]
[1325,"沈阳市铁西区凌空幼儿园","幼儿教师","03404","樊晶珠","0101251112",109.27,{"$f":"VLOOKUP(D1328:D2505,[1]按组排列版!$G:$P,10,FALSE)","v":"0345特教生活语文组、学前教育组"},"学前教育","沈阳市铁西区应昌小学大明湖分校（西门）","0345特教生活语文组、学前教育组","7月12日11：40-12：10"]
[1326,"沈阳市铁西区凌空幼儿园","幼儿教师","03405","李佳颖","0101501110",110.87,{"$f":"VLOOKUP(D1329:D2506,[1]按组排列版!$G:$P,10,FALSE)","v":"0345特教生活语文组、学前教育组"},"学前教育","沈阳市铁西区应昌小学大明湖分校（西门）","0345特教生活语文组、学前教育组","7月12日11：40-12：10"]
[1327,"沈阳市铁西区凌空幼儿园","幼儿教师","03405","花明玉","0101400926",108.96,{"$f":"VLOOKUP(D1330:D2507,[1]按组排列版!$G:$P,10,FALSE)","v":"0345特教生活语文组、学前教育组"},"学前教育","沈阳市铁西区应昌小学大明湖分校（西门）","0345特教生活语文组、学前教育组","7月12日11：40-12：10"]
[1328,"沈阳市铁西区凌空幼儿园","幼儿教师","03405","谷智","0101271915",108.38,{"$f":"VLOOKUP(D1331:D2508,[1]按组排列版!$G:$P,10,FALSE)","v":"0345特教生活语文组、学前教育组"},"学前教育","沈阳市铁西区应昌小学大明湖分校（西门）","0345特教生活语文组、学前教育组","7月12日11：40-12：10"]
[1329,"沈阳市铁西区教育局附属第一幼儿园","幼儿教师","03406","吴迪","0101381612",115.23,{"$f":"VLOOKUP(D1332:D2509,[1]按组排列版!$G:$P,10,FALSE)","v":"0345特教生活语文组、学前教育组"},"学前教育","沈阳市铁西区应昌小学大明湖分校（西门）","0345特教生活语文组、学前教育组","7月12日11：40-12：10"]
[1330,"沈阳市铁西区教育局附属第一幼儿园","幼儿教师","03406","冯郑安","0101540304",106.49,{"$f":"VLOOKUP(D1333:D2510,[1]按组排列版!$G:$P,10,FALSE)","v":"0345特教生活语文组、学前教育组"},"学前教育","沈阳市铁西区应昌小学大明湖分校（西门）","0345特教生活语文组、学前教育组","7月12日11：40-12：10"]
[1331,"沈阳市铁西区教育局附属第一幼儿园","幼儿教师","03406","姜珊","0101572828",102.44,{"$f":"VLOOKUP(D1334:D2511,[1]按组排列版!$G:$P,10,FALSE)","v":"0345特教生活语文组、学前教育组"},"学前教育","沈阳市铁西区应昌小学大明湖分校（西门）","0345特教生活语文组、学前教育组","7月12日11：40-12：10"]
[1332,"沈阳经济技术开发区教工第二幼儿园","幼儿教师","03407","高诗惠","0101451307",115.71,{"$f":"VLOOKUP(D1335:D2512,[1]按组排列版!$G:$P,10,FALSE)","v":"0345特教生活语文组、学前教育组"},"学前教育","沈阳市铁西区应昌小学大明湖分校（西门）","0345特教生活语文组、学前教育组","7月12日11：40-12：10"]
[1333,"沈阳经济技术开发区教工第二幼儿园","幼儿教师","03407","曹然","0101291214",112.16,{"$f":"VLOOKUP(D1336:D2513,[1]按组排列版!$G:$P,10,FALSE)","v":"0345特教生活语文组、学前教育组"},"学前教育","沈阳市铁西区应昌小学大明湖分校（西门）","0345特教生活语文组、学前教育组","7月12日11：40-12：10"]
[1334,"沈阳经济技术开发区教工第二幼儿园","幼儿教师","03407","张竞丹","0101551604",105.7,{"$f":"VLOOKUP(D1337:D2514,[1]按组排列版!$G:$P,10,FALSE)","v":"0345特教生活语文组、学前教育组"},"学前教育","沈阳市铁西区应昌小学大明湖分校（西门）","0345特教生活语文组、学前教育组","7月12日11：40-12：10"]