{"text_format":"3","workbook":"xlsx","n_sheets":1,"sheets":["面试考生成绩表 "],"not_rendered":{"external_links":1,"defined_names":1},"read":"whole","date_system":"1900"}

{"sheet":"面试考生成绩表 ","index":0,"n_rows":73,"n_cols":6,"rows_kept":73,"merged":[[0,0,0,5],[2,1,3,1],[4,1,7,1],[9,1,10,1],[12,1,13,1],[14,1,15,1],[17,1,18,1],[19,1,21,1],[24,1,25,1],[27,1,31,1],[32,1,33,1],[35,1,39,1],[41,1,42,1],[46,1,47,1],[48,1,50,1],[51,1,52,1],[60,1,61,1],[62,1,63,1],[65,1,66,1],[67,1,69,1],[71,1,72,1]]}
["               珠海高新区2023年面向研究生应届毕业生公开招聘公办中小学\n教师拟聘人员名单"]
["序号","岗位代码","考生姓名","身份证号","是否录用","备注"]
[1,"GX501\n中学语文教师","薛健君","4414241998******0X",{"$f":"VLOOKUP(C3,'[1]3月31日至4月2日'!$D$4:$H$375,4,FALSE)","v":"是"}]
[2,null,"刘嘉欣","3607291998******24",{"$f":"VLOOKUP(C4,'[1]3月31日至4月2日'!$D$4:$H$375,4,FALSE)","v":"是"}]
[3,"GX701\n中学英语教师","李欣","4404211998******08",{"$f":"VLOOKUP(C5,'[1]3月31日至4月2日'!$D$4:$H$375,4,FALSE)","v":"是"}]
[4,null,"邓昱琰","4309211999******45",{"$f":"VLOOKUP(C6,'[1]3月31日至4月2日'!$D$4:$H$375,4,FALSE)","v":"是"}]
[5,null,"段佳雨","2113221994******65",{"$f":"VLOOKUP(C7,'[1]3月31日至4月2日'!$D$4:$H$375,4,FALSE)","v":"是"}]
[6,null,"龚楠","4211821998******42",{"$f":"VLOOKUP(C8,'[1]3月31日至4月2日'!$D$4:$H$375,4,FALSE)","v":"是"}]
[7,"GX801\n中学体育教师","于善善","4109281996******25",{"$f":"VLOOKUP(C9,'[1]3月31日至4月2日'!$D$4:$H$375,4,FALSE)","v":"是"}]
[8,"GX901中学历史教师","成怡霏","3706111996******26",{"$f":"VLOOKUP(C10,'[1]3月31日至4月2日'!$D$4:$H$375,4,FALSE)","v":"是"}]
[9,null,"王成武","3714021998******11",{"$f":"VLOOKUP(C11,'[1]3月31日至4月2日'!$D$4:$H$375,4,FALSE)","v":"是"},"自愿放弃"]
[10,"GX1001\n中学信息技术教师","黄炫幸","4404021999******51",{"$f":"VLOOKUP(C12,'[1]3月31日至4月2日'!$D$4:$H$375,4,FALSE)","v":"是"}]
[11,"GX1101中学物理教师","高桦","4306211996******26",{"$f":"VLOOKUP(C13,'[1]3月31日至4月2日'!$D$4:$H$375,4,FALSE)","v":"是"}]
[12,null,"韩萌","4113811995******27",{"$f":"VLOOKUP(C14,'[1]3月31日至4月2日'!$D$4:$H$375,4,FALSE)","v":"是"},"自愿放弃"]
[13,"GX1201\n中学道德与法制教师","刘莉婷","4405131997******40",{"$f":"VLOOKUP(C15,'[1]3月31日至4月2日'!$D$4:$H$375,4,FALSE)","v":"是"}]
[14,null,"钟茜","3603121997******24",{"$f":"VLOOKUP(C16,'[1]3月31日至4月2日'!$D$4:$H$375,4,FALSE)","v":"是"}]
[15,"GX1501\n中学化学教师","赵颖彤","4404211997******01",{"$f":"VLOOKUP(C17,'[1]3月31日至4月2日'!$D$4:$H$375,4,FALSE)","v":"是"}]
[16,"GX106\n小学语文教师","卢雪豪","4127221998******29",{"$f":"VLOOKUP(C18,'[1]3月31日至4月2日'!$D$4:$H$375,4,FALSE)","v":"是"}]
[17,null,"宋林娜","4128271998******88",{"$f":"VLOOKUP(C19,'[1]3月31日至4月2日'!$D$4:$H$375,4,FALSE)","v":"是"}]
[18,"GX303小学英语教师","张健熙","4404021998******50",{"$f":"VLOOKUP(C20,'[1]3月31日至4月2日'!$D$4:$H$375,4,FALSE)","v":"是"}]
[19,null,"杨湉润","2102821997******20",{"$f":"VLOOKUP(C21,'[1]3月31日至4月2日'!$D$4:$H$375,4,FALSE)","v":"是"}]
[20,null,"吴子珺","4404022000******09",{"$f":"VLOOKUP(C22,'[1]3月31日至4月2日'!$D$4:$H$375,4,FALSE)","v":"是"},"自愿放弃"]
[21,"GX107\n小学语文教师","梁夏萌","4527021997******28",{"$f":"VLOOKUP(C23,'[1]3月31日至4月2日'!$D$4:$H$375,4,FALSE)","v":"是"}]
[22,"GX204\n小学小学数学教师","黄欣桐","4508811997******21",{"$f":"VLOOKUP(C24,'[1]3月31日至4月2日'!$D$4:$H$375,4,FALSE)","v":"是"}]
[23,"GX402小学体育教师","刘漫婵","4404021999******4X",{"$f":"VLOOKUP(C25,'[1]3月31日至4月2日'!$D$4:$H$375,4,FALSE)","v":"是"}]
[24,null,"杨瑞","3703221996******1X",{"$f":"VLOOKUP(C26,'[1]3月31日至4月2日'!$D$4:$H$375,4,FALSE)","v":"是"},"自愿放弃"]
[25,"GX108小学语文教师","李梦瑶","3605211998******40",{"$f":"VLOOKUP(C27,'[1]3月31日至4月2日'!$D$4:$H$375,4,FALSE)","v":"是"},"自愿放弃"]
[26,"GX205\n小学数学教师","刘慧祯","4304261999******64",{"$f":"VLOOKUP(C28,'[1]3月31日至4月2日'!$D$4:$H$375,4,FALSE)","v":"是"}]
[27,null,"朱芝","4210231997******48",{"$f":"VLOOKUP(C29,'[1]3月31日至4月2日'!$D$4:$H$375,4,FALSE)","v":"是"}]
[28,null,"苗睿卿","3713221998******26",{"$f":"VLOOKUP(C30,'[1]3月31日至4月2日'!$D$4:$H$375,4,FALSE)","v":"是"}]
[29,null,"梁超男","4101051997******83",{"$f":"VLOOKUP(C31,'[1]3月31日至4月2日'!$D$4:$H$375,4,FALSE)","v":"是"}]
[30,null,"刘蕊","2302051994******29",{"$f":"VLOOKUP(C32,'[1]3月31日至4月2日'!$D$4:$H$375,4,FALSE)","v":"是"}]
[31,"GX304小学英语教师","黄京艺","4404021999******60",{"$f":"VLOOKUP(C33,'[1]3月31日至4月2日'!$D$4:$H$375,4,FALSE)","v":"是"}]
[32,null,"梁汝晴","4412831995******25",{"$f":"VLOOKUP(C34,'[1]3月31日至4月2日'!$D$4:$H$375,4,FALSE)","v":"是"}]
[33,"GX109小学语文教师","温文晓","4416211993******21",{"$f":"VLOOKUP(C35,'[1]3月31日至4月2日'!$D$4:$H$375,4,FALSE)","v":"是"}]
[34,"GX110小学语文教师","刘宇萱","5131011999******23",{"$f":"VLOOKUP(C36,'[1]3月31日至4月2日'!$D$4:$H$375,4,FALSE)","v":"是"}]
[35,null,"马琳","3412021996******25",{"$f":"VLOOKUP(C37,'[1]3月31日至4月2日'!$D$4:$H$375,4,FALSE)","v":"是"}]
[36,null,"黎雅","4408811995******27",{"$f":"VLOOKUP(C38,'[1]3月31日至4月2日'!$D$4:$H$375,4,FALSE)","v":"是"},"自愿放弃"]
[37,null,"刘嘉敏","4420001995******07",{"$f":"VLOOKUP(C39,'[1]3月31日至4月2日'!$D$4:$H$375,4,FALSE)","v":"是"}]
[38,null,"王富生","3607331995******30",{"$f":"VLOOKUP(C40,'[1]3月31日至4月2日'!$D$4:$H$375,4,FALSE)","v":"是"}]
[39,"GX206\n小学数学教师","许雪莹","4306021997******45",{"$f":"VLOOKUP(C41,'[1]3月31日至4月2日'!$D$4:$H$375,4,FALSE)","v":"是"}]
[40,"GX305\n小学英语教师","李斌","4416251993******15",{"$f":"VLOOKUP(C42,'[1]3月31日至4月2日'!$D$4:$H$375,4,FALSE)","v":"是"}]
[41,null,"何乐鑫","4310281996******15",{"$f":"VLOOKUP(C43,'[1]3月31日至4月2日'!$D$4:$H$375,4,FALSE)","v":"是"}]
[42,"GX603\n中学数学教师","闫一楠","1404811998******47",{"$f":"VLOOKUP(C44,'[1]3月31日至4月2日'!$D$4:$H$375,4,FALSE)","v":"是"}]
[43,"GX803\n中学体育教师","丘素兰","4416251998******21",{"$f":"VLOOKUP(C45,'[1]3月31日至4月2日'!$D$4:$H$375,4,FALSE)","v":"是"}]
[44,"GX1203\n中学道德与法制教师","陈亚平","4108221997******4X",{"$f":"VLOOKUP(C46,'[1]3月31日至4月2日'!$D$4:$H$375,4,FALSE)","v":"是"}]
[45,"GX1003\n中学信息技术教师","张媛","4114811997******28",{"$f":"VLOOKUP(C47,'[1]3月31日至4月2日'!$D$4:$H$375,4,FALSE)","v":"是"}]
[46,null,"孙诗淇","2105021997******14",{"$f":"VLOOKUP(C48,'[1]3月31日至4月2日'!$D$4:$H$375,4,FALSE)","v":"是"}]
[47,"GX111\n小学语文教师","李典纯","4306021998******26",{"$f":"VLOOKUP(C49,'[1]3月31日至4月2日'!$D$4:$H$375,4,FALSE)","v":"是"}]
[48,null,"朱靖琳","4418021998******20",{"$f":"VLOOKUP(C50,'[1]3月31日至4月2日'!$D$4:$H$375,4,FALSE)","v":"是"}]
[49,null,"张庆龄","1406211996******26",{"$f":"VLOOKUP(C51,'[1]3月31日至4月2日'!$D$4:$H$375,4,FALSE)","v":"是"}]
[50,"GX404\n小学体育教师","黄晓倩","4408811998******20",{"$f":"VLOOKUP(C52,'[1]3月31日至4月2日'!$D$4:$H$375,4,FALSE)","v":"是"}]
[51,null,"欧恩立","3503211998******16",{"$f":"VLOOKUP(C53,'[1]3月31日至4月2日'!$D$4:$H$375,4,FALSE)","v":"是"}]
[52,"GX502\n中学语文教师","曾绮晴","4414211996******27",{"$f":"VLOOKUP(C54,'[1]3月31日至4月2日'!$D$4:$H$375,4,FALSE)","v":"是"}]
[53,"GX702\n中学英语教师","杨琼","4312811999******26",{"$f":"VLOOKUP(C55,'[1]3月31日至4月2日'!$D$4:$H$375,4,FALSE)","v":"是"}]
[54,"GX802\n中学体育教师","解汶昊","3711021996******58",{"$f":"VLOOKUP(C56,'[1]3月31日至4月2日'!$D$4:$H$375,4,FALSE)","v":"是"}]
[55,"GX1102中学物理教师","高志杰","3713291995******11",{"$f":"VLOOKUP(C57,'[1]3月31日至4月2日'!$D$4:$H$375,4,FALSE)","v":"是"}]
[56,"GX1302\n中学生物教师","邓紫恒","4401111998******42",{"$f":"VLOOKUP(C58,'[1]3月31日至4月2日'!$D$4:$H$375,4,FALSE)","v":"是"}]
[57,"GX102\n小学语文教师","吴瑞萍","4601031997******22",{"$f":"VLOOKUP(C59,'[1]3月31日至4月2日'!$D$4:$H$375,4,FALSE)","v":"是"}]
[58,"GX101\n小学语文教师","李露","2323021996******21",{"$f":"VLOOKUP(C60,'[1]3月31日至4月2日'!$D$4:$H$375,4,FALSE)","v":"是"}]
[59,"GX103\n小学语文教师","刘桂青","3707241997******65",{"$f":"VLOOKUP(C61,'[1]3月31日至4月2日'!$D$4:$H$375,4,FALSE)","v":"是"}]
[60,null,"郭颖","1307031997******24",{"$f":"VLOOKUP(C62,'[1]3月31日至4月2日'!$D$4:$H$375,4,FALSE)","v":"是"}]
[61,"GX104小学语文教师","郝文静","4304821998******84",{"$f":"VLOOKUP(C63,'[1]3月31日至4月2日'!$D$4:$H$375,4,FALSE)","v":"是"}]
[62,null,"邹红敏","3622261997******25",{"$f":"VLOOKUP(C64,'[1]3月31日至4月2日'!$D$4:$H$375,4,FALSE)","v":"是"},"自愿放弃"]
[63,"GX105\n小学语文教师","靳紫涵","2201821998******20",{"$f":"VLOOKUP(C65,'[1]3月31日至4月2日'!$D$4:$H$375,4,FALSE)","v":"是"}]
[64,"GX202\n小学数学教师","罗维璇","1311261997******28",{"$f":"VLOOKUP(C66,'[1]3月31日至4月2日'!$D$4:$H$375,4,FALSE)","v":"是"}]
[65,null,"赵芮立","6201031997******42",{"$f":"VLOOKUP(C67,'[1]3月31日至4月2日'!$D$4:$H$375,4,FALSE)","v":"是"}]
[66,"GX301\n小学英语教师","莫艳池","4409811999******21",{"$f":"VLOOKUP(C68,'[1]3月31日至4月2日'!$D$4:$H$375,4,FALSE)","v":"是"}]
[67,null,"左博文","5002361999******14",{"$f":"VLOOKUP(C69,'[1]3月31日至4月2日'!$D$4:$H$375,4,FALSE)","v":"是"}]
[68,null,"阎昭蓉","1401811998******24",{"$f":"VLOOKUP(C70,'[1]3月31日至4月2日'!$D$4:$H$375,4,FALSE)","v":"是"}]
[69,"GX302小学英语教师","王诗颖","4408231999******27",{"$f":"VLOOKUP(C71,'[1]3月31日至4月2日'!$D$4:$H$375,4,FALSE)","v":"是"}]
[70,"GX401小学体育教师","张继琛","1301021997******36",{"$f":"VLOOKUP(C72,'[1]3月31日至4月2日'!$D$4:$H$375,4,FALSE)","v":"是"},"自愿放弃"]
[71,null,"武凯","4104031995******70",{"$f":"VLOOKUP(C73,'[1]3月31日至4月2日'!$D$4:$H$375,4,FALSE)","v":"是"}]