{"text_format":"3","workbook":"xlsx","n_sheets":2,"sheets":["集团教师岗","Sheet1"],"not_rendered":{"external_links":1,"defined_names":1},"read":"whole","date_system":"1900"}

{"sheet":"集团教师岗","index":0,"n_rows":9,"n_cols":11,"rows_kept":9,"merged":[[1,0,1,10],[2,0,3,0],[2,1,3,1],[2,2,3,2],[2,3,3,3],[2,4,3,4],[2,5,2,6],[2,7,3,7],[2,8,3,8],[2,9,3,9],[2,10,3,10],[4,0,8,0],[4,1,8,1],[4,10,8,10]]}
["附件1"]
["广州市执信中学联合集团成员校2023年第一次公开招聘教师岗位需求表（广州市执信中学琶洲实验学校）"]
["单位名称","类别","招聘岗位及岗位等级","招聘人数","招聘人员类型","专业及代码",null,"学历要求","学位要求","其他要求","备注"]
[{"$nulls":5},"研究生","本科"]
["广州市执信中学琶洲实验学校（九年一贯制学校）","广州市海珠区教育局区属学校","语文教师（专业技术七级及以下岗位 ）",4,"不限","中国语言文学(A0501)\n新闻传播学(A0503)\n广播电视艺术学(A050407)\n戏剧硕士（专业硕士）(A050410)\n广播电视硕士（专业硕士）(A050413)\n课程与教学论(A040102)\n学科教学硕士（专业硕士）(A040113)",null,"硕士研究生及以上","硕士及以上","所学专业为课程与教学论、学科教学硕士(专业硕士)报考者，其专业研究方向如与报考的职位条件一致，视为符合要求。                                                                                                                                                                                                            ","拟聘用人员须服从学段教学安排。"]
[null,null,"数学教师（专业技术七级及以下岗位 ）",2,"不限","数学(A0701)\n系统科学(A0711)\n应用经济学(A0202)\n课程与教学论(A040102)\n学科教学硕士（专业硕士）(A040113)","数学类(B0701),统计学类(B0711),经济学(B02)","本科及以上","学士及以上","所学专业为课程与教学论、学科教学硕士(专业硕士)报考者，其专业研究方向如与报考的职位条件一致，视为符合要求。                          "]
[null,null,"英语教师（专业技术七级及以下岗位 ）",2,"不限","英语语言文学(A050201)\n外国语言学及应用语言学(A050211)\n英语笔译硕士（专业硕士）(A050212)\n英语口译硕士（专业硕士）(A050213)\n课程与教学论(A040102)\n学科教学硕士（专业硕士）(A040113)",null,"硕士研究生及以上","硕士及以上","1.须持有英语专业八级合格证书；\n2.所学专业为课程与教学论、学科教学硕士(专业硕士)报考者，其专业研究方向如与报考的职位条件一致，视为符合要求。                     "]
[null,null,"体育教师（专业技术七级及以下岗位 ）",2,"不限","体育学(A0403)\n课程与教学论(A040102)\n学科教学硕士（专业硕士）(A040113)",null,"硕士研究生及以上","硕士及以上","1. 所学专业为课程与教学论、学科教学硕士(专业硕士)报考者，其专业研究方向如与报考的职位条件一致，视为符合要求；\n2. 须持国家二级运动员以上（含二级）等级证书。"]
[null,null,"科学教师（专业技术七级及以下岗位 ）",1,null,"物理学（A0702) \n教育技术学(A040110)                                 现代教育技术硕士 （专业硕士）（A040114）\n科学与技术教育硕士（专业硕士) (A040116)\n课程与教学论(A040102)\n学科教学硕士（专业硕士）(A040113)",null,"硕士研究生及以上","硕士及以上","所学专业为课程与教学论、学科教学硕士(专业硕士)报考者，其专业研究方向如与报考的职位条件一致，视为符合要求。                          "]

{"sheet":"Sheet1","index":1,"n_rows":39,"n_cols":5,"rows_kept":39}
[]
[null,"天文学","A0704",{"$f":"INDEX('[1]专业参考目录（学科对应具体专业目录）'!$B$1:$B$65536,MATCH(B2,'[1]专业参考目录（学科对应具体专业目录）'!$C$1:$C$65536,0),1)","v":"A0704"},{"$f":"INDEX('[1]专业参考目录（学科对应具体专业目录）'!$D$1:$D$65536,MATCH(B2,'[1]专业参考目录（学科对应具体专业目录）'!$E$1:$E$65536,0),1)","v":{"$error":"#N/A"}}]
[null,"地理学","A0705",{"$f":"INDEX('[1]专业参考目录（学科对应具体专业目录）'!$B$1:$B$65536,MATCH(B3,'[1]专业参考目录（学科对应具体专业目录）'!$C$1:$C$65536,0),1)","v":"A0705"},{"$f":"INDEX('[1]专业参考目录（学科对应具体专业目录）'!$D$1:$D$65536,MATCH(B3,'[1]专业参考目录（学科对应具体专业目录）'!$E$1:$E$65536,0),1)","v":{"$error":"#N/A"}}]
[null,"大气科学","A0706",{"$f":"INDEX('[1]专业参考目录（学科对应具体专业目录）'!$B$1:$B$65536,MATCH(B4,'[1]专业参考目录（学科对应具体专业目录）'!$C$1:$C$65536,0),1)","v":"A0706"},{"$f":"INDEX('[1]专业参考目录（学科对应具体专业目录）'!$D$1:$D$65536,MATCH(B4,'[1]专业参考目录（学科对应具体专业目录）'!$E$1:$E$65536,0),1)","v":{"$error":"#N/A"}}]
[null,"地球物理学","A0708",{"$f":"INDEX('[1]专业参考目录（学科对应具体专业目录）'!$B$1:$B$65536,MATCH(B5,'[1]专业参考目录（学科对应具体专业目录）'!$C$1:$C$65536,0),1)","v":"A0708"},{"$f":"INDEX('[1]专业参考目录（学科对应具体专业目录）'!$D$1:$D$65536,MATCH(B5,'[1]专业参考目录（学科对应具体专业目录）'!$E$1:$E$65536,0),1)","v":{"$error":"#N/A"}}]
[null,"地质学","A0709",{"$f":"INDEX('[1]专业参考目录（学科对应具体专业目录）'!$B$1:$B$65536,MATCH(B6,'[1]专业参考目录（学科对应具体专业目录）'!$C$1:$C$65536,0),1)","v":"A0709"},{"$f":"INDEX('[1]专业参考目录（学科对应具体专业目录）'!$D$1:$D$65536,MATCH(B6,'[1]专业参考目录（学科对应具体专业目录）'!$E$1:$E$65536,0),1)","v":{"$error":"#N/A"}}]
[null,"水利工程","A0815",{"$f":"INDEX('[1]专业参考目录（学科对应具体专业目录）'!$B$1:$B$65536,MATCH(B7,'[1]专业参考目录（学科对应具体专业目录）'!$C$1:$C$65536,0),1)","v":"A0815"},{"$f":"INDEX('[1]专业参考目录（学科对应具体专业目录）'!$D$1:$D$65536,MATCH(B7,'[1]专业参考目录（学科对应具体专业目录）'!$E$1:$E$65536,0),1)","v":{"$error":"#N/A"}}]
[null,"测绘科学与技术","A0816",{"$f":"INDEX('[1]专业参考目录（学科对应具体专业目录）'!$B$1:$B$65536,MATCH(B8,'[1]专业参考目录（学科对应具体专业目录）'!$C$1:$C$65536,0),1)","v":"A0816"},{"$f":"INDEX('[1]专业参考目录（学科对应具体专业目录）'!$D$1:$D$65536,MATCH(B8,'[1]专业参考目录（学科对应具体专业目录）'!$E$1:$E$65536,0),1)","v":{"$error":"#N/A"}}]
[null,"环境科学与工程","A0830",{"$f":"INDEX('[1]专业参考目录（学科对应具体专业目录）'!$B$1:$B$65536,MATCH(B9,'[1]专业参考目录（学科对应具体专业目录）'!$C$1:$C$65536,0),1)","v":"A0830"},{"$f":"INDEX('[1]专业参考目录（学科对应具体专业目录）'!$D$1:$D$65536,MATCH(B9,'[1]专业参考目录（学科对应具体专业目录）'!$E$1:$E$65536,0),1)","v":{"$error":"#N/A"}}]
[null,"课程与教学论","A040102",{"$f":"INDEX('[1]专业参考目录（学科对应具体专业目录）'!$B$1:$B$65536,MATCH(B10,'[1]专业参考目录（学科对应具体专业目录）'!$C$1:$C$65536,0),1)","v":{"$error":"#N/A"}},{"$f":"INDEX('[1]专业参考目录（学科对应具体专业目录）'!$D$1:$D$65536,MATCH(B10,'[1]专业参考目录（学科对应具体专业目录）'!$E$1:$E$65536,0),1)","v":"A040102"}]
[null,"学科教学硕士（专业硕士）","A040113",{"$f":"INDEX('[1]专业参考目录（学科对应具体专业目录）'!$B$1:$B$65536,MATCH(B11,'[1]专业参考目录（学科对应具体专业目录）'!$C$1:$C$65536,0),1)","v":{"$error":"#N/A"}},{"$f":"INDEX('[1]专业参考目录（学科对应具体专业目录）'!$D$1:$D$65536,MATCH(B11,'[1]专业参考目录（学科对应具体专业目录）'!$E$1:$E$65536,0),1)","v":{"$error":"#N/A"}}]
[null,"海洋生物学","A070703",{"$f":"INDEX('[1]专业参考目录（学科对应具体专业目录）'!$B$1:$B$65536,MATCH(B12,'[1]专业参考目录（学科对应具体专业目录）'!$C$1:$C$65536,0),1)","v":{"$error":"#N/A"}},{"$f":"INDEX('[1]专业参考目录（学科对应具体专业目录）'!$D$1:$D$65536,MATCH(B12,'[1]专业参考目录（学科对应具体专业目录）'!$E$1:$E$65536,0),1)","v":"A070703"}]
[null,"生物学","A0710",{"$f":"INDEX('[1]专业参考目录（学科对应具体专业目录）'!$B$1:$B$65536,MATCH(B13,'[1]专业参考目录（学科对应具体专业目录）'!$C$1:$C$65536,0),1)","v":"A0710"},{"$f":"INDEX('[1]专业参考目录（学科对应具体专业目录）'!$D$1:$D$65536,MATCH(B13,'[1]专业参考目录（学科对应具体专业目录）'!$E$1:$E$65536,0),1)","v":{"$error":"#N/A"}}]
[null,"环境科学与工程","A0830",{"$f":"INDEX('[1]专业参考目录（学科对应具体专业目录）'!$B$1:$B$65536,MATCH(B14,'[1]专业参考目录（学科对应具体专业目录）'!$C$1:$C$65536,0),1)","v":"A0830"},{"$f":"INDEX('[1]专业参考目录（学科对应具体专业目录）'!$D$1:$D$65536,MATCH(B14,'[1]专业参考目录（学科对应具体专业目录）'!$E$1:$E$65536,0),1)","v":{"$error":"#N/A"}}]
[null,"生物医学工程","A0831",{"$f":"INDEX('[1]专业参考目录（学科对应具体专业目录）'!$B$1:$B$65536,MATCH(B15,'[1]专业参考目录（学科对应具体专业目录）'!$C$1:$C$65536,0),1)","v":"A0831"},{"$f":"INDEX('[1]专业参考目录（学科对应具体专业目录）'!$D$1:$D$65536,MATCH(B15,'[1]专业参考目录（学科对应具体专业目录）'!$E$1:$E$65536,0),1)","v":"A083101"}]
[null,"食品科学与工程","A0832",{"$f":"INDEX('[1]专业参考目录（学科对应具体专业目录）'!$B$1:$B$65536,MATCH(B16,'[1]专业参考目录（学科对应具体专业目录）'!$C$1:$C$65536,0),1)","v":"A0832"},{"$f":"INDEX('[1]专业参考目录（学科对应具体专业目录）'!$D$1:$D$65536,MATCH(B16,'[1]专业参考目录（学科对应具体专业目录）'!$E$1:$E$65536,0),1)","v":{"$error":"#N/A"}}]
[null,"作物学","A0901",{"$f":"INDEX('[1]专业参考目录（学科对应具体专业目录）'!$B$1:$B$65536,MATCH(B17,'[1]专业参考目录（学科对应具体专业目录）'!$C$1:$C$65536,0),1)","v":"A0901"},{"$f":"INDEX('[1]专业参考目录（学科对应具体专业目录）'!$D$1:$D$65536,MATCH(B17,'[1]专业参考目录（学科对应具体专业目录）'!$E$1:$E$65536,0),1)","v":{"$error":"#N/A"}}]
[null,"园艺学","A0902",{"$f":"INDEX('[1]专业参考目录（学科对应具体专业目录）'!$B$1:$B$65536,MATCH(B18,'[1]专业参考目录（学科对应具体专业目录）'!$C$1:$C$65536,0),1)","v":"A0902"},{"$f":"INDEX('[1]专业参考目录（学科对应具体专业目录）'!$D$1:$D$65536,MATCH(B18,'[1]专业参考目录（学科对应具体专业目录）'!$E$1:$E$65536,0),1)","v":{"$error":"#N/A"}}]
[null,"农业资源利用","A0903",{"$f":"INDEX('[1]专业参考目录（学科对应具体专业目录）'!$B$1:$B$65536,MATCH(B19,'[1]专业参考目录（学科对应具体专业目录）'!$C$1:$C$65536,0),1)","v":"A0903"},{"$f":"INDEX('[1]专业参考目录（学科对应具体专业目录）'!$D$1:$D$65536,MATCH(B19,'[1]专业参考目录（学科对应具体专业目录）'!$E$1:$E$65536,0),1)","v":{"$error":"#N/A"}}]
[null,"植物保护","A0904",{"$f":"INDEX('[1]专业参考目录（学科对应具体专业目录）'!$B$1:$B$65536,MATCH(B20,'[1]专业参考目录（学科对应具体专业目录）'!$C$1:$C$65536,0),1)","v":"A0904"},{"$f":"INDEX('[1]专业参考目录（学科对应具体专业目录）'!$D$1:$D$65536,MATCH(B20,'[1]专业参考目录（学科对应具体专业目录）'!$E$1:$E$65536,0),1)","v":{"$error":"#N/A"}}]
[null,"农艺与种业","A0905",{"$f":"INDEX('[1]专业参考目录（学科对应具体专业目录）'!$B$1:$B$65536,MATCH(B21,'[1]专业参考目录（学科对应具体专业目录）'!$C$1:$C$65536,0),1)","v":"A0905"},{"$f":"INDEX('[1]专业参考目录（学科对应具体专业目录）'!$D$1:$D$65536,MATCH(B21,'[1]专业参考目录（学科对应具体专业目录）'!$E$1:$E$65536,0),1)","v":{"$error":"#N/A"}}]
[null,"资源利用与植物保护","A0906",{"$f":"INDEX('[1]专业参考目录（学科对应具体专业目录）'!$B$1:$B$65536,MATCH(B22,'[1]专业参考目录（学科对应具体专业目录）'!$C$1:$C$65536,0),1)","v":"A0906"},{"$f":"INDEX('[1]专业参考目录（学科对应具体专业目录）'!$D$1:$D$65536,MATCH(B22,'[1]专业参考目录（学科对应具体专业目录）'!$E$1:$E$65536,0),1)","v":{"$error":"#N/A"}}]
[null,"畜牧学","A0910",{"$f":"INDEX('[1]专业参考目录（学科对应具体专业目录）'!$B$1:$B$65536,MATCH(B23,'[1]专业参考目录（学科对应具体专业目录）'!$C$1:$C$65536,0),1)","v":"A0910"},{"$f":"INDEX('[1]专业参考目录（学科对应具体专业目录）'!$D$1:$D$65536,MATCH(B23,'[1]专业参考目录（学科对应具体专业目录）'!$E$1:$E$65536,0),1)","v":{"$error":"#N/A"}}]
[null,"野生动植物保护与利用","A091205",{"$f":"INDEX('[1]专业参考目录（学科对应具体专业目录）'!$B$1:$B$65536,MATCH(B24,'[1]专业参考目录（学科对应具体专业目录）'!$C$1:$C$65536,0),1)","v":{"$error":"#N/A"}},{"$f":"INDEX('[1]专业参考目录（学科对应具体专业目录）'!$D$1:$D$65536,MATCH(B24,'[1]专业参考目录（学科对应具体专业目录）'!$E$1:$E$65536,0),1)","v":"A091205"}]
[null,"药学","A1007",{"$f":"INDEX('[1]专业参考目录（学科对应具体专业目录）'!$B$1:$B$65536,MATCH(B25,'[1]专业参考目录（学科对应具体专业目录）'!$C$1:$C$65536,0),1)","v":"A1007"},{"$f":"INDEX('[1]专业参考目录（学科对应具体专业目录）'!$D$1:$D$65536,MATCH(B25,'[1]专业参考目录（学科对应具体专业目录）'!$E$1:$E$65536,0),1)","v":{"$error":"#N/A"}}]
[null,"课程与教学论","A040102",{"$f":"INDEX('[1]专业参考目录（学科对应具体专业目录）'!$B$1:$B$65536,MATCH(B26,'[1]专业参考目录（学科对应具体专业目录）'!$C$1:$C$65536,0),1)","v":{"$error":"#N/A"}},{"$f":"INDEX('[1]专业参考目录（学科对应具体专业目录）'!$D$1:$D$65536,MATCH(B26,'[1]专业参考目录（学科对应具体专业目录）'!$E$1:$E$65536,0),1)","v":"A040102"}]
[null,"学科教学硕士（专业硕士）","A040113",{"$f":"INDEX('[1]专业参考目录（学科对应具体专业目录）'!$B$1:$B$65536,MATCH(B27,'[1]专业参考目录（学科对应具体专业目录）'!$C$1:$C$65536,0),1)","v":{"$error":"#N/A"}},{"$f":"INDEX('[1]专业参考目录（学科对应具体专业目录）'!$D$1:$D$65536,MATCH(B27,'[1]专业参考目录（学科对应具体专业目录）'!$E$1:$E$65536,0),1)","v":{"$error":"#N/A"}}]
[null,"艺术学","A050401",{"$f":"INDEX('[1]专业参考目录（学科对应具体专业目录）'!$B$1:$B$65536,MATCH(B28,'[1]专业参考目录（学科对应具体专业目录）'!$C$1:$C$65536,0),1)","v":"A0504"},{"$f":"INDEX('[1]专业参考目录（学科对应具体专业目录）'!$D$1:$D$65536,MATCH(B28,'[1]专业参考目录（学科对应具体专业目录）'!$E$1:$E$65536,0),1)","v":"A050401"}]
[null,"设计艺术学","A050404",{"$f":"INDEX('[1]专业参考目录（学科对应具体专业目录）'!$B$1:$B$65536,MATCH(B29,'[1]专业参考目录（学科对应具体专业目录）'!$C$1:$C$65536,0),1)","v":{"$error":"#N/A"}},{"$f":"INDEX('[1]专业参考目录（学科对应具体专业目录）'!$D$1:$D$65536,MATCH(B29,'[1]专业参考目录（学科对应具体专业目录）'!$E$1:$E$65536,0),1)","v":"A050404"}]
[null,"艺术设计硕士（专业硕士）","A050416",{"$f":"INDEX('[1]专业参考目录（学科对应具体专业目录）'!$B$1:$B$65536,MATCH(B30,'[1]专业参考目录（学科对应具体专业目录）'!$C$1:$C$65536,0),1)","v":{"$error":"#N/A"}},{"$f":"INDEX('[1]专业参考目录（学科对应具体专业目录）'!$D$1:$D$65536,MATCH(B30,'[1]专业参考目录（学科对应具体专业目录）'!$E$1:$E$65536,0),1)","v":{"$error":"#N/A"}}]
[null,"课程与教学论","A040102",{"$f":"INDEX('[1]专业参考目录（学科对应具体专业目录）'!$B$1:$B$65536,MATCH(B31,'[1]专业参考目录（学科对应具体专业目录）'!$C$1:$C$65536,0),1)","v":{"$error":"#N/A"}},{"$f":"INDEX('[1]专业参考目录（学科对应具体专业目录）'!$D$1:$D$65536,MATCH(B31,'[1]专业参考目录（学科对应具体专业目录）'!$E$1:$E$65536,0),1)","v":"A040102"}]
[null,"学科教学硕士（专业硕士）","A040113",{"$f":"INDEX('[1]专业参考目录（学科对应具体专业目录）'!$B$1:$B$65536,MATCH(B32,'[1]专业参考目录（学科对应具体专业目录）'!$C$1:$C$65536,0),1)","v":{"$error":"#N/A"}},{"$f":"INDEX('[1]专业参考目录（学科对应具体专业目录）'!$D$1:$D$65536,MATCH(B32,'[1]专业参考目录（学科对应具体专业目录）'!$E$1:$E$65536,0),1)","v":{"$error":"#N/A"}}]
[null,"物理学","A0702",{"$f":"INDEX('[1]专业参考目录（学科对应具体专业目录）'!$B$1:$B$65536,MATCH(B33,'[1]专业参考目录（学科对应具体专业目录）'!$C$1:$C$65536,0),1)","v":"A0702"},{"$f":"INDEX('[1]专业参考目录（学科对应具体专业目录）'!$D$1:$D$65536,MATCH(B33,'[1]专业参考目录（学科对应具体专业目录）'!$E$1:$E$65536,0),1)","v":{"$error":"#N/A"}}]
[null,"地理学","A0705",{"$f":"INDEX('[1]专业参考目录（学科对应具体专业目录）'!$B$1:$B$65536,MATCH(B34,'[1]专业参考目录（学科对应具体专业目录）'!$C$1:$C$65536,0),1)","v":"A0705"},{"$f":"INDEX('[1]专业参考目录（学科对应具体专业目录）'!$D$1:$D$65536,MATCH(B34,'[1]专业参考目录（学科对应具体专业目录）'!$E$1:$E$65536,0),1)","v":{"$error":"#N/A"}}]
[null,"生物学","A0710",{"$f":"INDEX('[1]专业参考目录（学科对应具体专业目录）'!$B$1:$B$65536,MATCH(B35,'[1]专业参考目录（学科对应具体专业目录）'!$C$1:$C$65536,0),1)","v":"A0710"},{"$f":"INDEX('[1]专业参考目录（学科对应具体专业目录）'!$D$1:$D$65536,MATCH(B35,'[1]专业参考目录（学科对应具体专业目录）'!$E$1:$E$65536,0),1)","v":{"$error":"#N/A"}}]
[null,"科学与技术教育硕士（专业硕士) ","A040116",{"$f":"INDEX('[1]专业参考目录（学科对应具体专业目录）'!$B$1:$B$65536,MATCH(B36,'[1]专业参考目录（学科对应具体专业目录）'!$C$1:$C$65536,0),1)","v":{"$error":"#N/A"}},{"$f":"INDEX('[1]专业参考目录（学科对应具体专业目录）'!$D$1:$D$65536,MATCH(B36,'[1]专业参考目录（学科对应具体专业目录）'!$E$1:$E$65536,0),1)","v":{"$error":"#N/A"}}]
[null,"小学教育硕士（专业硕士) ","A040115",{"$f":"INDEX('[1]专业参考目录（学科对应具体专业目录）'!$B$1:$B$65536,MATCH(B37,'[1]专业参考目录（学科对应具体专业目录）'!$C$1:$C$65536,0),1)","v":{"$error":"#N/A"}},{"$f":"INDEX('[1]专业参考目录（学科对应具体专业目录）'!$D$1:$D$65536,MATCH(B37,'[1]专业参考目录（学科对应具体专业目录）'!$E$1:$E$65536,0),1)","v":{"$error":"#N/A"}}]
[null,"课程与教学论","A040102",{"$f":"INDEX('[1]专业参考目录（学科对应具体专业目录）'!$B$1:$B$65536,MATCH(B38,'[1]专业参考目录（学科对应具体专业目录）'!$C$1:$C$65536,0),1)","v":{"$error":"#N/A"}},{"$f":"INDEX('[1]专业参考目录（学科对应具体专业目录）'!$D$1:$D$65536,MATCH(B38,'[1]专业参考目录（学科对应具体专业目录）'!$E$1:$E$65536,0),1)","v":"A040102"}]
[null,"学科教学硕士（专业硕士）","A040113",{"$f":"INDEX('[1]专业参考目录（学科对应具体专业目录）'!$B$1:$B$65536,MATCH(B39,'[1]专业参考目录（学科对应具体专业目录）'!$C$1:$C$65536,0),1)","v":{"$error":"#N/A"}},{"$f":"INDEX('[1]专业参考目录（学科对应具体专业目录）'!$D$1:$D$65536,MATCH(B39,'[1]专业参考目录（学科对应具体专业目录）'!$E$1:$E$65536,0),1)","v":{"$error":"#N/A"}}]