{"text_format":"3","workbook":"xlsx","n_sheets":2,"sheets":["Sheet1","Sheet3"],"not_rendered":{"external_links":1,"defined_names":1},"read":"whole","date_system":"1900"}

{"sheet":"Sheet1","index":0,"n_rows":124,"n_cols":9,"rows_kept":124,"merged":[[0,0,0,8]]}
["2021年扶绥县公开招聘教师（第一批）拟聘人员名单"]
["序号","报考单位","报考岗位","姓名","性别","全日制学历毕业院校\n所学专业","面试成绩","体检结果","考核结果"]
[1,"扶绥县扶绥中学","体育教师","卢立鑫","男","广西民族大学体育教育",89.97,"合格",{"$f":"VLOOKUP(D3,'[1]2021年扶绥县中小学幼儿园教师公开招聘第一批拟聘用人员名单'!$B$3:$K$123,10,0)","v":"优秀"}]
[2,"扶绥县扶绥中学","英语教师","韦青亮","女","广西师范学院 英语专业","84.90","合格",{"$f":"VLOOKUP(D4,'[1]2021年扶绥县中小学幼儿园教师公开招聘第一批拟聘用人员名单'!$B$3:$K$123,10,0)","v":"优秀"}]
[3,"扶绥县第二中学","历史老师","卢森林","女","南宁师范大学历史学",83.38,"合格",{"$f":"VLOOKUP(D5,'[1]2021年扶绥县中小学幼儿园教师公开招聘第一批拟聘用人员名单'!$B$3:$K$123,10,0)","v":"合格"}]
[4,"扶绥县职业技术学校","语文教师","李振瑜","女","广西师范大学漓江学院中文系汉语言文学","85.46","合格",{"$f":"VLOOKUP(D6,'[1]2021年扶绥县中小学幼儿园教师公开招聘第一批拟聘用人员名单'!$B$3:$K$123,10,0)","v":"优秀"}]
[5,"扶绥县职业技术学校","语文教师","李媛群","女","广西民族大学文学院汉语言文学专业","77.25","合格",{"$f":"VLOOKUP(D7,'[1]2021年扶绥县中小学幼儿园教师公开招聘第一批拟聘用人员名单'!$B$3:$K$123,10,0)","v":"合格"}]
[6,"扶绥县职业技术学校","英语教师","黄秋燕","女","玉林师范学院",82.79,"合格",{"$f":"VLOOKUP(D8,'[1]2021年扶绥县中小学幼儿园教师公开招聘第一批拟聘用人员名单'!$B$3:$K$123,10,0)","v":"优秀"}]
[7,"扶绥县职业技术学校","体育教师","周承新","男","玉林师范学院体育教育","81.00","合格",{"$f":"VLOOKUP(D9,'[1]2021年扶绥县中小学幼儿园教师公开招聘第一批拟聘用人员名单'!$B$3:$K$123,10,0)","v":"合格"}]
[8,"扶绥县职业技术学校","幼儿保育教师","莫秀新","女","北部湾大学教育学院学前教育专业",86.28,"合格",{"$f":"VLOOKUP(D10,'[1]2021年扶绥县中小学幼儿园教师公开招聘第一批拟聘用人员名单'!$B$3:$K$123,10,0)","v":"优秀"}]
[9,"扶绥县职业技术学校","美术教师","陈兴韩","男","西安工程大学艺术设计","85.79","合格",{"$f":"VLOOKUP(D11,'[1]2021年扶绥县中小学幼儿园教师公开招聘第一批拟聘用人员名单'!$B$3:$K$123,10,0)","v":"优秀"}]
[10,"扶绥县龙华中学","语文教师","莫云芳","女","广西民族大学相思湖学院","89.43","合格",{"$f":"VLOOKUP(D12,'[1]2021年扶绥县中小学幼儿园教师公开招聘第一批拟聘用人员名单'!$B$3:$K$123,10,0)","v":"优秀"}]
[11,"扶绥县龙华中学","化学教师","罗永朝","男","玉林师范学院化学与食品科学学院、材料化学",81.33,"合格",{"$f":"VLOOKUP(D13,'[1]2021年扶绥县中小学幼儿园教师公开招聘第一批拟聘用人员名单'!$B$3:$K$123,10,0)","v":"优秀"}]
[12,"扶绥县龙华中学","生物教师","李世流","女","河池学院生物科学专业","84.62","合格",{"$f":"VLOOKUP(D14,'[1]2021年扶绥县中小学幼儿园教师公开招聘第一批拟聘用人员名单'!$B$3:$K$123,10,0)","v":"合格"}]
[13,"扶绥县龙华中学","心理教师","黄坤幸","女","广西师范大学教育学部应用心理学","81.06","合格",{"$f":"VLOOKUP(D15,'[1]2021年扶绥县中小学幼儿园教师公开招聘第一批拟聘用人员名单'!$B$3:$K$123,10,0)","v":"优秀"}]
[14,"扶绥县龙华中学","信息技术教师","钟秋萍","女","桂林电子科技大学信息科技学院自动化","86.33","合格",{"$f":"VLOOKUP(D16,'[1]2021年扶绥县中小学幼儿园教师公开招聘第一批拟聘用人员名单'!$B$3:$K$123,10,0)","v":"优秀"}]
[15,"扶绥县民族中学","数学教师","陆艳秋","女","玉林师范学院数学与应用数学","87.16","合格",{"$f":"VLOOKUP(D17,'[1]2021年扶绥县中小学幼儿园教师公开招聘第一批拟聘用人员名单'!$B$3:$K$123,10,0)","v":"优秀"}]
[16,"扶绥县民族中学","道德与法治教师","谢海霞","女","广西民族师范学院 思想政治教育","80.71","合格",{"$f":"VLOOKUP(D18,'[1]2021年扶绥县中小学幼儿园教师公开招聘第一批拟聘用人员名单'!$B$3:$K$123,10,0)","v":"优秀"}]
[17,"扶绥县民族中学","信息技术教师","郭娟丽","女","玉林师范学院 信息管理与信息系统","85.90","合格",{"$f":"VLOOKUP(D19,'[1]2021年扶绥县中小学幼儿园教师公开招聘第一批拟聘用人员名单'!$B$3:$K$123,10,0)","v":"合格"}]
[18,"扶绥县民族中学","音乐教师","吴季玲","女","北方民族大学音乐学",83.24,"合格",{"$f":"VLOOKUP(D20,'[1]2021年扶绥县中小学幼儿园教师公开招聘第一批拟聘用人员名单'!$B$3:$K$123,10,0)","v":"合格"}]
[19,"扶绥县新宁镇第一初级中学","数学教师","梁珍芳","女","桂林师范高等专科学校数学教育","82.03","合格",{"$f":"VLOOKUP(D21,'[1]2021年扶绥县中小学幼儿园教师公开招聘第一批拟聘用人员名单'!$B$3:$K$123,10,0)","v":"优秀"}]
[20,"扶绥县新宁镇第一初级中学","道德与法治教师","宁文凤","女","广西民族师范学院思想政治教育专业","85.61","合格",{"$f":"VLOOKUP(D22,'[1]2021年扶绥县中小学幼儿园教师公开招聘第一批拟聘用人员名单'!$B$3:$K$123,10,0)","v":"合格"}]
[21,"扶绥县岜盆乡初级中学","数学教师","甘黎苗","女","南宁师范高等专科学校数学教育","87.20","合格",{"$f":"VLOOKUP(D23,'[1]2021年扶绥县中小学幼儿园教师公开招聘第一批拟聘用人员名单'!$B$3:$K$123,10,0)","v":"优秀"}]
[22,"扶绥县岜盆乡初级中学","道德与法治教师","梁海光","男","河池学院政治与法律教育","81.79","合格",{"$f":"VLOOKUP(D24,'[1]2021年扶绥县中小学幼儿园教师公开招聘第一批拟聘用人员名单'!$B$3:$K$123,10,0)","v":"优秀"}]
[23,"扶绥县岜盆乡初级中学","信息技术教师","梁民科","男","南宁职业技术学院","82.91","合格",{"$f":"VLOOKUP(D25,'[1]2021年扶绥县中小学幼儿园教师公开招聘第一批拟聘用人员名单'!$B$3:$K$123,10,0)","v":"优秀"}]
[24,"扶绥县山圩镇初级中学","语文教师","易莉","女","桂林师范高等专科学校汉语言文学","85.08","合格",{"$f":"VLOOKUP(D26,'[1]2021年扶绥县中小学幼儿园教师公开招聘第一批拟聘用人员名单'!$B$3:$K$123,10,0)","v":"合格"}]
[25,"扶绥县山圩镇初级中学","数学教师","吴赞年","男","南宁师范高等专科学校数学教育","80.26","合格",{"$f":"VLOOKUP(D27,'[1]2021年扶绥县中小学幼儿园教师公开招聘第一批拟聘用人员名单'!$B$3:$K$123,10,0)","v":"合格"}]
[26,"扶绥县山圩镇初级中学","生物教师","陆艺艳","女","南宁师范高等专科学校化学与生物教育","81.28","合格",{"$f":"VLOOKUP(D28,'[1]2021年扶绥县中小学幼儿园教师公开招聘第一批拟聘用人员名单'!$B$3:$K$123,10,0)","v":"优秀"}]
[27,"扶绥县渠黎镇第三初级中学","体育教师","韦崇结","男","广西师范大学体育学院体育教育",81.05,"合格",{"$f":"VLOOKUP(D29,'[1]2021年扶绥县中小学幼儿园教师公开招聘第一批拟聘用人员名单'!$B$3:$K$123,10,0)","v":"优秀"}]
[28,"扶绥县东门镇初级中学","英语教师","唐佳玲","女","玉林师范学院英语教育专业",72.45,"合格",{"$f":"VLOOKUP(D30,'[1]2021年扶绥县中小学幼儿园教师公开招聘第一批拟聘用人员名单'!$B$3:$K$123,10,0)","v":"优秀"}]
[29,"扶绥县中东镇初级中学","生物教师","黄立强","男","南宁师范高等专科学校","78.63","合格",{"$f":"VLOOKUP(D31,'[1]2021年扶绥县中小学幼儿园教师公开招聘第一批拟聘用人员名单'!$B$3:$K$123,10,0)","v":"优秀"}]
[30,"扶绥县中东镇初级中学","道德与法治教师","李达高","男","广西南宁师范高等专科学校","76.71","合格",{"$f":"VLOOKUP(D32,'[1]2021年扶绥县中小学幼儿园教师公开招聘第一批拟聘用人员名单'!$B$3:$K$123,10,0)","v":"合格"}]
[31,"扶绥县中东镇初级中学","历史教师","卯升广","男","兴义民族师范学院历史教育专业",82.52,"合格",{"$f":"VLOOKUP(D33,'[1]2021年扶绥县中小学幼儿园教师公开招聘第一批拟聘用人员名单'!$B$3:$K$123,10,0)","v":"合格"}]
[32,"扶绥县昌平乡初级中学","英语教师","张桂姣","女","广西师范学院英语专业",77.69,"合格",{"$f":"VLOOKUP(D34,'[1]2021年扶绥县中小学幼儿园教师公开招聘第一批拟聘用人员名单'!$B$3:$K$123,10,0)","v":"优秀"}]
[33,"扶绥县昌平乡初级中学","英语教师","李霞","女","广西钦州学院英语教育","83.40","合格",{"$f":"VLOOKUP(D35,'[1]2021年扶绥县中小学幼儿园教师公开招聘第一批拟聘用人员名单'!$B$3:$K$123,10,0)","v":"优秀"}]
[34,"扶绥县昌平乡初级中学","生物教师","黄秀娟","女","河池学院生物教育专业","80.39","合格",{"$f":"VLOOKUP(D36,'[1]2021年扶绥县中小学幼儿园教师公开招聘第一批拟聘用人员名单'!$B$3:$K$123,10,0)","v":"优秀"}]
[35,"扶绥县民族小学","科学教师","黄炜健","男","广西农业职业技术学院生物技术及应用专业",79.11,"合格",{"$f":"VLOOKUP(D37,'[1]2021年扶绥县中小学幼儿园教师公开招聘第一批拟聘用人员名单'!$B$3:$K$123,10,0)","v":"优秀"}]
[36,"扶绥县民族小学","英语教师（1）","郝丽娟","女","琼台师范高等专科学校英语教育",79.67,"合格",{"$f":"VLOOKUP(D38,'[1]2021年扶绥县中小学幼儿园教师公开招聘第一批拟聘用人员名单'!$B$3:$K$123,10,0)","v":"合格"}]
[37,"扶绥县民族小学","英语教师（2）","甘秀娟","女","贺州学院英语（旅游英语方向）",77.07,"合格",{"$f":"VLOOKUP(D39,'[1]2021年扶绥县中小学幼儿园教师公开招聘第一批拟聘用人员名单'!$B$3:$K$123,10,0)","v":"优秀"}]
[38,"扶绥县民族小学","体育教师","黄睦","男","广西体育高等专科学校社会体育",86.73,"合格",{"$f":"VLOOKUP(D40,'[1]2021年扶绥县中小学幼儿园教师公开招聘第一批拟聘用人员名单'!$B$3:$K$123,10,0)","v":"优秀"}]
[39,"扶绥县民族小学","美术教师","杨福林","男","四川幼儿师范高等专科学校美术教育专业","84.91","合格",{"$f":"VLOOKUP(D41,'[1]2021年扶绥县中小学幼儿园教师公开招聘第一批拟聘用人员名单'!$B$3:$K$123,10,0)","v":"合格"}]
[40,"扶绥县民族小学","美术教师","韦贤平","男","四川大学 艺术设计","84.33","合格",{"$f":"VLOOKUP(D42,'[1]2021年扶绥县中小学幼儿园教师公开招聘第一批拟聘用人员名单'!$B$3:$K$123,10,0)","v":"合格"}]
[41,"扶绥县民族小学","信息技术教师","杨应辉","女","广西师范大学计算机信息技术学院信息管理与信息系统专业",86.76,"合格",{"$f":"VLOOKUP(D43,'[1]2021年扶绥县中小学幼儿园教师公开招聘第一批拟聘用人员名单'!$B$3:$K$123,10,0)","v":"合格"}]
[42,"扶绥县民族小学","数学教师","周倩莹","女","南宁师范大学师院学院小学教育","87.52","合格",{"$f":"VLOOKUP(D44,'[1]2021年扶绥县中小学幼儿园教师公开招聘第一批拟聘用人员名单'!$B$3:$K$123,10,0)","v":"优秀"}]
[43,"扶绥县特殊教育学校","自闭症教育教师","褚艳娴","女","广西幼儿师范高等专科学校特殊教育系特殊教育",87.18,"合格",{"$f":"VLOOKUP(D45,'[1]2021年扶绥县中小学幼儿园教师公开招聘第一批拟聘用人员名单'!$B$3:$K$123,10,0)","v":"优秀"}]
[44,"扶绥县实验学校","语文教师","黄璇谚","女","广西科技师范学院小学教育",87.86,"合格",{"$f":"VLOOKUP(D46,'[1]2021年扶绥县中小学幼儿园教师公开招聘第一批拟聘用人员名单'!$B$3:$K$123,10,0)","v":"优秀"}]
[45,"扶绥县未来城小学","英语教师","甘萍","女","广西外国语学院欧美语言文化学院英语专业",83.72,"合格",{"$f":"VLOOKUP(D47,'[1]2021年扶绥县中小学幼儿园教师公开招聘第一批拟聘用人员名单'!$B$3:$K$123,10,0)","v":"优秀"}]
[46,"扶绥县新宁镇吉阳小学","语文教师","李慧","女","广西师范学院综合文科教育",88.78,"合格",{"$f":"VLOOKUP(D48,'[1]2021年扶绥县中小学幼儿园教师公开招聘第一批拟聘用人员名单'!$B$3:$K$123,10,0)","v":"合格"}]
[47,"扶绥县新宁镇吉阳小学","语文教师","黄美玲","女","广西电力职业技术学院物流管理",90.07,"合格",{"$f":"VLOOKUP(D49,'[1]2021年扶绥县中小学幼儿园教师公开招聘第一批拟聘用人员名单'!$B$3:$K$123,10,0)","v":"优秀"}]
[48,"扶绥县新宁镇吉阳小学","体育教师","莫元聪","男","百色学院体育学院体育教育",88.79,"合格",{"$f":"VLOOKUP(D50,'[1]2021年扶绥县中小学幼儿园教师公开招聘第一批拟聘用人员名单'!$B$3:$K$123,10,0)","v":"优秀"}]
[49,"扶绥县新宁镇吉阳小学","体育教师","吕子花","女","广西体育高等专科学校体育教育专业",84.34,"合格","合格"]
[50,"扶绥县新宁镇吉阳小学","数学教师","李孔兰","女","广西机电职业技术学院","87.96","合格",{"$f":"VLOOKUP(D52,'[1]2021年扶绥县中小学幼儿园教师公开招聘第一批拟聘用人员名单'!$B$3:$K$123,10,0)","v":"优秀"}]
[51,"扶绥县新宁镇吉阳小学","数学教师","吴文雪","女","广西科技师范学院小学教育专业","89.15","合格",{"$f":"VLOOKUP(D53,'[1]2021年扶绥县中小学幼儿园教师公开招聘第一批拟聘用人员名单'!$B$3:$K$123,10,0)","v":"优秀"}]
[52,"扶绥县新宁镇第二小学","英语教师","陈庆芳","女","广西师范学院小学教育",83.12,"合格",{"$f":"VLOOKUP(D54,'[1]2021年扶绥县中小学幼儿园教师公开招聘第一批拟聘用人员名单'!$B$3:$K$123,10,0)","v":"优秀"}]
[53,"扶绥县新宁镇第三小学","语文教师","农华妹","女","南宁师范大学师园学院小学教育专业","89.71","合格",{"$f":"VLOOKUP(D55,'[1]2021年扶绥县中小学幼儿园教师公开招聘第一批拟聘用人员名单'!$B$3:$K$123,10,0)","v":"合格"}]
[54,"扶绥县新宁镇第三小学","语文教师","李慧明","女","广西外国语学院文学院汉语言文学专业","90.88","合格",{"$f":"VLOOKUP(D56,'[1]2021年扶绥县中小学幼儿园教师公开招聘第一批拟聘用人员名单'!$B$3:$K$123,10,0)","v":"合格"}]
[55,"扶绥县新宁镇第三小学","数学教师","梁玉兰","女","南宁师范大学师园学院数学与应用数学专业","86.97","合格",{"$f":"VLOOKUP(D57,'[1]2021年扶绥县中小学幼儿园教师公开招聘第一批拟聘用人员名单'!$B$3:$K$123,10,0)","v":"优秀"}]
[56,"扶绥县新宁镇第四小学","音乐教师","黎小迷","女","广西艺术学院职业技术学校 音乐教育专业",82.71,"合格",{"$f":"VLOOKUP(D58,'[1]2021年扶绥县中小学幼儿园教师公开招聘第一批拟聘用人员名单'!$B$3:$K$123,10,0)","v":"优秀"}]
[57,"扶绥县新宁镇第四小学","美术教师","卢露阳","女","桂林理工大学艺术设计","88.89","合格",{"$f":"VLOOKUP(D59,'[1]2021年扶绥县中小学幼儿园教师公开招聘第一批拟聘用人员名单'!$B$3:$K$123,10,0)","v":"优秀"}]
[58,"扶绥县山圩镇中心小学","小学语文（1）","黄甄妮","女","广西经贸职业技术学院",90.14,"合格",{"$f":"VLOOKUP(D60,'[1]2021年扶绥县中小学幼儿园教师公开招聘第一批拟聘用人员名单'!$B$3:$K$123,10,0)","v":"优秀"}]
[59,"扶绥县山圩镇中心小学","小学语文（1）","玉林程","女","广西卫生职业技术学院药学","89.76","合格",{"$f":"VLOOKUP(D61,'[1]2021年扶绥县中小学幼儿园教师公开招聘第一批拟聘用人员名单'!$B$3:$K$123,10,0)","v":"优秀"}]
[60,"扶绥县山圩镇中心小学","小学语文（2）","黄雯","女","百色学院 新闻采编与制作","91.960","合格",{"$f":"VLOOKUP(D62,'[1]2021年扶绥县中小学幼儿园教师公开招聘第一批拟聘用人员名单'!$B$3:$K$123,10,0)","v":"优秀"}]
[61,"扶绥县山圩镇中心小学","数学教师","周小燕","女","广西贸易经济学校公关文秘","88.37","合格",{"$f":"VLOOKUP(D63,'[1]2021年扶绥县中小学幼儿园教师公开招聘第一批拟聘用人员名单'!$B$3:$K$123,10,0)","v":"优秀"}]
[62,"扶绥县山圩镇中心小学","体育教师","李国燕","女","广西民族中等专业学校","88.69","合格",{"$f":"VLOOKUP(D64,'[1]2021年扶绥县中小学幼儿园教师公开招聘第一批拟聘用人员名单'!$B$3:$K$123,10,0)","v":"合格"}]
[63,"扶绥县山圩镇第二小学","语文教师","龚丹","女","四川工商学院会计专业","88.80","合格",{"$f":"VLOOKUP(D65,'[1]2021年扶绥县中小学幼儿园教师公开招聘第一批拟聘用人员名单'!$B$3:$K$123,10,0)","v":"优秀"}]
[64,"扶绥县山圩镇第二小学","语文教师","何文荟","女","广西幼儿师范高等专科学校","89.12","合格",{"$f":"VLOOKUP(D66,'[1]2021年扶绥县中小学幼儿园教师公开招聘第一批拟聘用人员名单'!$B$3:$K$123,10,0)","v":"合格"}]
[65,"扶绥县山圩镇第二小学","数学教师","梁梅香","女","南宁地区第一民族师范学校","89.00","合格",{"$f":"VLOOKUP(D67,'[1]2021年扶绥县中小学幼儿园教师公开招聘第一批拟聘用人员名单'!$B$3:$K$123,10,0)","v":"优秀"}]
[66,"扶绥县山圩镇第二小学","英语教师","何冰","女","桂林师范高等专科学校应用英语专业",83.06,"合格",{"$f":"VLOOKUP(D68,'[1]2021年扶绥县中小学幼儿园教师公开招聘第一批拟聘用人员名单'!$B$3:$K$123,10,0)","v":"优秀"}]
[67,"扶绥县山圩镇第二小学","美术教师","范平生","男","桂林师范高等专科学校美术教育专业","82.82","合格",{"$f":"VLOOKUP(D69,'[1]2021年扶绥县中小学幼儿园教师公开招聘第一批拟聘用人员名单'!$B$3:$K$123,10,0)","v":"优秀"}]
[68,"扶绥县东门镇龙腾家园小学","信息技术教师","左鑫","男","普洱学院计算机信息管理专业","84.30","合格",{"$f":"VLOOKUP(D70,'[1]2021年扶绥县中小学幼儿园教师公开招聘第一批拟聘用人员名单'!$B$3:$K$123,10,0)","v":"合格"}]
[69,"扶绥县柳桥镇中心小学","美术教师","赵曼余","女","厦门南洋职业学院环境艺术设计专业","81.46","合格",{"$f":"VLOOKUP(D71,'[1]2021年扶绥县中小学幼儿园教师公开招聘第一批拟聘用人员名单'!$B$3:$K$123,10,0)","v":"合格"}]
[70,"扶绥县柳桥镇西长小学","英语教师","李丽兴","女","河南省黄淮学院初中英语教育专业",79.81,"合格",{"$f":"VLOOKUP(D72,'[1]2021年扶绥县中小学幼儿园教师公开招聘第一批拟聘用人员名单'!$B$3:$K$123,10,0)","v":"优秀"}]
[71,"扶绥县昌平乡中心小学","体育教师","李林江","男","南宁职业技术学院 体育服务与管理","84.43","合格",{"$f":"VLOOKUP(D73,'[1]2021年扶绥县中小学幼儿园教师公开招聘第一批拟聘用人员名单'!$B$3:$K$123,10,0)","v":"优秀"}]
[72,"扶绥县直属机关第一幼儿园","幼儿园教师（1）","黄原慧","女","广西幼儿师范高等专科学校","82.77","合格",{"$f":"VLOOKUP(D74,'[1]2021年扶绥县中小学幼儿园教师公开招聘第一批拟聘用人员名单'!$B$3:$K$123,10,0)","v":"优秀"}]
[73,"扶绥县直属机关第一幼儿园","幼儿园教师（2）","李梅瑛","女","广西幼儿师范高等专科学校学前教育","79.95","合格",{"$f":"VLOOKUP(D75,'[1]2021年扶绥县中小学幼儿园教师公开招聘第一批拟聘用人员名单'!$B$3:$K$123,10,0)","v":"优秀"}]
[74,"扶绥县直属机关第一幼儿园","幼儿园教师（2）","梁慧婷","女","广西幼儿师范高等专科学校学前教育","84.65","合格",{"$f":"VLOOKUP(D76,'[1]2021年扶绥县中小学幼儿园教师公开招聘第一批拟聘用人员名单'!$B$3:$K$123,10,0)","v":"优秀"}]
[75,"扶绥县直属机关第二幼儿园","幼儿园教师（1）","陈艳珍","女","广西民族师范学院师园学院学前教育专业","81.54","合格",{"$f":"VLOOKUP(D77,'[1]2021年扶绥县中小学幼儿园教师公开招聘第一批拟聘用人员名单'!$B$3:$K$123,10,0)","v":"优秀"}]
[76,"扶绥县直属机关第二幼儿园","幼儿园教师（2）","黄守瑚","女","广西幼儿师范高等专科学校学前教育专业","77.73","合格",{"$f":"VLOOKUP(D78,'[1]2021年扶绥县中小学幼儿园教师公开招聘第一批拟聘用人员名单'!$B$3:$K$123,10,0)","v":"合格"}]
[77,"扶绥县直属机关第二幼儿园","幼儿园教师（2）","李彩","女","钦州学院教育学院学前教育专业","80.07","合格",{"$f":"VLOOKUP(D79,'[1]2021年扶绥县中小学幼儿园教师公开招聘第一批拟聘用人员名单'!$B$3:$K$123,10,0)","v":"合格"}]
[78,"扶绥县直属机关第三幼儿园","幼儿园教师（1）","黄小凯","女","百色学院教育科学学院学前教育专业","81.99","合格",{"$f":"VLOOKUP(D80,'[1]2021年扶绥县中小学幼儿园教师公开招聘第一批拟聘用人员名单'!$B$3:$K$123,10,0)","v":"合格"}]
[79,"扶绥县直属机关第三幼儿园","幼儿园教师（1）","梁印","男","广西幼儿师范高等专科学校学前教育","83.79","合格",{"$f":"VLOOKUP(D81,'[1]2021年扶绥县中小学幼儿园教师公开招聘第一批拟聘用人员名单'!$B$3:$K$123,10,0)","v":"合格"}]
[80,"扶绥县直属机关第三幼儿园","幼儿园教师（2）","李书瑶","女","柳州城市职业学院学前教育专业","76.60","合格",{"$f":"VLOOKUP(D82,'[1]2021年扶绥县中小学幼儿园教师公开招聘第一批拟聘用人员名单'!$B$3:$K$123,10,0)","v":"合格"}]
[81,"扶绥县直属机关第三幼儿园","幼儿园教师（2）","白玉婷","女","玉林师范学院 学前教育","77.32","合格",{"$f":"VLOOKUP(D83,'[1]2021年扶绥县中小学幼儿园教师公开招聘第一批拟聘用人员名单'!$B$3:$K$123,10,0)","v":"优秀"}]
[82,"扶绥县直属机关第三幼儿园","幼儿园教师（3）","黄碧云","女","连云港师范高等专科学校 学前教育","71.75","合格",{"$f":"VLOOKUP(D84,'[1]2021年扶绥县中小学幼儿园教师公开招聘第一批拟聘用人员名单'!$B$3:$K$123,10,0)","v":"优秀"}]
[83,"扶绥县直属机关第三幼儿园","幼儿园教师（3）","黄海云","女","柳州师范高等专科学校汉语","78.06","合格",{"$f":"VLOOKUP(D85,'[1]2021年扶绥县中小学幼儿园教师公开招聘第一批拟聘用人员名单'!$B$3:$K$123,10,0)","v":"优秀"}]
[84,"扶绥县直属机关第三幼儿园","幼儿园教师（3）","吴雪丽","女","广西幼儿师范高等专科学校 学前教育","70.42","合格",{"$f":"VLOOKUP(D86,'[1]2021年扶绥县中小学幼儿园教师公开招聘第一批拟聘用人员名单'!$B$3:$K$123,10,0)","v":"优秀"}]
[85,"扶绥县新宁镇中心幼儿园","幼儿园教师（1）","卢燕","女","广西幼儿师范高等专科学校","80.24","合格",{"$f":"VLOOKUP(D87,'[1]2021年扶绥县中小学幼儿园教师公开招聘第一批拟聘用人员名单'!$B$3:$K$123,10,0)","v":"合格"}]
[86,"扶绥县新宁镇中心幼儿园","幼儿园教师（1）","潘翠颖","女","广西师范大学学前教育","83.27","合格",{"$f":"VLOOKUP(D88,'[1]2021年扶绥县中小学幼儿园教师公开招聘第一批拟聘用人员名单'!$B$3:$K$123,10,0)","v":"合格"}]
[87,"扶绥县新宁镇中心幼儿园","幼儿园教师（2）","梁永冰","女","梧州学院教师教育学院学前教育专业","80.25","合格",{"$f":"VLOOKUP(D89,'[1]2021年扶绥县中小学幼儿园教师公开招聘第一批拟聘用人员名单'!$B$3:$K$123,10,0)","v":"优秀"}]
[88,"扶绥县新宁镇中心幼儿园","幼儿园教师（2）","韦志群","女","广西科技师范学院","74.74","合格",{"$f":"VLOOKUP(D90,'[1]2021年扶绥县中小学幼儿园教师公开招聘第一批拟聘用人员名单'!$B$3:$K$123,10,0)","v":"合格"}]
[89,"扶绥县新宁镇中心幼儿园","幼儿园教师（3）","梁艳艳","女","贺州学院 英语专业","82.01","合格",{"$f":"VLOOKUP(D91,'[1]2021年扶绥县中小学幼儿园教师公开招聘第一批拟聘用人员名单'!$B$3:$K$123,10,0)","v":"优秀"}]
[90,"扶绥县新宁镇中心幼儿园","幼儿园教师（3）","冼邹燕","女","百色学院教育科学系学前教育专业","77.08","合格",{"$f":"VLOOKUP(D92,'[1]2021年扶绥县中小学幼儿园教师公开招聘第一批拟聘用人员名单'!$B$3:$K$123,10,0)","v":"优秀"}]
[91,"扶绥县新宁镇中心幼儿园","幼儿园教师（3）","李娜娟","女","广西教育学院学前教育专业","76.91","合格",{"$f":"VLOOKUP(D93,'[1]2021年扶绥县中小学幼儿园教师公开招聘第一批拟聘用人员名单'!$B$3:$K$123,10,0)","v":"优秀"}]
[92,"扶绥县龙头乡中心幼儿园","幼儿园教师","甘敬丹","女","广西幼儿师范高等专科学校舞蹈表演舞蹈教育方向","79.56","合格",{"$f":"VLOOKUP(D94,'[1]2021年扶绥县中小学幼儿园教师公开招聘第一批拟聘用人员名单'!$B$3:$K$123,10,0)","v":"合格"}]
[93,"扶绥县龙头乡中心幼儿园","幼儿园教师","肖华营","女","中央广播电视大学","84.30","合格",{"$f":"VLOOKUP(D95,'[1]2021年扶绥县中小学幼儿园教师公开招聘第一批拟聘用人员名单'!$B$3:$K$123,10,0)","v":"优秀"}]
[94,"扶绥县龙头乡中心幼儿园","幼儿园教师","伦璐霞","女","南宁市第二师范学校学前教育","76.32","合格",{"$f":"VLOOKUP(D96,'[1]2021年扶绥县中小学幼儿园教师公开招聘第一批拟聘用人员名单'!$B$3:$K$123,10,0)","v":"合格"}]
[95,"扶绥县昌平乡中心幼儿园","幼儿园教师（1）","赵海珍","女","广西师范学院学前教育","74.73","合格",{"$f":"VLOOKUP(D97,'[1]2021年扶绥县中小学幼儿园教师公开招聘第一批拟聘用人员名单'!$B$3:$K$123,10,0)","v":"优秀"}]
[96,"扶绥县昌平乡中心幼儿园","幼儿园教师（1）","阮小芳","女","南宁师范高等专科学校（崇左校区）","80.35","合格",{"$f":"VLOOKUP(D98,'[1]2021年扶绥县中小学幼儿园教师公开招聘第一批拟聘用人员名单'!$B$3:$K$123,10,0)","v":"合格"}]
[97,"扶绥县昌平乡中心幼儿园","幼儿园教师（2）","黎薇薇","女","广西河池市巴马民族师范学校学前教育","88.26","合格",{"$f":"VLOOKUP(D99,'[1]2021年扶绥县中小学幼儿园教师公开招聘第一批拟聘用人员名单'!$B$3:$K$123,10,0)","v":"优秀"}]
[98,"扶绥县渠黎镇中心幼儿园","幼儿园教师（1）","黄晓放","女","广西职业技术学校","84.44","合格",{"$f":"VLOOKUP(D100,'[1]2021年扶绥县中小学幼儿园教师公开招聘第一批拟聘用人员名单'!$B$3:$K$123,10,0)","v":"优秀"}]
[99,"扶绥县渠黎镇中心幼儿园","幼儿园教师（1）","杨凤琴","女","广西经济职业学院行政管理","80.72","合格",{"$f":"VLOOKUP(D101,'[1]2021年扶绥县中小学幼儿园教师公开招聘第一批拟聘用人员名单'!$B$3:$K$123,10,0)","v":"优秀"}]
[100,"扶绥县渠黎镇中心幼儿园","幼儿园教师（2）","钟醒颖","女","国家开发大学","85.36","合格",{"$f":"VLOOKUP(D102,'[1]2021年扶绥县中小学幼儿园教师公开招聘第一批拟聘用人员名单'!$B$3:$K$123,10,0)","v":"优秀"}]
[101,"扶绥县渠黎镇汪庄幼儿园","幼儿园教师","李英","女","广西教育学院","84.48","合格",{"$f":"VLOOKUP(D103,'[1]2021年扶绥县中小学幼儿园教师公开招聘第一批拟聘用人员名单'!$B$3:$K$123,10,0)","v":"优秀"}]
[102,"扶绥县渠黎镇汪庄幼儿园","幼儿园教师","甘霞","女","南宁市第二师范学校 学前教育专业","82.82","合格",{"$f":"VLOOKUP(D104,'[1]2021年扶绥县中小学幼儿园教师公开招聘第一批拟聘用人员名单'!$B$3:$K$123,10,0)","v":"优秀"}]
[103,"广西中国-东盟青年产业园幼儿园","幼儿园教师","韦婕","女","  中央广播电视大学","82.92","合格",{"$f":"VLOOKUP(D105,'[1]2021年扶绥县中小学幼儿园教师公开招聘第一批拟聘用人员名单'!$B$3:$K$123,10,0)","v":"合格"}]
[104,"扶绥县东罗镇中心幼儿园","幼儿园教师","韦迈英","女","西南大学 学前教育","81.44","合格",{"$f":"VLOOKUP(D106,'[1]2021年扶绥县中小学幼儿园教师公开招聘第一批拟聘用人员名单'!$B$3:$K$123,10,0)","v":"优秀"}]
[105,"扶绥县东罗镇中心幼儿园","幼儿园教师","刘忠叶","女","贵州省平塘县者密镇者密中学","81.95","合格",{"$f":"VLOOKUP(D107,'[1]2021年扶绥县中小学幼儿园教师公开招聘第一批拟聘用人员名单'!$B$3:$K$123,10,0)","v":"优秀"}]
[106,"扶绥县东罗镇中心幼儿园","幼儿园教师","黄丽明","女"," 国家开放大学学前教育专业","84.75","合格",{"$f":"VLOOKUP(D108,'[1]2021年扶绥县中小学幼儿园教师公开招聘第一批拟聘用人员名单'!$B$3:$K$123,10,0)","v":"优秀"}]
[107,"扶绥县山圩镇中心幼儿园","幼儿园教师（1）","黄丽珍","女","广西幼儿师范高等专科学校 学前教育专业","73.72","合格",{"$f":"VLOOKUP(D109,'[1]2021年扶绥县中小学幼儿园教师公开招聘第一批拟聘用人员名单'!$B$3:$K$123,10,0)","v":"优秀"}]
[108,"扶绥县山圩镇中心幼儿园","幼儿园教师（1）","黄小燕","女"," 广西师范大学学前教育","70.60","合格",{"$f":"VLOOKUP(D110,'[1]2021年扶绥县中小学幼儿园教师公开招聘第一批拟聘用人员名单'!$B$3:$K$123,10,0)","v":"合格"}]
[109,"扶绥县山圩镇中心幼儿园","幼儿园教师（2）","马家静","女","国家开放大学","76.01","合格",{"$f":"VLOOKUP(D111,'[1]2021年扶绥县中小学幼儿园教师公开招聘第一批拟聘用人员名单'!$B$3:$K$123,10,0)","v":"合格"}]
[110,"扶绥县山圩镇中心幼儿园","幼儿园教师","黎彩敏","女","广西幼儿师范高等专科学校幼儿教育","85.18","合格","合格"]
[111,"扶绥县新宁镇水边幼儿园","幼儿园教师","梁宁秀","女","广西师范大学学前教育专业","85.25","合格",{"$f":"VLOOKUP(D113,'[1]2021年扶绥县中小学幼儿园教师公开招聘第一批拟聘用人员名单'!$B$3:$K$123,10,0)","v":"优秀"}]
[112,"扶绥县柳桥镇中心幼儿园","幼儿园教师","颜妍明","女","  广西师范学院","75.58","合格",{"$f":"VLOOKUP(D114,'[1]2021年扶绥县中小学幼儿园教师公开招聘第一批拟聘用人员名单'!$B$3:$K$123,10,0)","v":"优秀"}]
[113,"扶绥县柳桥镇西长幼儿园","幼儿园教师","黄小青","女","桂林师范高等专科学校学前教育专业","71.44","合格",{"$f":"VLOOKUP(D115,'[1]2021年扶绥县中小学幼儿园教师公开招聘第一批拟聘用人员名单'!$B$3:$K$123,10,0)","v":"合格"}]
[114,"扶绥县中东镇中心幼儿园","幼儿园教师","梁喜英","女","广西师范学院","83.64","合格",{"$f":"VLOOKUP(D116,'[1]2021年扶绥县中小学幼儿园教师公开招聘第一批拟聘用人员名单'!$B$3:$K$123,10,0)","v":"优秀"}]
[115,"扶绥县中东镇中心幼儿园","幼儿园教师","邓康玲","女","国家开放大学学前教育","83.70","合格",{"$f":"VLOOKUP(D117,'[1]2021年扶绥县中小学幼儿园教师公开招聘第一批拟聘用人员名单'!$B$3:$K$123,10,0)","v":"优秀"}]
[116,"扶绥县中东镇三哨幼儿园","幼儿园教师","陆彩云","女","   广西师范学院学前教育","82.94","合格",{"$f":"VLOOKUP(D118,'[1]2021年扶绥县中小学幼儿园教师公开招聘第一批拟聘用人员名单'!$B$3:$K$123,10,0)","v":"优秀"}]
[117,"扶绥县中东镇三哨幼儿园","幼儿园教师","黄娴雪","女","广西师范大学学前教育专业","84.40","合格",{"$f":"VLOOKUP(D119,'[1]2021年扶绥县中小学幼儿园教师公开招聘第一批拟聘用人员名单'!$B$3:$K$123,10,0)","v":"合格"}]
[118,"扶绥县岜盆乡中心幼儿园","幼儿园教师","谭海娴","女","广西职业技术学院","84.81","合格",{"$f":"VLOOKUP(D120,'[1]2021年扶绥县中小学幼儿园教师公开招聘第一批拟聘用人员名单'!$B$3:$K$123,10,0)","v":"优秀"}]
[119,"扶绥县东门镇第二幼儿园","幼儿园教师","黄桂夏","女","广西幼儿师范高等专科学校","81.32","合格",{"$f":"VLOOKUP(D121,'[1]2021年扶绥县中小学幼儿园教师公开招聘第一批拟聘用人员名单'!$B$3:$K$123,10,0)","v":"优秀"}]
[120,"扶绥县东门镇第二幼儿园","幼儿园教师","陈妹华","女","南宁市商贸学校学前教育","79.76","合格",{"$f":"VLOOKUP(D122,'[1]2021年扶绥县中小学幼儿园教师公开招聘第一批拟聘用人员名单'!$B$3:$K$123,10,0)","v":"优秀"}]
[121,"扶绥县东门镇龙腾家园幼儿园","幼儿园教师","曾少婷","女","广西师范学院","74.76","合格",{"$f":"VLOOKUP(D123,'[1]2021年扶绥县中小学幼儿园教师公开招聘第一批拟聘用人员名单'!$B$3:$K$123,10,0)","v":"优秀"}]
[122,"扶绥县东门镇龙腾家园幼儿园","幼儿园教师","施金秀","女","  广西师范大学","78.95","合格",{"$f":"VLOOKUP(D124,'[1]2021年扶绥县中小学幼儿园教师公开招聘第一批拟聘用人员名单'!$B$3:$K$123,10,0)","v":"优秀"}]

{"sheet":"Sheet3","index":1,"n_rows":0,"n_cols":0,"rows_kept":0}