{"text_format":"3","workbook":"xlsx","n_sheets":3,"sheets":["岗位信息表","技师学院专业筛查","专业筛查（存疑）"],"not_rendered":{"defined_names":4},"read":"whole","date_system":"1900"}

{"sheet":"岗位信息表","index":0,"n_rows":276,"n_cols":15,"rows_kept":276,"merged":[[0,0,0,13],[1,0,2,0],[1,1,2,1],[1,2,2,2],[1,3,2,3],[1,4,2,4],[1,5,2,5],[1,6,2,6],[1,7,1,11],[1,12,2,12],[1,13,2,13],[274,0,274,3],[275,0,275,13]]}
["唐山市2020年市直事业单位公开招聘工作人员岗位信息表"]
["序号","主管\n部门","单位\n名称","经费\n形式","拟招聘\n人数（人）","招聘\n岗位\n名称","笔试\n专业\n类别","拟招聘岗位条件",{"$nulls":4},"备注","是否\n选聘"]
[{"$nulls":7},"学历\n底限","学位\n底限","年龄","专业或专业类别","其他"]
[1,"中国共产党唐山市委员会","所属事业单位A","全额",2,"岗位1","综合类","本科","学士","30周岁及以下","具体专业名称：软件工程、物联网工程、数字媒体艺术","限高校毕业生；中共党员或共青团员，需要政审","长期加班、值班，工作条件艰苦","否","\n\n"]
[2,"中国共产党唐山市委员会","所属事业单位B","全额",1,"岗位2","综合类","本科","学士","30周岁及以下","具体专业名称：法学、法律、宪法学与行政法学、经济法学","限高校毕业生；中共党员或共青团员，需要政审","长期加班、值班，工作条件艰苦","否","\n\n"]
[3,"中国共产党唐山市委员会","所属事业单位C","全额",1,"岗位3","综合类","本科","学士","30周岁及以下","具体专业名称：软件工程、物联网工程、计算机软件与理论","限高校毕业生；中共党员或共青团员，需要政审","长期加班、值班，工作条件艰苦","否","\n\n"]
[4,"中国共产党唐山市委员会政法委员会","唐山市综治中心","全额",1,"岗位4","综合类","本科","学士","35周岁及以下","具体专业名称：计算机科学与技术、网络工程、通信工程、软件工程、电子信息工程、信息工程","限高校毕业生",null,"否","\n\n"]
[5,"唐山市总工会","唐山市总工会职工服务中心","差额",1,"岗位5","综合类","本科","学士","30周岁及以下","具体专业名称：会计、会计学、财务管理、财务管理学","限高校毕业生",null,"否","\n\n"]
[6,"唐山市科学技术协会","唐山科技馆","全额",1,"岗位6","综合类","本科","学士","30周岁及以下","具体专业名称：人力资源管理、行政管理、会计学、财务管理、汉语言文学、秘书学","限高校毕业生",null,"否","\n\n"]
[7,"唐山市残疾人联合会","唐山市残疾人劳动就业服务中心","全额",1,"岗位7","综合类","本科","学士","35周岁及以下","具体专业名称：公共管理、网络工程、会计学、国际经济与贸易","限高校毕业生",null,"否","\n\n"]
[8,"唐山市残疾人联合会","唐山康复教育中心","全额",1,"岗位8","综合类","本科","学士","35周岁及以下","具体专业名称：针灸推拿学、中医骨伤科学、应用心理学","限高校毕业生",null,"否","\n\n"]
[9,"唐山市残疾人联合会","唐山康复教育中心","全额",1,"岗位9","综合类","硕士研究生","硕士","30周岁及以下","具体专业名称：教育经济与管理、教师发展与管理、会展管理",null,null,"否","\n\n"]
[10,"唐山市残疾人联合会","唐山康复教育中心","全额",1,"岗位10","教育类","本科","学士","35周岁及以下","具体专业名称：特殊教育、特殊教育学","限高校毕业生",null,"否","\n\n"]
[11,"唐山市发展和改革委员会","唐山市节能监察支队","全额",1,"岗位11","综合类","硕士研究生","硕士","30周岁及以下","具体专业名称：化学工程与技术、化学工程、化学工艺","限高校毕业生","工作条件艰苦","是","\n\n"]
[12,"唐山市发展和改革委员会","唐山市节能监察支队","全额",1,"岗位12","综合类","本科","学士","35周岁及以下","具体专业名称：自动化、检测技术与自动化装置、工商管理、审计学","限高校毕业生","工作条件艰苦","否","\n\n"]
[13,"唐山市发展和改革委员会","唐山市节能监察支队","全额",1,"岗位13","综合类","本科","学士","35周岁及以下","具体专业名称：自动化、检测技术与自动化装置、工商管理、审计学",null,"工作条件艰苦；具有初级及以上职称证书的年龄可放宽到40周岁及以下","否","\n\n"]
[14,"唐山市教育局","唐山市第一中学","全额",1,"岗位14","教育类","硕士研究生","硕士","35周岁及以下","具体专业名称：学科教学（化学）\n研究生一级学科：化学、化学工程与技术、材料与化工",null,null,"是","\n\n"]
[15,"唐山市教育局","唐山市第一中学","全额",2,"岗位15","教育类","硕士研究生","硕士","35周岁及以下","具体专业名称：学科教学（生物）\n研究生一级学科：生物学","限高校毕业生",null,"是","\n\n"]
[16,"唐山市教育局","唐山市第一中学","全额",1,"岗位16","教育类","硕士研究生","硕士","35周岁及以下","具体专业名称：学科教学（思政）、学科教学（思想政治教育）、思想政治教育\n研究生一级学科：政治学","限高校毕业生",null,"是","\n\n\n"]
[17,"唐山市教育局","唐山市第一中学","全额",1,"岗位17","教育类","硕士研究生","硕士","35周岁及以下","具体专业名称：体育教育学、体育教育与管理、体育教育与社会体育、体育文化与管理、学校体育教育学、学科教学（体育）\n研究生一级学科：体育学、体育","限高校毕业生",null,"是","\n\n\n"]
[18,"唐山市教育局","唐山市第一中学","全额",1,"岗位18","教育类","硕士研究生","硕士","35周岁及以下","具体专业名称：学科教学（语文）、语文教育、国际汉语教育、汉语国际教育、汉语言文化国际教育\n研究生一级学科：中国语言文学",null,null,"是","\n\n\n"]
[19,"唐山市教育局","唐山市第一中学","全额",2,"岗位19","教育类","硕士研究生","硕士","35周岁及以下","具体专业名称：学科教学（数学）\n研究生一级学科：数学","限高校毕业生",null,"是","\n\n"]
[20,"唐山市教育局","唐山市第一中学","全额",1,"岗位20","教育类","硕士研究生","硕士","35周岁及以下","具体专业名称：学科教学（物理）\n研究生一级学科：物理学、地球物理学",null,null,"是","\n\n"]
[21,"唐山市教育局","唐山市第一中学","全额",1,"岗位21","教育类","硕士研究生","硕士","35周岁及以下","研究生一级学科：计算机科学与技术、软件工程","限高校毕业生",null,"是","\n\n"]
[22,"唐山市教育局","唐山市第二中学","全额",1,"岗位22","教育类","硕士研究生","硕士","35周岁及以下","具体专业名称：学科教学（数学）\n研究生一级学科：数学","限高校毕业生",null,"是","\n\n"]
[23,"唐山市教育局","唐山市第二中学","全额",1,"岗位23","教育类","硕士研究生","硕士","35周岁及以下","具体专业名称：学科教学（物理）\n研究生一级学科：物理学、地球物理学","限高校毕业生",null,"是","\n\n"]
[24,"唐山市教育局","唐山市第二中学","全额",1,"岗位24","教育类","硕士研究生","硕士","35周岁及以下","具体专业名称：学科教学（化学）\n研究生一级学科：化学、化学工程与技术、材料与化工","限高校毕业生",null,"是","\n\n"]
[25,"唐山市教育局","唐山市第二中学","全额",2,"岗位25","教育类","硕士研究生","硕士","35周岁及以下","具体专业名称：学科教学（语文）、语文教育、国际汉语教育、汉语国际教育、汉语言文化国际教育\n研究生一级学科：中国语言文学","限高校毕业生",null,"是","\n\n\n"]
[26,"唐山市教育局","唐山市第二中学","全额",1,"岗位26","教育类","硕士研究生","硕士","35周岁及以下","具体专业名称：学科教学（英语）、英语教育、英语语言文学、英语笔译、英语口译、外国语言学及应用语言学","限高校毕业生",null,"是","\n\n"]
[27,"唐山市教育局","唐山市第二中学","全额",2,"岗位27","教育类","硕士研究生","硕士","35周岁及以下","具体专业名称：学科教学（生物）\n研究生一级学科：生物学","限高校毕业生",null,"是","\n\n"]
[28,"唐山市教育局","唐山市第二中学","全额",2,"岗位28","教育类","硕士研究生","硕士","35周岁及以下","具体专业名称：学科教学（历史）、历史学教育、历史教育学、马克思主义与中国历史进程研究\n研究生一级学科：历史学、军事思想及军事历史、中国史","限高校毕业生",null,"是","\n\n\n"]
[29,"唐山市教育局","唐山市第二中学","全额",7,"岗位29","教育类","硕士研究生","硕士","35周岁及以下","具体专业名称：学科教学（地理）、地理教育学\n研究生一级学科：地理学","限高校毕业生",null,"是","\n\n"]
[30,"唐山市教育局","唐山市第二中学","全额",2,"岗位30","教育类","硕士研究生","硕士","35周岁及以下","具体专业名称：学科教学（思政）、学科教学（思想政治教育）、思想政治教育\n研究生一级学科：政治学","限高校毕业生",null,"是","\n\n\n"]
[31,"唐山市教育局","唐山市开滦第一中学","全额",1,"岗位31","教育类","硕士研究生","硕士","30周岁及以下","具体专业名称：学科教学（语文）、语文教育、国际汉语教育、汉语国际教育、汉语言文化国际教育\n研究生一级学科：中国语言文学","限高校毕业生",null,"是","\n\n\n"]
[32,"唐山市教育局","唐山市开滦第一中学","全额",1,"岗位32","教育类","硕士研究生","硕士","30周岁及以下","具体专业名称：学科教学（语文）、语文教育、国际汉语教育、汉语国际教育、汉语言文化国际教育\n研究生一级学科：中国语言文学","具有高级中学及以上教师资格证书","高校毕业生可“先上岗、再考证”","是","\n\n\n"]
[33,"唐山市教育局","唐山市开滦第一中学","全额",1,"岗位33","教育类","硕士研究生","硕士","30周岁及以下","具体专业名称：学科教学（英语）、英语教育、国际商务英语、英语语言文学、商务英语研究、英语笔译、英语口译","限高校毕业生",null,"是","\n\n"]
[34,"唐山市教育局","唐山市开滦第一中学","全额",1,"岗位34","教育类","硕士研究生","硕士","30周岁及以下","具体专业名称：学科教学（英语）、英语教育、国际商务英语、英语语言文学、商务英语研究、英语笔译、英语口译","具有高级中学及以上教师资格证书","高校毕业生可“先上岗、再考证”","是","\n\n"]
[35,"唐山市教育局","唐山市开滦第一中学","全额",1,"岗位35","教育类","硕士研究生","硕士","30周岁及以下","具体专业名称：学科教学（数学）\n研究生一级学科：数学","限高校毕业生",null,"是","\n\n"]
[36,"唐山市教育局","唐山市开滦第一中学","全额",1,"岗位36","教育类","硕士研究生","硕士","30周岁及以下","具体专业名称：学科教学（数学）\n研究生一级学科：数学","具有高级中学及以上教师资格证书","高校毕业生可“先上岗、再考证”","是","\n\n"]
[37,"唐山市教育局","唐山市开滦第一中学","全额",1,"岗位37","教育类","硕士研究生","硕士","30周岁及以下","具体专业名称：学科教学（音乐）、音乐教育学、音乐学（音乐教育）、音乐教育与传统研究、音乐文化教育与实践、音乐、北方少数民族音乐研究、民族音乐学、体育表演与音乐学、音乐表演、音乐表演理论与实践、音乐表演与理论研究、音乐文化学、音乐文学、区域音乐与舞蹈文化、音乐评论、戏剧与影视音乐、音乐表演理论、音乐学","限高校毕业生；本硕为相关专业",null,"是","\n\n\n\n\n\n\n"]
[38,"唐山市教育局","唐山市开滦第一中学","全额",1,"岗位38","教育类","硕士研究生","硕士","30周岁及以下","研究生一级学科：计算机科学与技术、软件工程","限高校毕业生",null,"是","\n\n"]
[39,"唐山市教育局","唐山市开滦第一中学","全额",1,"岗位39","教育类","硕士研究生","硕士","30周岁及以下","研究生一级学科：计算机科学与技术、软件工程","具有高级中学及以上教师资格证书","高校毕业生可“先上岗、再考证”","是","\n\n"]
[40,"唐山市教育局","唐山市开滦第二中学","全额",4,"岗位40","教育类","硕士研究生","硕士","40周岁及以下","具体专业名称：语文教育、新闻学、语言学及应用语言学、中国古代文学、中国现当代文学、比较文学与世界文学、汉语国际教育、国际汉语教学、现代汉语语言学、现代语言理论与语言应用、文学与语文教育、中外语言文化比较研究、中外语言文化比较与会通","限高校毕业生",null,"是","\n\n\n\n\n\n"]
[41,"唐山市教育局","唐山市开滦第二中学","全额",4,"岗位41","教育类","硕士研究生","硕士","40周岁及以下","研究生一级学科：数学","限高校毕业生",null,"是","\n\n"]
[42,"唐山市教育局","唐山市开滦第二中学","全额",4,"岗位42","教育类","硕士研究生","硕士","40周岁及以下","具体专业名称：英语教育、英语语言文学、英语笔译、英语口译","限高校毕业生",null,"是","\n\n"]
[43,"唐山市教育局","唐山市开滦第二中学","全额",4,"岗位43","教育类","硕士研究生","硕士","40周岁及以下","研究生一级学科：物理学","限高校毕业生",null,"是","\n\n"]
[44,"唐山市教育局","唐山市开滦第二中学","全额",2,"岗位44","教育类","硕士研究生","硕士","40周岁及以下","研究生一级学科：生物学","限高校毕业生",null,"是","\n\n"]
[45,"唐山市教育局","唐山市开滦第二中学","全额",3,"岗位45","教育类","硕士研究生","硕士","40周岁及以下","具体专业名称：历史学教育、历史教育学\n研究生一级学科：历史学、中国史","限高校毕业生",null,"是","\n\n"]
[46,"唐山市教育局","唐山市开滦第二中学","全额",5,"岗位46","教育类","硕士研究生","硕士","40周岁及以下","具体专业名称：地理教育学\n研究生一级学科：地理学","限高校毕业生",null,"是","\n\n"]
[47,"唐山市教育局","唐山市开滦第二中学","全额",1,"岗位47","教育类","硕士研究生","硕士","40周岁及以下","具体专业名称：思想政治教育\n研究生一级学科：政治学","限高校毕业生",null,"是","\n\n"]
[48,"唐山市教育局","唐山市开滦第二中学","全额",1,"岗位48","教育类","硕士研究生","硕士","40周岁及以下","具体专业名称：体育、体育教学、运动训练","限高校毕业生",null,"是","\n\n"]
[49,"唐山市教育局","唐山市开滦第二中学","全额",1,"岗位49","综合类","本科","学士","35周岁及以下","具体专业名称：会计学、财务管理、财务管理学","限高校毕业生","在古冶校区工作","否","\n\n"]
[50,"唐山市教育局","唐山市开滦第二中学","全额",1,"岗位50","医学类","本科","学士","35周岁及以下","具体专业名称：临床医学、基础医学","限高校毕业生","在古冶校区工作","否","\n\n"]
[51,"唐山市教育局","唐山市第八中学","全额",1,"岗位51","教育类","本科","学士","35周岁及以下","具体专业名称：数学与应用数学、数据计算及应用、学科教学（数学）","具有高级中学及以上教师资格证书","高校毕业生可“先上岗、再考证”；具有中小学一级教师及以上职称证书的年龄可放宽到40周岁及以下","否","\n\n\n"]
[52,"唐山市教育局","唐山市第八中学","全额",1,"岗位52","教育类","本科","学士","35周岁及以下","具体专业名称：法语、法语语言文学、法语笔译、法语口译","限高校毕业生",null,"否","\n\n"]
[53,"唐山市教育局","唐山市第八中学","全额",1,"岗位53","教育类","硕士研究生","硕士","35周岁及以下","具体专业名称：学科教学（历史）、历史教育学\n研究生一级学科：历史学、中国史","限高校毕业生",null,"否","\n\n"]
[54,"唐山市教育局","唐山市第八中学","全额",2,"岗位54","教育类","硕士研究生","硕士","35周岁及以下","具体专业名称：学科教学（地理）、地理教育学\n研究生一级学科：地理学","限高校毕业生",null,"否","\n\n"]
[55,"唐山市教育局","唐山市第八中学","全额",1,"岗位55","教育类","硕士研究生","硕士","35周岁及以下","具体专业名称：学科教学（地理）、地理教育学\n研究生一级学科：地理学","具有高级中学及以上相应学科教师资格证书","高校毕业生可“先上岗、再考证”","否","\n\n"]
[56,"唐山市教育局","唐山市第十中学","全额",1,"岗位56","教育类","硕士研究生","硕士","35周岁及以下","具体专业名称：学科教学（美术）、美术\n研究生一级学科：美术学","限高校毕业生；本硕为相关专业",null,"是","\n\n"]
[57,"唐山市教育局","唐山市第十中学","全额",1,"岗位57","教育类","硕士研究生","硕士","35周岁及以下","具体专业名称：学科教学（美术）、美术\n研究生一级学科：美术学","具有高级中学及以上教师资格证书；本硕为相关专业","高校毕业生可“先上岗、再考证”","是","\n\n"]
[58,"唐山市教育局","唐山市第十中学","全额",2,"岗位58","教育类","硕士研究生","硕士","40周岁及以下","具体专业名称：学科教学（语文）、语文教育、国际汉语教育、汉语国际教育、汉语言文化国际教育\n研究生一级学科：中国语言文学","限高校毕业生；本硕为相关专业",null,"是","\n\n\n"]
[59,"唐山市教育局","唐山市第十中学","全额",1,"岗位59","教育类","硕士研究生","硕士","40周岁及以下","具体专业名称：学科教学（数学）\n研究生一级学科：数学","限高校毕业生；本硕为相关专业",null,"是","\n\n"]
[60,"唐山市教育局","唐山市第十一中学","全额",1,"岗位60","教育类","硕士研究生","硕士","30周岁及以下","具体专业名称：学科教学（思政）、学科教学（思想政治教育）、思想政治教育\n研究生一级学科：哲学","限高校毕业生；本硕为相关专业",null,"是","\n\n\n"]
[61,"唐山市教育局","唐山市第十一中学","全额",1,"岗位61","教育类","硕士研究生","硕士","30周岁及以下","具体专业名称：教育管理与政策、教育行政学、教育管理学","具有高级中学及以上教师资格证书","高校毕业生可“先上岗、再考证”","是","\n\n"]
[62,"唐山市教育局","唐山市第十一中学","全额",1,"岗位62","教育类","硕士研究生","硕士","30周岁及以下","具体专业名称：学科教学（英语）、英语教育、英语口译","限高校毕业生；本硕为相关专业",null,"是","\n\n"]
[63,"唐山市教育局","唐山市第十一中学","全额",1,"岗位63","教育类","硕士研究生","硕士","30周岁及以下","具体专业名称：学科教学（物理）、物理教育、应用物理","限高校毕业生；本硕为相关专业",null,"是","\n\n"]
[64,"唐山市教育局","唐山市第十一中学","全额",1,"岗位64","教育类","本科","学士","30周岁及以下","具体专业名称：国际汉语教育、汉语言文学、中国古代文学","具有高级中学及以上教师资格证书","高校毕业生可“先上岗、再考证”","否","\n\n"]
[65,"唐山市教育局","唐山市第四幼儿园","全额",2,"岗位65","教育类","硕士研究生","硕士","35周岁及以下","具体专业名称：学前教育、学前教育学、教育管理","限高校毕业生；本硕为相关专业",null,"是","\n\n"]
[66,"唐山市教育局","唐山市第四幼儿园","全额",1,"岗位66","教育类","硕士研究生","硕士","35周岁及以下","具体专业名称：学前教育、学前教育学、教育管理","本硕为相关专业",null,"是","\n\n"]
[67,"唐山市教育局","唐山市第四幼儿园","全额",1,"岗位67","教育类","硕士研究生","硕士","40周岁及以下","具体专业名称：应用心理学、教育心理学、心理健康教育、心理教育、学习心理学与发展","限高校毕业生；本硕为相关专业",null,"是","\n\n"]
[68,"唐山市教育局","唐山师范学院附属幼儿园","全额",2,"岗位68","教育类","本科","学士","35周岁及以下","具体专业名称：学前教育、学前教育学","具有教师资格证书，具有中小学二级教师及以上职称证书",null,"否","\n\n"]
[69,"唐山市教育局","唐山师范学院附属幼儿园","全额",2,"岗位69","教育类","本科","学士","35周岁及以下","具体专业名称：学前教育、学前教育学","限高校毕业生",null,"否","\n\n"]
[70,"唐山市教育局","唐山师范学院附属幼儿园","全额",1,"岗位70","教育类","本科","学士","35周岁及以下","具体专业名称：美术学、绘画、中国画","限高校毕业生",null,"否","\n\n"]
[71,"唐山市教育局","唐山师范学院附属幼儿园","全额",1,"岗位71","综合类","本科","学士","35周岁及以下","具体专业名称：会计、会计学、财务管理","具有会计专业初级及以上职称证书",null,"否","\n\n"]
[72,"唐山市教育局","唐山市特殊教育学校","全额",1,"岗位72","教育类","硕士研究生","硕士","40周岁及以下","具体专业名称：学科教学（数学）、学科教学（语文）、语文教育、国际汉语教育、汉语国际教育、汉语言文化国际教育、学科教学（音乐）、民族音乐学、音乐表演、音乐表演理论与实践、音乐学（音乐教育）、音乐教育学、音乐教育与传承研究、音乐表演与理论研究、音乐文化教育与实践、音乐表演理论、音乐、音乐学\n研究生一级学科：数学、中国语言文学","限高校毕业生；本硕为相关专业",null,"是","\n\n\n\n\n\n\n"]
[73,"唐山市教育局","唐山市特殊教育学校","全额",1,"岗位73","教育类","硕士研究生","硕士","40周岁及以下","具体专业名称：学科教学（数学）、学科教学（语文）、语文教育、国际汉语教育、汉语国际教育、汉语言文化国际教育、学科教学（音乐）、民族音乐学、音乐表演、音乐表演理论与实践、音乐学（音乐教育）、音乐教育学、音乐教育与传承研究、音乐表演与理论研究、音乐文化教育与实践、音乐表演理论、音乐、音乐学\n研究生一级学科：数学、中国语言文学","具有高级中学及以上相应学科教师资格证书；本硕为相关专业","高校毕业生可“先上岗、再考证”","是","\n\n\n\n\n\n\n"]
[74,"唐山市民政局","唐山市民政综合执法监察支队","全额",1,"岗位74","综合类","本科","学士","35周岁及以下","具体专业名称：会计、会计学、财务管理、财务管理学","限高校毕业生",null,"否","\n\n"]
[75,"唐山市民政局","唐山市民政综合执法监察支队","全额",1,"岗位75","综合类","本科","学士","35周岁及以下","具体专业名称：审计学、会计学、法学\n研究生一级学科：法学","限高校毕业生",null,"否","\n\n"]
[76,"唐山市民政局","唐山市民政综合执法监察支队","全额",1,"岗位76","综合类","本科","学士","35周岁及以下","本科专业类：计算机类\n研究生一级学科：计算机科学与技术","限高校毕业生",null,"否","\n\n"]
[77,"唐山市民政局","唐山市民政事业服务中心","全额",1,"岗位77","医学类","本科","学士","30周岁及以下","本科专业类：临床医学类","限高校毕业生",null,"否","\n\n"]
[78,"唐山市民政局","唐山市民政事业服务中心","全额",1,"岗位78","医学类","本科","学士","30周岁及以下","本科专业类：临床医学类",null,null,"否","\n\n"]
[79,"唐山市民政局","唐山市按摩医院","差额",1,"岗位79","综合类","本科","学士","35周岁及以下","具体专业名称：人力资源管理、财务管理、新闻学、汉语言文学","限高校毕业生",null,"否","\n\n"]
[80,"唐山市民政局","唐山市按摩医院","差额",1,"岗位80","医学类","本科","学士","35周岁及以下","具体专业名称：中医学、针灸推拿学","限高校毕业生","工作条件艰苦，主要从事推拿岗位","否","\n\n"]
[81,"唐山市民政局","唐山市殡葬事业服务中心","差额",1,"岗位81","综合类","专科","不限","30周岁及以下","具体专业名称：现代殡葬技术与管理、现代殡仪技术与管理","限高校毕业生","从事火化工岗位，需要夜班处理遗体；工作条件艰苦","否","\n\n"]
[82,"唐山市民政局","唐山市殡葬事业服务中心","差额",1,"岗位82","综合类","专科","不限","30周岁及以下","具体专业名称：现代殡葬技术与管理、现代殡仪技术与管理",null,"从事火化工岗位，需要夜班处理遗体；工作条件艰苦","否","\n\n"]
[83,"唐山市民政局","唐山市殡葬事业服务中心","差额",1,"岗位83","综合类","本科","学士","35周岁及以下","具体专业名称：播音与主持艺术","限高校毕业生",null,"否","\n\n"]
[84,"唐山市民政局","唐山市殡葬事业服务中心","差额",1,"岗位84","综合类","本科","学士","35周岁及以下","具体专业名称：会计、会计学、财务管理","限高校毕业生",null,"否","\n\n"]
[85,"唐山市卫生健康委员会","唐山市人民医院","控制数",1,"岗位85","医学类","博士研究生","博士","45周岁及以下","具体专业名称：麻醉学","具有医师资格证书，资格证书类别为临床",null,"是","\n\n"]
[86,"唐山市卫生健康委员会","唐山市人民医院","控制数",1,"岗位86","医学类","博士研究生","博士","45周岁及以下","具体专业名称：影像医学与核医学","研究方向为超声诊断；具有医师资格证书，资格证书类别为临床",null,"是","\n\n"]
[87,"唐山市卫生健康委员会","唐山市人民医院","控制数",1,"岗位87","医学类","博士研究生","博士","45周岁及以下","具体专业名称：遗传学",null,null,"是","\n\n"]
[88,"唐山市卫生健康委员会","唐山市人民医院","控制数",1,"岗位88","医学类","硕士研究生","硕士","40周岁及以下","具体专业名称：内科学","研究方向为呼吸内科；具有医师资格证书，资格证书类别为临床；本硕为相关专业",null,"是","\n\n\n"]
[89,"唐山市卫生健康委员会","唐山市人民医院","控制数",1,"岗位89","医学类","硕士研究生","硕士","40周岁及以下","具体专业名称：内科学","限高校毕业生；研究方向为呼吸内科；本硕为相关专业",null,"是","\n\n"]
[90,"唐山市卫生健康委员会","唐山市人民医院","控制数",1,"岗位90","医学类","硕士研究生","硕士","40周岁及以下","具体专业名称：神经病学","具有医师资格证书，资格证书类别为临床；本硕为相关专业",null,"是","\n\n"]
[91,"唐山市卫生健康委员会","唐山市人民医院","控制数",1,"岗位91","医学类","硕士研究生","硕士","40周岁及以下","具体专业名称：神经病学","限高校毕业生；本硕为相关专业",null,"是","\n\n"]
[92,"唐山市卫生健康委员会","唐山市人民医院","控制数",1,"岗位92","医学类","硕士研究生","硕士","40周岁及以下","具体专业名称：外科学","研究方向为泌尿外科；具有医师资格证书，资格证书类别为临床；本硕为相关专业",null,"是","\n\n\n"]
[93,"唐山市卫生健康委员会","唐山市人民医院","控制数",1,"岗位93","医学类","硕士研究生","硕士","40周岁及以下","具体专业名称：外科学","具有医师资格证书，资格证书类别为临床；本硕为相关专业","聘用后工作岗位为普外科","是","\n\n"]
[94,"唐山市卫生健康委员会","唐山市人民医院","控制数",1,"岗位94","医学类","硕士研究生","硕士","40周岁及以下","具体专业名称：外科学","限高校毕业生；本硕为相关专业","聘用后工作岗位为普外科","是","\n\n"]
[95,"唐山市卫生健康委员会","唐山市人民医院","控制数",1,"岗位95","医学类","硕士研究生","硕士","40周岁及以下","具体专业名称：肿瘤学","具有医师资格证书，资格证书类别为临床；本硕为相关专业","聘用后工作岗位为肿瘤相关科室","是","\n\n"]
[96,"唐山市卫生健康委员会","唐山市人民医院","控制数",1,"岗位96","医学类","硕士研究生","硕士","40周岁及以下","具体专业名称：肿瘤学","限高校毕业生；本硕为相关专业","聘用后工作岗位为肿瘤相关科室","是","\n\n"]
[97,"唐山市卫生健康委员会","唐山市人民医院","控制数",1,"岗位97","医学类","硕士研究生","硕士","40周岁及以下","具体专业名称：妇产科学","具有医师资格证书，资格证书类别为临床；本硕为相关专业",null,"是","\n\n"]
[98,"唐山市卫生健康委员会","唐山市人民医院","控制数",1,"岗位98","医学类","硕士研究生","硕士","40周岁及以下","具体专业名称：妇产科学","限高校毕业生；本硕为相关专业",null,"是","\n\n"]
[99,"唐山市卫生健康委员会","唐山市人民医院","控制数",1,"岗位99","医学类","硕士研究生","硕士","40周岁及以下","具体专业名称：眼科学","具有医师资格证书，资格证书类别为临床；本硕为相关专业",null,"是","\n\n"]
[100,"唐山市卫生健康委员会","唐山市人民医院","控制数",1,"岗位100","医学类","硕士研究生","硕士","40周岁及以下","具体专业名称：急诊医学、内科学","具有医师资格证书，资格证书类别为临床；本硕为相关专业","聘用后工作岗位为急诊科","是","\n\n"]
[101,"唐山市卫生健康委员会","唐山市人民医院","控制数",1,"岗位101","医学类","硕士研究生","硕士","40周岁及以下","具体专业名称：急诊医学、内科学","限高校毕业生；本硕为相关专业","聘用后工作岗位为急诊科","是","\n\n"]
[102,"唐山市卫生健康委员会","唐山市人民医院","控制数",1,"岗位102","医学类","硕士研究生","硕士","40周岁及以下","具体专业名称：外科学","具有医师资格证书，资格证书类别为临床；本硕为相关专业","聘用后工作岗位为急诊科","是","\n\n"]
[103,"唐山市卫生健康委员会","唐山市人民医院","控制数",1,"岗位103","医学类","硕士研究生","硕士","40周岁及以下","具体专业名称：老年医学、全科医学","具有医师资格证书，资格证书类别为临床；本硕为相关专业","聘用后工作岗位为全科医疗科","是","\n\n"]
[104,"唐山市卫生健康委员会","唐山市人民医院","控制数",1,"岗位104","医学类","硕士研究生","硕士","40周岁及以下","具体专业名称：麻醉学","具有医师资格证书，资格证书类别为临床；本硕为相关专业",null,"是","\n\n"]
[105,"唐山市卫生健康委员会","唐山市人民医院","控制数",1,"岗位105","医学类","硕士研究生","硕士","40周岁及以下","具体专业名称：麻醉学","限高校毕业生；本硕为相关专业",null,"是","\n\n"]
[106,"唐山市卫生健康委员会","唐山市人民医院","控制数",1,"岗位106","医学类","硕士研究生","硕士","40周岁及以下","具体专业名称：病理学与病理生理学、临床病理学","具有医师资格证书，资格证书类别为临床；本硕为相关专业",null,"是","\n\n"]
[107,"唐山市卫生健康委员会","唐山市人民医院","控制数",2,"岗位107","医学类","硕士研究生","硕士","40周岁及以下","具体专业名称：病理学与病理生理学、临床病理学","限高校毕业生；本硕为相关专业",null,"是","\n\n"]
[108,"唐山市卫生健康委员会","唐山市人民医院","控制数",1,"岗位108","医学类","硕士研究生","硕士","40周岁及以下","具体专业名称：影像医学与核医学","研究方向为超声诊断；具有医师资格证书，资格证书类别为临床；本硕为相关专业",null,"是","\n\n\n"]
[109,"唐山市卫生健康委员会","唐山市人民医院","控制数",1,"岗位109","医学类","硕士研究生","硕士","40周岁及以下","具体专业名称：影像医学与核医学","限高校毕业生；研究方向为超声诊断；本硕为相关专业",null,"是","\n\n"]
[110,"唐山市卫生健康委员会","唐山市人民医院","控制数",1,"岗位110","医学类","硕士研究生","硕士","40周岁及以下","具体专业名称：影像医学与核医学","研究方向为CT诊断；具有医师资格证书，资格证书类别为临床；本硕为相关专业",null,"是","\n\n\n"]
[111,"唐山市卫生健康委员会","唐山市人民医院","控制数",1,"岗位111","医学类","硕士研究生","硕士","40周岁及以下","具体专业名称：影像医学与核医学","限高校毕业生；研究方向为CT诊断；本硕为相关专业",null,"是","\n\n"]
[112,"唐山市卫生健康委员会","唐山市人民医院","控制数",1,"岗位112","医学类","硕士研究生","硕士","40周岁及以下","具体专业名称：影像医学与核医学","研究方向为磁共振诊断；具有医师资格证书，资格证书类别为临床；本硕为相关专业",null,"是","\n\n\n"]
[113,"唐山市卫生健康委员会","唐山市人民医院","控制数",1,"岗位113","医学类","硕士研究生","硕士","40周岁及以下","具体专业名称：影像医学与核医学","研究方向为介入；具有医师资格证书，资格证书类别为临床；本硕为相关专业",null,"是","\n\n\n"]
[114,"唐山市卫生健康委员会","唐山市人民医院","控制数",1,"岗位114","医学类","硕士研究生","硕士","40周岁及以下","具体专业名称：影像医学与核医学","限高校毕业生；研究方向为介入；本硕为相关专业",null,"是","\n\n"]
[115,"唐山市卫生健康委员会","唐山市人民医院","控制数",1,"岗位115","医学类","硕士研究生","硕士","40周岁及以下","具体专业名称：影像医学与核医学","研究方向为核医学；具有医师资格证书，资格证书类别为临床；本硕为相关专业",null,"是","\n\n\n"]
[116,"唐山市卫生健康委员会","唐山市人民医院","控制数",1,"岗位116","医学类","硕士研究生","硕士","40周岁及以下","具体专业名称：中医骨伤科学","具有医师资格证书，资格证书类别为中医；本硕为相关专业","聘用后工作岗位为中医骨伤科","是","\n\n"]
[117,"唐山市卫生健康委员会","唐山市人民医院","控制数",1,"岗位117","医学类","硕士研究生","硕士","40周岁及以下","具体专业名称：药剂学、药理学、药物化学、药物分析学、药学、临床药学、中药学",null,null,"是","\n\n"]
[118,"唐山市卫生健康委员会","唐山市人民医院","控制数",1,"岗位118","医学类","硕士研究生","硕士","40周岁及以下","具体专业名称：临床检验诊断学、免疫学、生物化学与分子生物学、微生物学",null,"聘用后工作岗位为检验科","是","\n\n"]
[119,"唐山市卫生健康委员会","唐山市人民医院","控制数",1,"岗位119","医学类","硕士研究生","硕士","40周岁及以下","具体专业名称：临床检验诊断学、免疫学、生物化学与分子生物学、微生物学","限高校毕业生","聘用后工作岗位为检验科","是","\n\n"]
[120,"唐山市卫生健康委员会","唐山市人民医院","控制数",1,"岗位120","医学类","硕士研究生","硕士","40周岁及以下","具体专业名称：公共卫生与预防医学",null,null,"是","\n\n"]
[121,"唐山市卫生健康委员会","唐山市人民医院","控制数",1,"岗位121","医学类","硕士研究生","硕士","40周岁及以下","具体专业名称：营养与食品卫生学",null,null,"是","\n\n"]
[122,"唐山市卫生健康委员会","唐山市人民医院","控制数",1,"岗位122","医学类","本科","学士","35周岁及以下","具体专业名称：医学影像学、影像医学与核医学","具有医师资格证书，资格证书类别为临床","聘用后工作岗位为放射科","否","\n\n"]
[123,"唐山市卫生健康委员会","唐山市人民医院","控制数",1,"岗位123","医学类","本科","学士","35周岁及以下","具体专业名称：医学影像学","具有医师资格证书，资格证书类别为临床","聘用后工作岗位为心电图室","否","\n\n"]
[124,"唐山市卫生健康委员会","唐山市人民医院","控制数",1,"岗位124","医学类","本科","学士","35周岁及以下","具体专业名称：医学影像学","限高校毕业生","聘用后工作岗位为心电图室","否","\n\n"]
[125,"唐山市卫生健康委员会","唐山市人民医院","控制数",1,"岗位125","医学类","本科","学士","35周岁及以下","具体专业名称：医学影像学、影像医学与核医学","具有医师资格证书，资格证书类别为临床","聘用后工作岗位为脑电图室","否","\n\n"]
[126,"唐山市卫生健康委员会","唐山市人民医院","控制数",1,"岗位126","医学类","本科","学士","35周岁及以下","具体专业名称：医学影像学","具有医师资格证书，资格证书类别为临床","聘用后工作岗位为ECT室","否","\n\n"]
[127,"唐山市卫生健康委员会","唐山市人民医院","控制数",1,"岗位127","医学类","本科","学士","35周岁及以下","具体专业名称：医学影像学","限高校毕业生","聘用后工作岗位为ECT室","否","\n\n"]
[128,"唐山市卫生健康委员会","唐山市人民医院","控制数",1,"岗位128","医学类","本科","学士","35周岁及以下","具体专业名称：医学影像学、影像医学与核医学","具有医师资格证书，资格证书类别为临床","聘用后工作岗位为肌电图室","否","\n\n"]
[129,"唐山市卫生健康委员会","唐山市人民医院","控制数",1,"岗位129","医学类","本科","学士","35周岁及以下","具体专业名称：康复治疗学",null,null,"否","\n\n"]
[130,"唐山市卫生健康委员会","唐山市人民医院","控制数",1,"岗位130","医学类","本科","学士","35周岁及以下","具体专业名称：药学、临床药学",null,null,"否","\n\n"]
[131,"唐山市卫生健康委员会","唐山市人民医院","控制数",1,"岗位131","医学类","本科","学士","35周岁及以下","具体专业名称：中药学",null,null,"否","\n\n"]
[132,"唐山市卫生健康委员会","唐山市人民医院","控制数",2,"岗位132","医学类","本科","学士","35周岁及以下","具体专业名称：医学检验、医学检验技术","限高校毕业生","聘用后工作岗位为检验科","否","\n\n"]
[133,"唐山市卫生健康委员会","唐山市人民医院","控制数",2,"岗位133","医学类","本科","学士","35周岁及以下","具体专业名称：医学检验、医学检验技术","限高校毕业生","聘用后工作岗位为输血科","否","\n\n"]
[134,"唐山市卫生健康委员会","唐山市人民医院","控制数",2,"岗位134","医学类","本科","学士","35周岁及以下","具体专业名称：医学影像技术","限高校毕业生","聘用后工作岗位为放疗中心","否","\n\n"]
[135,"唐山市卫生健康委员会","唐山市人民医院","控制数",1,"岗位135","医学类","本科","学士","35周岁及以下","具体专业名称：医学影像技术","限高校毕业生","聘用后工作岗位为内镜室","否","\n\n"]
[136,"唐山市卫生健康委员会","唐山市人民医院","控制数",15,"岗位136","医学类","本科","学士","30周岁及以下","本科专业类：护理学类",null,null,"否","\n\n"]
[137,"唐山市卫生健康委员会","唐山市人民医院","控制数",15,"岗位137","医学类","本科","学士","30周岁及以下","本科专业类：护理学类","限高校毕业生",null,"否","\n\n"]
[138,"唐山市卫生健康委员会","唐山市人民医院","控制数",8,"岗位138","医学类","专科","不限","30周岁及以下","专科专业类：护理类\n本科专业类：护理学类","限高校毕业生；男",null,"否","\n\n"]
[139,"唐山市卫生健康委员会","唐山市人民医院","控制数",8,"岗位139","医学类","专科","不限","30周岁及以下","专科专业类：护理类\n本科专业类：护理学类","限高校毕业生；女",null,"否","\n\n"]
[140,"唐山市卫生健康委员会","唐山市协和医院","控制数",1,"岗位140","医学类","硕士研究生","硕士","40周岁及以下","具体专业名称：病理学与病理生理学",null,null,"是","\n\n"]
[141,"唐山市卫生健康委员会","唐山市协和医院","控制数",1,"岗位141","医学类","硕士研究生","硕士","40周岁及以下","具体专业名称：病理学与病理生理学","限高校毕业生",null,"是","\n\n"]
[142,"唐山市卫生健康委员会","唐山市协和医院","控制数",1,"岗位142","医学类","硕士研究生","硕士","40周岁及以下","具体专业名称：耳鼻咽喉科学","具有医师资格证书（或已通过医师资格考试的成绩单）",null,"是","\n\n"]
[143,"唐山市卫生健康委员会","唐山市协和医院","控制数",1,"岗位143","医学类","硕士研究生","硕士","40周岁及以下","具体专业名称：耳鼻咽喉科学","限高校毕业生",null,"是","\n\n"]
[144,"唐山市卫生健康委员会","唐山市协和医院","控制数",2,"岗位144","医学类","硕士研究生","硕士","40周岁及以下","具体专业名称：危重症医学、重症医学、外科学、内科学","具有医师资格证书（或已通过医师资格考试的成绩单）",null,"是","\n\n"]
[145,"唐山市卫生健康委员会","唐山市协和医院","控制数",2,"岗位145","医学类","硕士研究生","硕士","40周岁及以下","具体专业名称：危重症医学、重症医学、外科学、内科学","限高校毕业生",null,"是","\n\n"]
[146,"唐山市卫生健康委员会","唐山市协和医院","控制数",2,"岗位146","医学类","硕士研究生","硕士","40周岁及以下","研究生一级学科：口腔医学","具有医师资格证书（或已通过医师资格考试的成绩单）",null,"是","\n\n"]
[147,"唐山市卫生健康委员会","唐山市协和医院","控制数",2,"岗位147","医学类","硕士研究生","硕士","40周岁及以下","研究生一级学科：口腔医学","限高校毕业生",null,"是","\n\n"]
[148,"唐山市卫生健康委员会","唐山市协和医院","控制数",1,"岗位148","医学类","硕士研究生","硕士","40周岁及以下","具体专业名称：口腔临床医学","具有医师资格证书（或已通过医师资格考试的成绩单）",null,"是","\n\n"]
[149,"唐山市卫生健康委员会","唐山市协和医院","控制数",1,"岗位149","医学类","硕士研究生","硕士","40周岁及以下","具体专业名称：医学检验学、医学检验技术","限高校毕业生",null,"是","\n\n"]
[150,"唐山市卫生健康委员会","唐山市协和医院","控制数",1,"岗位150","医学类","硕士研究生","硕士","40周岁及以下","具体专业名称：内科学","限高校毕业生",null,"是","\n\n"]
[151,"唐山市卫生健康委员会","唐山市协和医院","控制数",5,"岗位151","医学类","硕士研究生","硕士","40周岁及以下","具体专业名称：外科学","限高校毕业生",null,"是","\n\n"]
[152,"唐山市卫生健康委员会","唐山市协和医院","控制数",1,"岗位152","医学类","硕士研究生","硕士","40周岁及以下","具体专业名称：眼科学","限高校毕业生",null,"是","\n\n"]
[153,"唐山市卫生健康委员会","唐山市协和医院","控制数",1,"岗位153","医学类","硕士研究生","硕士","40周岁及以下","具体专业名称：皮肤病与性病学","限高校毕业生",null,"是","\n\n"]
[154,"唐山市卫生健康委员会","唐山市协和医院","控制数",6,"岗位154","医学类","本科","学士","35周岁及以下","具体专业名称：医学影像学","具有医师资格证书（或已通过医师资格考试的成绩单）",null,"否","\n\n"]
[155,"唐山市卫生健康委员会","唐山市协和医院","控制数",7,"岗位155","医学类","本科","学士","35周岁及以下","具体专业名称：医学影像学","限高校毕业生",null,"否","\n\n"]
[156,"唐山市卫生健康委员会","唐山市协和医院","控制数",3,"岗位156","医学类","本科","学士","35周岁及以下","具体专业名称：医学检验、医学检验技术","具有临床医学检验技术专业初级师及以上职称证书（或已通过资格考试的成绩单）",null,"否","\n\n\n"]
[157,"唐山市卫生健康委员会","唐山市协和医院","控制数",3,"岗位157","医学类","本科","学士","35周岁及以下","具体专业名称：医学检验、医学检验技术","限高校毕业生",null,"否","\n\n"]
[158,"唐山市卫生健康委员会","唐山市协和医院","控制数",3,"岗位158","医学类","本科","学士","35周岁及以下","具体专业名称：临床医学","具有医师资格证书（或已通过医师资格考试的成绩单）",null,"否","\n\n"]
[159,"唐山市卫生健康委员会","唐山市协和医院","控制数",10,"岗位159","医学类","本科","学士","35周岁及以下","具体专业名称：临床医学","限高校毕业生",null,"否","\n\n"]
[160,"唐山市卫生健康委员会","唐山市协和医院","控制数",4,"岗位160","医学类","本科","学士","35周岁及以下","具体专业名称：临床医学","具有医师资格证书（或已通过医师资格考试的成绩单），执业范围为眼耳鼻咽喉专业","具有主治医师及以上职称证书的年龄可放宽到40周岁及以下","否","\n\n\n"]
[161,"唐山市卫生健康委员会","唐山市协和医院","控制数",2,"岗位161","医学类","本科","学士","35周岁及以下","具体专业名称：临床医学","具有医师资格证书（或已通过医师资格考试的成绩单），执业范围为外科专业",null,"否","\n\n\n"]
[162,"唐山市卫生健康委员会","唐山市协和医院","控制数",1,"岗位162","医学类","本科","学士","35周岁及以下","具体专业名称：临床医学","具有医师资格证书（或已通过医师资格考试的成绩单），执业范围为外科专业","具有主治医师及以上职称证书的年龄可放宽到40周岁及以下","否","\n\n\n"]
[163,"唐山市卫生健康委员会","唐山市协和医院","控制数",2,"岗位163","医学类","本科","学士","35周岁及以下","具体专业名称：麻醉学","具有医师资格证书（或已通过医师资格考试的成绩单）",null,"否","\n\n"]
[164,"唐山市卫生健康委员会","唐山市协和医院","控制数",10,"岗位164","医学类","本科","学士","35周岁及以下","本科专业类：护理学类","限高校毕业生",null,"否","\n\n"]
[165,"唐山市卫生健康委员会","唐山市协和医院","控制数",10,"岗位165","医学类","专科","不限","35周岁及以下","专科专业类：护理类\n本科专业类：护理学类","限高校毕业生",null,"否","\n\n"]
[166,"唐山市卫生健康委员会","唐山市第三医院","控制数",7,"岗位166","医学类","本科","不限","35周岁及以下","具体专业名称：临床医学、运动人体科学、内科学、外科学",null,"具有主治医师及以上职称证书的年龄可放宽到40周岁及以下","否","\n\n"]
[167,"唐山市卫生健康委员会","唐山市第三医院","控制数",7,"岗位167","医学类","本科","不限","30周岁及以下","具体专业名称：临床医学、运动人体科学、内科学、外科学","限高校毕业生",null,"否","\n\n"]
[168,"唐山市卫生健康委员会","唐山市第三医院","控制数",1,"岗位168","医学类","本科","不限","30周岁及以下","具体专业名称：医学检验技术、医学检验学、临床检验诊断学","限高校毕业生",null,"否","\n\n"]
[169,"唐山市卫生健康委员会","唐山市第三医院","控制数",1,"岗位169","医学类","本科","不限","35周岁及以下","具体专业名称：麻醉学",null,"具有主治医师及以上职称证书的年龄可放宽到40周岁及以下","否","\n\n"]
[170,"唐山市卫生健康委员会","唐山市第三医院","控制数",1,"岗位170","医学类","本科","不限","35周岁及以下","具体专业名称：医学影像学、影像医学与核医学",null,"具有主治医师及以上职称证书的年龄可放宽到40周岁及以下","否","\n\n"]
[171,"唐山市卫生健康委员会","唐山市第三医院","控制数",1,"岗位171","医学类","本科","不限","30周岁及以下","具体专业名称：医学影像学、影像医学与核医学","限高校毕业生",null,"否","\n\n"]
[172,"唐山市卫生健康委员会","唐山市第三医院","控制数",2,"岗位172","医学类","专科","不限","35周岁及以下","具体专业名称：护理学、护理、高级护理",null,null,"否","\n\n"]
[173,"唐山市卫生健康委员会","唐山市第三医院","控制数",2,"岗位173","医学类","专科","不限","30周岁及以下","具体专业名称：护理学、护理、高级护理","限高校毕业生",null,"否","\n\n"]
[174,"唐山市卫生健康委员会","唐山市第八医院","控制数",1,"岗位174","医学类","本科","学士","35周岁及以下","具体专业名称：中医学","具有医师资格证书（或已通过医师资格考试的成绩单）",null,"否","\n\n"]
[175,"唐山市卫生健康委员会","唐山市第八医院","控制数",2,"岗位175","医学类","本科","学士","35周岁及以下","具体专业名称：神经病学、内科学、临床医学","限高校毕业生",null,"否","\n\n"]
[176,"唐山市卫生健康委员会","唐山市第八医院","控制数",1,"岗位176","医学类","本科","不限","35周岁及以下","具体专业名称：康复治疗学","限高校毕业生",null,"否","\n\n"]
[177,"唐山市卫生健康委员会","唐山市第八医院","控制数",1,"岗位177","综合类","本科","学士","35周岁及以下","具体专业名称：会计学、财务管理、金融学","限高校毕业生",null,"否","\n\n"]
[178,"唐山市卫生健康委员会","唐山市第八医院","控制数",1,"岗位178","综合类","本科","学士","35周岁及以下","具体专业名称：人力资源管理",null,null,"否","\n\n"]
[179,"唐山市卫生健康委员会","唐山市第八医院","控制数",1,"岗位179","医学类","本科","学士","35周岁及以下","具体专业名称：药学、药剂学、临床药学","限高校毕业生",null,"否","\n\n"]
[180,"唐山市卫生健康委员会","唐山市第八医院","控制数",1,"岗位180","医学类","本科","学士","35周岁及以下","具体专业名称：医学检验技术、医学检验学","限高校毕业生",null,"否","\n\n"]
[181,"唐山市卫生健康委员会","唐山市中心血站","控制数",1,"岗位181","综合类","本科","学士","35周岁及以下","具体专业名称：机械设计制造及其自动化、机械设计与制造、过程设备与机械","具有机电工程专业中级及以上职称证书","大型设备，经常加班","否","\n\n"]
[182,"唐山市卫生健康委员会","唐山市疾病预防控制中心","全额",2,"岗位182","医学类","本科","学士","30周岁及以下","具体专业名称：预防医学、传染病预防控制、流行病与卫生统计学、营养与食品卫生学、劳动卫生与环境卫生学","男",null,"否","\n\n"]
[183,"唐山市卫生健康委员会","唐山市疾病预防控制中心","全额",2,"岗位183","医学类","本科","学士","30周岁及以下","具体专业名称：预防医学、传染病预防控制、流行病与卫生统计学、营养与食品卫生学、劳动卫生与环境卫生学","限高校毕业生；男",null,"否","\n\n"]
[184,"唐山市卫生健康委员会","唐山市疾病预防控制中心","全额",2,"岗位184","医学类","本科","学士","30周岁及以下","具体专业名称：预防医学、传染病预防控制、流行病与卫生统计学、营养与食品卫生学、劳动卫生与环境卫生学","女",null,"否","\n\n"]
[185,"唐山市卫生健康委员会","唐山市疾病预防控制中心","全额",2,"岗位185","医学类","本科","学士","30周岁及以下","具体专业名称：预防医学、传染病预防控制、流行病与卫生统计学、营养与食品卫生学、劳动卫生与环境卫生学","限高校毕业生；女",null,"否","\n\n"]
[186,"唐山市卫生健康委员会","唐山市疾病预防控制中心","全额",1,"岗位186","医学类","本科","学士","30周岁及以下","具体专业名称：预防医学、传染病预防控制、流行病与卫生统计学、营养与食品卫生学、劳动卫生与环境卫生学",null,null,"否","\n\n"]
[187,"唐山市卫生健康委员会","唐山市疾病预防控制中心","全额",1,"岗位187","医学类","本科","学士","30周岁及以下","具体专业名称：卫生检验与检疫、医学检验技术、医学实验技术","男",null,"否","\n\n"]
[188,"唐山市卫生健康委员会","唐山市疾病预防控制中心","全额",2,"岗位188","医学类","本科","学士","30周岁及以下","具体专业名称：卫生检验与检疫、医学检验技术、医学实验技术","限高校毕业生；男",null,"否","\n\n"]
[189,"唐山市卫生健康委员会","唐山市疾病预防控制中心","全额",1,"岗位189","医学类","本科","学士","30周岁及以下","具体专业名称：卫生检验与检疫、医学检验技术、医学实验技术","女",null,"否","\n\n"]
[190,"唐山市卫生健康委员会","唐山市疾病预防控制中心","全额",2,"岗位190","医学类","本科","学士","30周岁及以下","具体专业名称：卫生检验与检疫、医学检验技术、医学实验技术","限高校毕业生；女",null,"否","\n\n"]
[191,"唐山市卫生健康委员会","唐山市卫生健康委员会综合监督执法局","全额",1,"岗位191","医学类","本科","学士","35周岁及以下","具体专业名称：预防医学","限高校毕业生；男",null,"否","\n\n"]
[192,"唐山市卫生健康委员会","唐山市卫生健康委员会综合监督执法局","全额",1,"岗位192","医学类","本科","学士","35周岁及以下","具体专业名称：预防医学","限高校毕业生；女",null,"否","\n\n"]
[193,"唐山市卫生健康委员会","唐山市卫生健康委员会综合监督执法局","全额",1,"岗位193","综合类","本科","学士","35周岁及以下","具体专业名称：会计、会计学、财务管理","限高校毕业生",null,"否","\n\n"]
[194,"唐山市卫生健康委员会","唐山市卫生健康委员会综合监督执法局","全额",1,"岗位194","综合类","本科","学士","35周岁及以下","具体专业名称：计算机科学与技术、计算机系统结构、计算机应用技术","限高校毕业生",null,"否","\n\n"]
[195,"唐山市卫生健康委员会","唐山市卫生健康考试中心","全额",1,"岗位195","综合类","本科","学士","35周岁及以下","具体专业名称：电子信息工程、电子信息、电子信息科学与技术","限高校毕业生","工作条件艰苦","否","\n\n"]
[196,"唐山市卫生健康委员会","唐山市120急救指挥中心","全额",1,"岗位196","医学类","本科","学士","30周岁及以下","具体专业名称：护理学","限高校毕业生；男","急救工作需要","否","\n\n"]
[197,"唐山市人力资源和社会保障局","唐山劳动技师学院","全额",1,"岗位197","教育类","硕士研究生","硕士","35周岁及以下","具体专业名称：学科教学（语文）、语言学及应用语言学、汉语言文字学、中国现当代文学","限高校毕业生；男",null,"是","\n\n"]
[198,"唐山市人力资源和社会保障局","唐山劳动技师学院","全额",1,"岗位198","教育类","硕士研究生","硕士","35周岁及以下","具体专业名称：学科教学（语文）、语言学及应用语言学、汉语言文字学、中国现当代文学","限高校毕业生；女",null,"是","\n\n"]
[199,"唐山市人力资源和社会保障局","唐山劳动技师学院","全额",1,"岗位199","教育类","硕士研究生","硕士","35周岁及以下","具体专业名称：机械制造及其自动化、机械电子工程、机械设计及理论、机械工程","限高校毕业生；男",null,"是","\n\n"]
[200,"唐山市人力资源和社会保障局","唐山劳动技师学院","全额",1,"岗位200","教育类","硕士研究生","硕士","35周岁及以下","具体专业名称：机械制造及其自动化、机械电子工程、机械设计及理论、机械工程","限高校毕业生；女",null,"是","\n\n"]
[201,"唐山市人力资源和社会保障局","唐山劳动技师学院","全额",1,"岗位201","教育类","硕士研究生","硕士","35周岁及以下","具体专业名称：控制理论与控制工程、电气传动控制技术、机电一体化理论及其应用、电气自动化、电气传动与控制、电路与系统控制、电力电子与传动控制","限高校毕业生；男",null,"是","\n\n\n"]
[202,"唐山市人力资源和社会保障局","唐山劳动技师学院","全额",1,"岗位202","教育类","硕士研究生","硕士","35周岁及以下","具体专业名称：控制理论与控制工程、电气传动控制技术、机电一体化理论及其应用、电气自动化、电气传动与控制、电路与系统控制、电力电子与传动控制","限高校毕业生；女",null,"是","\n\n\n"]
[203,"唐山市人力资源和社会保障局","唐山劳动技师学院","全额",1,"岗位203","教育类","硕士研究生","硕士","35周岁及以下","具体专业名称：营销管理、市场营销管理、财务管理、会展管理","限高校毕业生",null,"是","\n\n"]
[204,"唐山市人力资源和社会保障局","唐山劳动技师学院","全额",2,"岗位204","教育类","硕士研究生","硕士","35周岁及以下","具体专业名称：学科教学（思政）、学科教学（思想政治教育）、思想政治教育、马克思主义理论","限高校毕业生",null,"是","\n\n\n"]
[205,"唐山市人力资源和社会保障局","唐山劳动技师学院","全额",1,"岗位205","教育类","硕士研究生","硕士","35周岁及以下","具体专业名称：物流学、物流工程与管理、投资与金融管理、城乡规划学","限高校毕业生",null,"是","\n\n"]
[206,"唐山市人力资源和社会保障局","唐山劳动技师学院","全额",1,"岗位206","教育类","硕士研究生","硕士","35周岁及以下","研究生一级学科：法律","限高校毕业生",null,"是","\n\n"]
[207,"唐山市人力资源和社会保障局","唐山劳动技师学院","全额",1,"岗位207","教育类","硕士研究生","硕士","35周岁及以下","具体专业名称：学科教学（英语）、英语教育、英语语言文学、英语笔译、英语口译、国际商务英语、商务英语研究","限高校毕业生",null,"是","\n\n"]
[208,"唐山市人力资源和社会保障局","唐山劳动技师学院","全额",1,"岗位208","教育类","硕士研究生","硕士","35周岁及以下","具体专业名称：商法、民商法学、社会法学",null,null,"是","\n\n"]
[209,"唐山市人力资源和社会保障局","唐山劳动技师学院","全额",1,"岗位209","教育类","专科","不限","40周岁及以下","不限","具有中式面点高级技师职业资格证书、具有西式面点高级技师职业资格证书、具有中式烹调高级技师职业资格证书",null,"否","\n\n\n\n"]
[210,"唐山市人力资源和社会保障局","唐山劳动技师学院","全额",1,"岗位210","教育类","专科","不限","40周岁及以下","具体专业名称：汽车运用技术、汽车运用与维修","具有汽车维修工高级技师职业资格证书","工作条件艰苦（下厂实习教师）","否","\n\n"]
[211,"唐山市人力资源和社会保障局","唐山劳动技师学院","全额",1,"岗位211","教育类","专科","不限","40周岁及以下","具体专业名称：机械制造与自动化、机械制造工艺及设备","具有钳工高级技师职业资格证书","工作条件艰苦（下厂实习教师）","否","\n\n"]
[212,"唐山市人力资源和社会保障局","唐山劳动技师学院","全额",1,"岗位212","教育类","专科","不限","40周岁及以下","具体专业名称：机电一体化技术、电气自动化技术","具有钳工高级技师职业资格证书","工作条件艰苦（下厂实习教师）","否","\n\n"]
[213,"唐山市人力资源和社会保障局","唐山劳动技师学院","全额",1,"岗位213","教育类","本科","学士","35周岁及以下","具体专业名称：车身工程、汽车安全及运用工程、汽车电子工程、汽车运用工程、车辆工程、新能源汽车工程、车辆新能源与节能工程、汽车服务工程、汽车维修工程教育","限高校毕业生",null,"否","\n\n\n"]
[214,"唐山市人力资源和社会保障局","唐山劳动技师学院","全额",1,"岗位214","教育类","本科","学士","35周岁及以下","具体专业名称：学科教学（语文）、语言学及应用语言学、汉语言文字学、中国现当代文学、汉语言文学、汉语言、汉语言文学教育、中国语言文化、中文应用","限高校毕业生",null,"否","\n\n\n"]
[215,"唐山市人力资源和社会保障局","唐山劳动技师学院","全额",1,"岗位215","教育类","本科","学士","35周岁及以下","具体专业名称：舞蹈、舞蹈表演、舞蹈学、舞蹈编导、舞蹈教育、体育舞蹈、舞蹈教育学研究","限高校毕业生",null,"否","\n\n"]
[216,"唐山市人力资源和社会保障局","唐山劳动技师学院","全额",1,"岗位216","教育类","本科","学士","35周岁及以下","具体专业名称：应用电子技术教育、动画、自动化","具有技工院校教师系列初级及以上职称证书","具有技工院校教师系列副高级及以上职称证书的年龄可放宽到40周岁及以下","否","\n\n\n"]
[217,"唐山市人力资源和社会保障局","唐山劳动技师学院","全额",1,"岗位217","教育类","本科","学士","35周岁及以下","具体专业名称：土木工程、艺术设计学、艺术设计（装饰雕塑）","具有技工院校教师系列或中等职业学校教师系列初级及以上职称证书",null,"否","\n\n"]
[218,"唐山市人力资源和社会保障局","唐山劳动技师学院","全额",1,"岗位218","教育类","本科","学士","35周岁及以下","具体专业名称：运动训练、体育教育、体能训练","具有技工院校教师系列或中等职业学校教师系列初级及以上职称证书",null,"否","\n\n"]
[219,"唐山市人力资源和社会保障局","唐山劳动技师学院","全额",1,"岗位219","教育类","本科","学士","40周岁及以下","具体专业名称：无机非金属材料工程、土木工程、建筑工程教育","具有技工院校教师系列副高级及以上职称证书",null,"否","\n\n"]
[220,"唐山市人力资源和社会保障局","唐山劳动技师学院","全额",1,"岗位220","教育类","本科","学士","40周岁及以下","具体专业名称：交通运输、交通工程","具有技工院校教师系列副高级及以上职称证书",null,"否","\n\n"]
[221,"唐山市人力资源和社会保障局","唐山劳动技师学院","全额",1,"岗位221","教育类","本科","学士","40周岁及以下","具体专业名称：国际经济与贸易、化学、应用化学","具有技工院校教师系列副高级及以上职称证书",null,"否","\n\n"]
[222,"唐山市人力资源和社会保障局","唐山劳动技师学院","全额",1,"岗位222","教育类","本科","不限","35周岁及以下","具体专业名称：数学与应用数学、土木工程、建筑工程教育","具有技工院校教师系列或中等职业学校教师系列初级及以上职称证书","具有技工院校教师系列副高级及以上职称证书的年龄可放宽到40周岁及以下","否","\n\n\n"]
[223,"唐山市人力资源和社会保障局","唐山劳动技师学院","全额",1,"岗位223","教育类","本科","不限","35周岁及以下","具体专业名称：汉语言文学、艺术设计、艺术设计学","具有技工院校教师系列或中等职业学校教师系列初级及以上职称证书",null,"否","\n\n"]
[224,"唐山市人力资源和社会保障局","唐山劳动技师学院","全额",1,"岗位224","教育类","本科","不限","35周岁及以下","具体专业名称：行政管理、工程管理、项目管理","具有技工院校教师系列或中等职业学校教师系列初级及以上职称证书",null,"否","\n\n"]
[225,"唐山市人力资源和社会保障局","唐山劳动技师学院","全额",1,"岗位225","教育类","本科","不限","35周岁及以下","具体专业名称：广告学、国际商务英语、国际贸易与英语、英语、会计学、工程造价与管理",null,null,"否","\n\n"]
[226,"唐山市人力资源和社会保障局","河北机车技师学院","全额",1,"岗位226","教育类","本科","学士","35周岁及以下","具体专业名称：英语、机械制造工艺教育、机械设计制造及其自动化、工程管理",null,"具有技工院校教师系列副高级及以上职称证书的年龄可放宽到40周岁及以下","否","\n\n\n"]
[227,"唐山市人力资源和社会保障局","河北机车技师学院","全额",1,"岗位227","教育类","硕士研究生","硕士","35周岁及以下","具体专业名称：控制理论与控制工程、系统工程、模式识别与智能系统","限高校毕业生",null,"是","\n\n"]
[228,"唐山市人力资源和社会保障局","河北机车技师学院","全额",1,"岗位228","教育类","硕士研究生","硕士","35周岁及以下","具体专业名称：机械工程、机械设计与制造、机械制造及其自动化","限高校毕业生",null,"是","\n\n"]
[229,"唐山市人力资源和社会保障局","唐山市社会保险事业服务中心","全额",1,"岗位229","综合类","本科","学士","35周岁及以下","具体专业名称：劳动与社会保障、经济学、保险学","限高校毕业生",null,"否","\n\n"]
[230,"唐山市人力资源和社会保障局","唐山市社会保险事业服务中心","全额",1,"岗位230","综合类","本科","学士","35周岁及以下","具体专业名称：劳动与社会保障、经济学、保险学",null,null,"否","\n\n"]
[231,"唐山市人力资源和社会保障局","唐山市机关社会保险服务中心","全额",1,"岗位231","综合类","本科","学士","35周岁及以下","具体专业名称：汉语言、汉语言文学、新闻学","限高校毕业生；男",null,"否","\n\n"]
[232,"唐山市人力资源和社会保障局","唐山市机关社会保险服务中心","全额",1,"岗位232","综合类","本科","学士","35周岁及以下","具体专业名称：汉语言、汉语言文学、新闻学","限高校毕业生；女",null,"否","\n\n"]
[233,"唐山市人力资源和社会保障局","信息管理中心","全额",1,"岗位233","综合类","本科","学士","35周岁及以下","具体专业名称：会计、会计学、财务管理","限高校毕业生；男",null,"否","\n\n"]
[234,"唐山市人力资源和社会保障局","信息管理中心","全额",1,"岗位234","综合类","本科","学士","35周岁及以下","具体专业名称：会计、会计学、财务管理","限高校毕业生；女",null,"否","\n\n"]
[235,"唐山市生态环境局","唐山市环境工程评估中心","全额",1,"岗位235","综合类","硕士研究生","硕士","30周岁及以下","具体专业名称：环境工程、环境科学、环境科学与工程、大气科学、大气物理学与大气环境、物理化学、应用化学、分析化学、海洋科学、生态学、摄影测量与遥感、环境规划与管理","限高校毕业生",null,"否","\n\n\n\n"]
[236,"唐山市生态环境局","唐山市环境监控中心","全额",1,"岗位236","综合类","硕士研究生","硕士","30周岁及以下","具体专业名称：环境工程、环境科学、环境科学与工程、生态学、大气科学、大气物理学与大气环境、冶金工程",null,"从事辐射监测和海洋监测工作，工作条件艰苦","否","\n\n"]
[237,"唐山市生态环境局","唐山市环境监控中心","全额",1,"岗位237","综合类","硕士研究生","硕士","30周岁及以下","具体专业名称：环境工程、环境科学、环境科学与工程、生态学、大气科学、大气物理学与大气环境、海洋科学、应用化学、化学工程、分析化学、化学工艺、化学工程与技术","限高校毕业生","从事辐射监测和海洋监测工作，工作条件艰苦","否","\n\n\n\n"]
[238,"唐山市生态环境局","唐山市遵化市环境监控中心","全额",1,"岗位238","综合类","本科","学士","35周岁及以下","具体专业名称：生态学、冶金工程\n本科专业类：环境科学与工程类、大气科学类、化学类\n研究生一级学科：环境科学与工程、大气科学、化学",null,"不限户籍","否","\n\n\n"]
[239,"唐山市自然资源和规划局","中国海监唐山市支队","全额",1,"岗位239","综合类","硕士研究生","硕士","35周岁及以下","具体专业名称：船舶与海洋工程",null,"长期在海监船工作，工作条件艰苦","是","\n\n"]
[240,"唐山市自然资源和规划局","中国海监唐山市支队","全额",1,"岗位240","综合类","硕士研究生","硕士","35周岁及以下","具体专业名称：海洋物理、海洋科学（海洋物理）、海岸带综合管理、海洋科学（海岸带综合管理）、海洋事务、海洋科学（海洋事务）、海洋资源与权益综合管理、海洋科学（海洋资源与权益综合管理）",null,null,"否","\n\n\n\n"]
[241,"唐山市自然资源和规划局","中国海监唐山市支队","全额",1,"岗位241","综合类","本科","学士","35周岁及以下","具体专业名称：轮机工程","限高校毕业生","长期在海监船工作，工作条件艰苦，工作地点在唐山京唐港区","否","\n\n"]
[242,"唐山市自然资源和规划局","中国海监唐山市支队","全额",1,"岗位242","综合类","本科","学士","35周岁及以下","具体专业名称：会计、会计学、财务管理、财务管理学","限高校毕业生",null,"否","\n\n"]
[243,"唐山市自然资源和规划局","唐山市古冶区土地收储交易中心","全额",1,"岗位243","综合类","本科","学士","35周岁及以下","具体专业名称：土地资源管理、测绘工程、土木工程、经济学、法学、法律","限高校毕业生",null,"否","\n\n"]
[244,"唐山市商务局","唐山市投资促进中心","全额",1,"岗位244","综合类","本科","学士","30周岁及以下","具体专业名称：国际经济与贸易、贸易经济、国际贸易学、电子商务、市场营销、法学、经济法、英语、国际商务英语、英语语言文学","限高校毕业生","长期驻外，工作条件艰苦","否","\n\n\n"]
[245,"唐山市商务局","唐山市投资促进中心","全额",1,"岗位245","综合类","本科","学士","30周岁及以下","具体专业名称：国际经济与贸易、贸易经济、国际贸易学、电子商务、市场营销、法学、经济法、英语、国际商务英语、英语语言文学",null,"长期驻外，工作条件艰苦","否","\n\n\n"]
[246,"唐山市住房和城乡建设局","唐山市房地产交易中心","全额",2,"岗位246","综合类","本科","学士","35周岁及以下","具体专业名称：土木工程、建筑工程、工业与民用建筑、建筑与土木工程、结构工程、测绘工程、土木测绘与信息技术","限高校毕业生",null,"否","\n\n"]
[247,"唐山市住房和城乡建设局","唐山市房地产交易中心","全额",1,"岗位247","综合类","本科","学士","35周岁及以下","具体专业名称：法学、法律、宪法学与行政法学","限高校毕业生",null,"否","\n\n"]
[248,"唐山市住房和城乡建设局","唐山市房地产交易中心","全额",1,"岗位248","综合类","本科","学士","30周岁及以下","具体专业名称：计算机软件与理论、软件工程、计算机软件、软件工程技术",null,null,"否","\n\n"]
[249,"唐山市住房和城乡建设局","唐山市房地产交易中心","全额",1,"岗位249","综合类","本科","学士","30周岁及以下","具体专业名称：统计学、应用统计学、经济统计学、应用统计",null,null,"否","\n\n"]
[250,"唐山市住房和城乡建设局","唐山市住房和城乡建设执法监察局","全额",1,"岗位250","综合类","本科","学士","35周岁及以下","具体专业名称：土木工程、建筑工程、工业与民用建筑、建筑与土木工程、结构工程、土木工程建造与管理、建设工程管理","限高校毕业生",null,"否","\n\n"]
[251,"唐山市住房和城乡建设局","唐山市住房和城乡建设执法监察局","全额",1,"岗位251","综合类","本科","学士","35周岁及以下","具体专业名称：财务管理、会计学、会计、财务学","具有会计专业初级及以上职称证书",null,"否","\n\n"]
[252,"唐山市住房和城乡建设局","唐山市建设工程质量监督检测站","全额",1,"岗位252","综合类","本科","学士","30周岁及以下","具体专业名称：土木工程、建筑工程、工业与民用建筑、建筑与土木工程、结构工程、土木工程建造与管理、建设工程管理",null,null,"否","\n\n"]
[253,"唐山市住房和城乡建设局","唐山市建设工程质量监督检测站","全额",1,"岗位253","综合类","本科","学士","30周岁及以下","具体专业名称：财务管理、会计学、会计、财务学",null,null,"否","\n\n"]
[254,"唐山市住房和城乡建设局","唐山市建筑工程施工安全监督站","全额",1,"岗位254","综合类","本科","学士","30周岁及以下","具体专业名称：土木工程、建筑工程、工业与民用建筑、建筑与土木工程、结构工程、土木工程建造与管理、建设工程管理",null,"需经常到施工现场，工作条件艰苦","否","\n\n"]
[255,"唐山市住房和城乡建设局","唐山市建设工程招投标办公室","全额",2,"岗位255","综合类","本科","学士","35周岁及以下","具体专业名称：土木工程、建筑工程、工业与民用建筑、建筑与土木工程、建筑工程管理、工程管理、工程造价、建设工程管理、土木工程建造与管理、建设工程管理","限高校毕业生",null,"否","\n\n\n"]
[256,"唐山市住房和城乡建设局","唐山市燃气供热安全管理站","全额",1,"岗位256","综合类","本科","学士","30周岁及以下","具体专业名称：供热通风与空调工程、建筑环境与设备工程、建筑环境与能源应用工程、城市燃气工程、“供热、供燃气、通风与空调工程”、“供热、供燃气、通风及空调工程”","限高校毕业生","需经常到施工现场，工作条件艰苦","否","\n\n\n"]
[257,"唐山市住房和城乡建设局","唐山市燃气供热安全管理站","全额",1,"岗位257","综合类","本科","学士","30周岁及以下","具体专业名称：供热通风与空调工程、建筑环境与设备工程、建筑环境与能源应用工程、城市燃气工程、“供热、供燃气、通风与空调工程”、“供热、供燃气、通风及空调工程”",null,"需经常到施工现场，工作条件艰苦","否","\n\n\n"]
[258,"唐山市退役军人事务局","唐山市军队离休退休干部第二休养所","全额",1,"岗位258","综合类","硕士研究生","硕士","40周岁及以下","不限","具有中级及以上职称证书",null,"否","\n\n"]
[259,"唐山市退役军人事务局","唐山市军队离休退休干部工作第三管理所","全额",1,"岗位259","综合类","本科","学士","35周岁及以下","具体专业名称：会计、会计学、财务管理、财务管理学\n本科专业类：经济学类、经济与贸易类","限高校毕业生",null,"否","\n\n"]
[260,"唐山市退役军人事务局","唐山市革命伤残军人假肢服务中心","差额",1,"岗位260","综合类","本科","学士","35周岁及以下","本科专业类：电气类\n研究生一级学科：电气工程","限高校毕业生",null,"否","\n\n"]
[261,"唐山市文化广电和旅游局","唐山市图书馆","全额",1,"岗位261","综合类","本科","学士","35周岁及以下","具体专业名称：艺术设计学、环境设计、视觉传达与媒体设计、数字媒体设计、视觉传达设计、数字媒体艺术","限高校毕业生",null,"否","\n\n"]
[262,"唐山市文化广电和旅游局","唐山市群众艺术馆","全额",1,"岗位262","综合类","本科","学士","35周岁及以下","具体专业名称：计算机科学与技术、数字媒体技术、新媒体技术","限高校毕业生","工作条件艰苦","否","\n\n"]
[263,"唐山市行政审批局","唐山市公共资源交易中心","全额",3,"岗位263","综合类","本科","学士","35周岁及以下","具体专业名称：会计、会计学、财务管理、财务管理学","限高校毕业生",null,"否","\n\n"]
[264,"唐山市行政审批局","唐山市公共资源交易中心","全额",1,"岗位264","综合类","本科","学士","35周岁及以下","具体专业名称：电子与计算机工程\n本科专业类：计算机类\n研究生一级学科：计算机科学与技术","限高校毕业生","经常加班，工作条件艰苦","否","\n\n\n"]
[265,"唐山市行政审批局","唐山市公共资源交易中心","全额",1,"岗位265","综合类","本科","学士","35周岁及以下","具体专业名称：播音与主持艺术、人力资源管理、汉语言文学、工商管理、行政管理","限高校毕业生","经常加班，工作条件艰苦","否","\n\n"]
[266,"唐山市海洋口岸和港航管理局","唐山市港口综合信息服务中心","全额",1,"岗位266","综合类","硕士研究生","硕士","30周岁及以下","具体专业名称：船舶与海洋工程、“港口、海岸及近海工程”、水工结构工程",null,null,"否","\n\n"]
[267,"唐山市海洋口岸和港航管理局","唐山市港口综合信息服务中心","全额",1,"岗位267","综合类","硕士研究生","硕士","30周岁及以下","具体专业名称：船舶与海洋工程、“港口、海岸及近海工程”、水工结构工程","限高校毕业生",null,"否","\n\n"]
[268,"唐山市政府直属事业单位","唐山市食品药品综合检验检测中心","全额",1,"岗位268","综合类","本科","学士","35周岁及以下","具体专业名称：生物工程、生物技术、生物信息学","具有助理农艺师及以上职称证书、具有助理农经师及以上职称证书、具有助理畜牧师及以上职称证书、具有助理兽医师及以上职称证书",null,"否","\n\n\n\n"]
[269,"唐山市政府直属事业单位","唐山市食品药品综合检验检测中心","全额",1,"岗位269","综合类","本科","学士","30周岁及以下","具体专业名称：会计、会计学、财务管理","具有会计专业初级及以上职称证书",null,"否","\n\n"]
[270,"唐山国际旅游岛管理委员会","唐山国际旅游岛退役军人服务中心","全额",1,"岗位270","综合类","本科","学士","35周岁及以下","具体专业名称：计算机科学与技术、网络工程、信息安全","限高校毕业生",null,"否","\n\n"]
[271,"唐山国际旅游岛管理委员会","唐山国际旅游岛退役军人服务中心","全额",1,"岗位271","综合类","本科","学士","35周岁及以下","具体专业名称：社会学、社会工作、公共事业管理",null,null,"否","\n\n"]
["合计",{"$nulls":3},{"$f":"SUM(E4:E274)","v":437},{"$nulls":9},"\n\n"]
["注：“高校毕业生”是指未落实工作单位的国家统一招生的高等院校普通类2018、2019、2020年毕业生（离校时其户口、档案、组织关系仍保留在原毕业学校，或保留在各级毕业生就业主管部门、毕业生就业指导服务中心、各级人才交流服务机构和各级公共就业服务机构）。"]

{"sheet":"技师学院专业筛查","index":1,"n_rows":3,"n_cols":1,"rows_kept":3,"hidden":true}
["专业名称"]
["焊接加工"]
["电气自动化设备安装与维修"]

{"sheet":"专业筛查（存疑）","index":2,"n_rows":198,"n_cols":7,"rows_kept":198,"hidden":true}
["岗位名称","学历底限","专业名称（岗位信息表）","本科库筛查","研究生库\n（一级学科）筛查","研究生库\n（二级学科）筛查","研究生库\n专硕筛查"]
["岗位2",{"$f":"IFERROR(VLOOKUP(A2,岗位信息表!$F$4:$H$87,2,0),\"\")","v":"综合类"},"律师",{"$f":"IFERROR(VLOOKUP($C2,#REF!,4,0),\"\")&IFERROR(\"；\"&VLOOKUP(C2,#REF!,3,0),\"\")","v":""},{"$f":"IFERROR(VLOOKUP(C2,#REF!,3,0),\"\")","v":""},{"$f":"IFERROR(VLOOKUP(C2,#REF!,3,0),\"\")","v":""},{"$f":"IFERROR(VLOOKUP(C2,#REF!,2,0),\"\")","v":""}]
["岗位2",{"$f":"IFERROR(VLOOKUP(A3,岗位信息表!$F$4:$H$87,2,0),\"\")","v":"综合类"},"法律事务",{"$f":"IFERROR(VLOOKUP($C3,#REF!,4,0),\"\")&IFERROR(\"；\"&VLOOKUP(C3,#REF!,3,0),\"\")","v":""},{"$f":"IFERROR(VLOOKUP(C3,#REF!,3,0),\"\")","v":""},{"$f":"IFERROR(VLOOKUP(C3,#REF!,3,0),\"\")","v":""},{"$f":"IFERROR(VLOOKUP(C3,#REF!,2,0),\"\")","v":""}]
["岗位4",{"$f":"IFERROR(VLOOKUP(A4,岗位信息表!$F$4:$H$87,2,0),\"\")","v":"综合类"},"计算机网络",{"$f":"IFERROR(VLOOKUP($C4,#REF!,4,0),\"\")&IFERROR(\"；\"&VLOOKUP(C4,#REF!,3,0),\"\")","v":""},{"$f":"IFERROR(VLOOKUP(C4,#REF!,3,0),\"\")","v":""},{"$f":"IFERROR(VLOOKUP(C4,#REF!,3,0),\"\")","v":""},{"$f":"IFERROR(VLOOKUP(C4,#REF!,2,0),\"\")","v":""}]
["岗位4",{"$f":"IFERROR(VLOOKUP(A5,岗位信息表!$F$4:$H$87,2,0),\"\")","v":"综合类"},"计算机网络技术",{"$f":"IFERROR(VLOOKUP($C5,#REF!,4,0),\"\")&IFERROR(\"；\"&VLOOKUP(C5,#REF!,3,0),\"\")","v":""},{"$f":"IFERROR(VLOOKUP(C5,#REF!,3,0),\"\")","v":""},{"$f":"IFERROR(VLOOKUP(C5,#REF!,3,0),\"\")","v":""},{"$f":"IFERROR(VLOOKUP(C5,#REF!,2,0),\"\")","v":""}]
["岗位4",{"$f":"IFERROR(VLOOKUP(A6,岗位信息表!$F$4:$H$87,2,0),\"\")","v":"综合类"},"计算机网络工程",{"$f":"IFERROR(VLOOKUP($C6,#REF!,4,0),\"\")&IFERROR(\"；\"&VLOOKUP(C6,#REF!,3,0),\"\")","v":""},{"$f":"IFERROR(VLOOKUP(C6,#REF!,3,0),\"\")","v":""},{"$f":"IFERROR(VLOOKUP(C6,#REF!,3,0),\"\")","v":""},{"$f":"IFERROR(VLOOKUP(C6,#REF!,2,0),\"\")","v":""}]
["岗位4",{"$f":"IFERROR(VLOOKUP(A7,岗位信息表!$F$4:$H$87,2,0),\"\")","v":"综合类"},"计算机网络技术工程",{"$f":"IFERROR(VLOOKUP($C7,#REF!,4,0),\"\")&IFERROR(\"；\"&VLOOKUP(C7,#REF!,3,0),\"\")","v":""},{"$f":"IFERROR(VLOOKUP(C7,#REF!,3,0),\"\")","v":""},{"$f":"IFERROR(VLOOKUP(C7,#REF!,3,0),\"\")","v":""},{"$f":"IFERROR(VLOOKUP(C7,#REF!,2,0),\"\")","v":""}]
["岗位5",{"$f":"IFERROR(VLOOKUP(A8,岗位信息表!$F$4:$H$87,2,0),\"\")","v":"综合类"},"财务会计",{"$f":"IFERROR(VLOOKUP($C8,#REF!,4,0),\"\")&IFERROR(\"；\"&VLOOKUP(C8,#REF!,3,0),\"\")","v":""},{"$f":"IFERROR(VLOOKUP(C8,#REF!,3,0),\"\")","v":""},{"$f":"IFERROR(VLOOKUP(C8,#REF!,3,0),\"\")","v":""},{"$f":"IFERROR(VLOOKUP(C8,#REF!,2,0),\"\")","v":""}]
["岗位5",{"$f":"IFERROR(VLOOKUP(A9,岗位信息表!$F$4:$H$87,2,0),\"\")","v":"综合类"},"财务信息管理",{"$f":"IFERROR(VLOOKUP($C9,#REF!,4,0),\"\")&IFERROR(\"；\"&VLOOKUP(C9,#REF!,3,0),\"\")","v":""},{"$f":"IFERROR(VLOOKUP(C9,#REF!,3,0),\"\")","v":""},{"$f":"IFERROR(VLOOKUP(C9,#REF!,3,0),\"\")","v":""},{"$f":"IFERROR(VLOOKUP(C9,#REF!,2,0),\"\")","v":""}]
["岗位8",{"$f":"IFERROR(VLOOKUP(A10,岗位信息表!$F$4:$H$87,2,0),\"\")","v":"综合类"},"针灸学",{"$f":"IFERROR(VLOOKUP($C10,#REF!,4,0),\"\")&IFERROR(\"；\"&VLOOKUP(C10,#REF!,3,0),\"\")","v":""},{"$f":"IFERROR(VLOOKUP(C10,#REF!,3,0),\"\")","v":""},{"$f":"IFERROR(VLOOKUP(C10,#REF!,3,0),\"\")","v":""},{"$f":"IFERROR(VLOOKUP(C10,#REF!,2,0),\"\")","v":""}]
["岗位9",{"$f":"IFERROR(VLOOKUP(A11,岗位信息表!$F$4:$H$87,2,0),\"\")","v":"综合类"},"公共管理类",{"$f":"IFERROR(VLOOKUP($C11,#REF!,4,0),\"\")&IFERROR(\"；\"&VLOOKUP(C11,#REF!,3,0),\"\")","v":""},{"$f":"IFERROR(VLOOKUP(C11,#REF!,3,0),\"\")","v":""},{"$f":"IFERROR(VLOOKUP(C11,#REF!,3,0),\"\")","v":""},{"$f":"IFERROR(VLOOKUP(C11,#REF!,2,0),\"\")","v":""}]
["岗位11",{"$f":"IFERROR(VLOOKUP(A12,岗位信息表!$F$4:$H$87,2,0),\"\")","v":"综合类"},"化工工程与技术类",{"$f":"IFERROR(VLOOKUP($C12,#REF!,4,0),\"\")&IFERROR(\"；\"&VLOOKUP(C12,#REF!,3,0),\"\")","v":""},{"$f":"IFERROR(VLOOKUP(C12,#REF!,3,0),\"\")","v":""},{"$f":"IFERROR(VLOOKUP(C12,#REF!,3,0),\"\")","v":""},{"$f":"IFERROR(VLOOKUP(C12,#REF!,2,0),\"\")","v":""}]
["岗位12",{"$f":"IFERROR(VLOOKUP(A13,岗位信息表!$F$4:$H$87,2,0),\"\")","v":"综合类"},"自动化或管理类",{"$f":"IFERROR(VLOOKUP($C13,#REF!,4,0),\"\")&IFERROR(\"；\"&VLOOKUP(C13,#REF!,3,0),\"\")","v":""}]
["岗位13",{"$f":"IFERROR(VLOOKUP(A14,岗位信息表!$F$4:$H$87,2,0),\"\")","v":"综合类"},"自动化或管理类",{"$f":"IFERROR(VLOOKUP($C14,#REF!,4,0),\"\")&IFERROR(\"；\"&VLOOKUP(C14,#REF!,3,0),\"\")","v":""}]
["岗位60",{"$f":"IFERROR(VLOOKUP(A15,岗位信息表!$F$4:$H$87,2,0),\"\")","v":"教育类"},"哲学",{"$f":"IFERROR(VLOOKUP($C15,#REF!,4,0),\"\")&IFERROR(\"；\"&VLOOKUP(C15,#REF!,3,0),\"\")","v":""},{"$f":"IFERROR(VLOOKUP(C15,#REF!,3,0),\"\")","v":""},{"$f":"IFERROR(VLOOKUP(C15,#REF!,3,0),\"\")","v":""},{"$f":"IFERROR(VLOOKUP(C15,#REF!,2,0),\"\")","v":""}]
["岗位60",{"$f":"IFERROR(VLOOKUP(A16,岗位信息表!$F$4:$H$87,2,0),\"\")","v":"教育类"},"政治与经济学",{"$f":"IFERROR(VLOOKUP($C16,#REF!,4,0),\"\")&IFERROR(\"；\"&VLOOKUP(C16,#REF!,3,0),\"\")","v":""},{"$f":"IFERROR(VLOOKUP(C16,#REF!,3,0),\"\")","v":""},{"$f":"IFERROR(VLOOKUP(C16,#REF!,3,0),\"\")","v":""},{"$f":"IFERROR(VLOOKUP(C16,#REF!,2,0),\"\")","v":""}]
["岗位60",{"$f":"IFERROR(VLOOKUP(A17,岗位信息表!$F$4:$H$87,2,0),\"\")","v":"教育类"},"政治学",{"$f":"IFERROR(VLOOKUP($C17,#REF!,4,0),\"\")&IFERROR(\"；\"&VLOOKUP(C17,#REF!,3,0),\"\")","v":""},{"$f":"IFERROR(VLOOKUP(C17,#REF!,3,0),\"\")","v":""},{"$f":"IFERROR(VLOOKUP(C17,#REF!,3,0),\"\")","v":""},{"$f":"IFERROR(VLOOKUP(C17,#REF!,2,0),\"\")","v":""}]
["岗位61",{"$f":"IFERROR(VLOOKUP(A18,岗位信息表!$F$4:$H$87,2,0),\"\")","v":"教育类"},"社会学（公共事业管理）",{"$f":"IFERROR(VLOOKUP($C18,#REF!,4,0),\"\")&IFERROR(\"；\"&VLOOKUP(C18,#REF!,3,0),\"\")","v":""},{"$f":"IFERROR(VLOOKUP(C18,#REF!,3,0),\"\")","v":""},{"$f":"IFERROR(VLOOKUP(C18,#REF!,3,0),\"\")","v":""},{"$f":"IFERROR(VLOOKUP(C18,#REF!,2,0),\"\")","v":""}]
["岗位61",{"$f":"IFERROR(VLOOKUP(A19,岗位信息表!$F$4:$H$87,2,0),\"\")","v":"教育类"},"教育行政学",{"$f":"IFERROR(VLOOKUP($C19,#REF!,4,0),\"\")&IFERROR(\"；\"&VLOOKUP(C19,#REF!,3,0),\"\")","v":""},{"$f":"IFERROR(VLOOKUP(C19,#REF!,3,0),\"\")","v":""},{"$f":"IFERROR(VLOOKUP(C19,#REF!,3,0),\"\")","v":""},{"$f":"IFERROR(VLOOKUP(C19,#REF!,2,0),\"\")","v":""}]
["岗位62",{"$f":"IFERROR(VLOOKUP(A20,岗位信息表!$F$4:$H$87,2,0),\"\")","v":"教育类"},"英语（翻译方向）",{"$f":"IFERROR(VLOOKUP($C20,#REF!,4,0),\"\")&IFERROR(\"；\"&VLOOKUP(C20,#REF!,3,0),\"\")","v":""},{"$f":"IFERROR(VLOOKUP(C20,#REF!,3,0),\"\")","v":""},{"$f":"IFERROR(VLOOKUP(C20,#REF!,3,0),\"\")","v":""},{"$f":"IFERROR(VLOOKUP(C20,#REF!,2,0),\"\")","v":""}]
["岗位62",{"$f":"IFERROR(VLOOKUP(A21,岗位信息表!$F$4:$H$87,2,0),\"\")","v":"教育类"},"英语（教育方向）",{"$f":"IFERROR(VLOOKUP($C21,#REF!,4,0),\"\")&IFERROR(\"；\"&VLOOKUP(C21,#REF!,3,0),\"\")","v":""},{"$f":"IFERROR(VLOOKUP(C21,#REF!,3,0),\"\")","v":""},{"$f":"IFERROR(VLOOKUP(C21,#REF!,3,0),\"\")","v":""},{"$f":"IFERROR(VLOOKUP(C21,#REF!,2,0),\"\")","v":""}]
["岗位63",{"$f":"IFERROR(VLOOKUP(A22,岗位信息表!$F$4:$H$87,2,0),\"\")","v":"教育类"},"系统科学与工程",{"$f":"IFERROR(VLOOKUP($C22,#REF!,4,0),\"\")&IFERROR(\"；\"&VLOOKUP(C22,#REF!,3,0),\"\")","v":""},{"$f":"IFERROR(VLOOKUP(C22,#REF!,3,0),\"\")","v":""},{"$f":"IFERROR(VLOOKUP(C22,#REF!,3,0),\"\")","v":""},{"$f":"IFERROR(VLOOKUP(C22,#REF!,2,0),\"\")","v":""}]
["岗位64",{"$f":"IFERROR(VLOOKUP(A23,岗位信息表!$F$4:$H$87,2,0),\"\")","v":"教育类"},"汉语言文学(新闻）",null,{"$f":"IFERROR(VLOOKUP(C23,#REF!,3,0),\"\")","v":""},{"$f":"IFERROR(VLOOKUP(C23,#REF!,3,0),\"\")","v":""},{"$f":"IFERROR(VLOOKUP(C23,#REF!,2,0),\"\")","v":""}]
["岗位64",{"$f":"IFERROR(VLOOKUP(A24,岗位信息表!$F$4:$H$87,2,0),\"\")","v":"教育类"},"汉语言文学（高级文秘）",{"$f":"IFERROR(VLOOKUP($C24,#REF!,4,0),\"\")&IFERROR(\"；\"&VLOOKUP(C24,#REF!,3,0),\"\")","v":""},{"$f":"IFERROR(VLOOKUP(C24,#REF!,3,0),\"\")","v":""},{"$f":"IFERROR(VLOOKUP(C24,#REF!,3,0),\"\")","v":""},{"$f":"IFERROR(VLOOKUP(C24,#REF!,2,0),\"\")","v":""}]
["岗位64",{"$f":"IFERROR(VLOOKUP(A25,岗位信息表!$F$4:$H$87,2,0),\"\")","v":"教育类"},"汉语言文学（编辑）",{"$f":"IFERROR(VLOOKUP($C25,#REF!,4,0),\"\")&IFERROR(\"；\"&VLOOKUP(C25,#REF!,3,0),\"\")","v":""},{"$f":"IFERROR(VLOOKUP(C25,#REF!,3,0),\"\")","v":""},{"$f":"IFERROR(VLOOKUP(C25,#REF!,3,0),\"\")","v":""},{"$f":"IFERROR(VLOOKUP(C25,#REF!,2,0),\"\")","v":""}]
["岗位65",{"$f":"IFERROR(VLOOKUP(A26,岗位信息表!$F$4:$H$87,2,0),\"\")","v":"教育类"},"学前教育",{"$f":"IFERROR(VLOOKUP($C26,#REF!,4,0),\"\")&IFERROR(\"；\"&VLOOKUP(C26,#REF!,3,0),\"\")","v":""},{"$f":"IFERROR(VLOOKUP(C26,#REF!,3,0),\"\")","v":""},{"$f":"IFERROR(VLOOKUP(C26,#REF!,3,0),\"\")","v":""},{"$f":"IFERROR(VLOOKUP(C26,#REF!,2,0),\"\")","v":""}]
["岗位66",{"$f":"IFERROR(VLOOKUP(A27,岗位信息表!$F$4:$H$87,2,0),\"\")","v":"教育类"},"学前教育",{"$f":"IFERROR(VLOOKUP($C27,#REF!,4,0),\"\")&IFERROR(\"；\"&VLOOKUP(C27,#REF!,3,0),\"\")","v":""},{"$f":"IFERROR(VLOOKUP(C27,#REF!,3,0),\"\")","v":""},{"$f":"IFERROR(VLOOKUP(C27,#REF!,3,0),\"\")","v":""},{"$f":"IFERROR(VLOOKUP(C27,#REF!,2,0),\"\")","v":""}]
["岗位67",{"$f":"IFERROR(VLOOKUP(A28,岗位信息表!$F$4:$H$87,2,0),\"\")","v":"教育类"},"儿童发展教育心理学",{"$f":"IFERROR(VLOOKUP($C28,#REF!,4,0),\"\")&IFERROR(\"；\"&VLOOKUP(C28,#REF!,3,0),\"\")","v":""},{"$f":"IFERROR(VLOOKUP(C28,#REF!,3,0),\"\")","v":""},{"$f":"IFERROR(VLOOKUP(C28,#REF!,3,0),\"\")","v":""},{"$f":"IFERROR(VLOOKUP(C28,#REF!,2,0),\"\")","v":""}]
["岗位70",{"$f":"IFERROR(VLOOKUP(A29,岗位信息表!$F$4:$H$87,2,0),\"\")","v":"教育类"},"美术教育",{"$f":"IFERROR(VLOOKUP($C29,#REF!,4,0),\"\")&IFERROR(\"；\"&VLOOKUP(C29,#REF!,3,0),\"\")","v":""},{"$f":"IFERROR(VLOOKUP(C29,#REF!,3,0),\"\")","v":""},{"$f":"IFERROR(VLOOKUP(C29,#REF!,3,0),\"\")","v":""},{"$f":"IFERROR(VLOOKUP(C29,#REF!,2,0),\"\")","v":""}]
["岗位71",{"$f":"IFERROR(VLOOKUP(A30,岗位信息表!$F$4:$H$87,2,0),\"\")","v":"综合类"},"会计",{"$f":"IFERROR(VLOOKUP($C30,#REF!,4,0),\"\")&IFERROR(\"；\"&VLOOKUP(C30,#REF!,3,0),\"\")","v":""},{"$f":"IFERROR(VLOOKUP(C30,#REF!,3,0),\"\")","v":""},{"$f":"IFERROR(VLOOKUP(C30,#REF!,3,0),\"\")","v":""},{"$f":"IFERROR(VLOOKUP(C30,#REF!,2,0),\"\")","v":""}]
["岗位74",{"$f":"IFERROR(VLOOKUP(A31,岗位信息表!$F$4:$H$87,2,0),\"\")","v":"综合类"},"会计",{"$f":"IFERROR(VLOOKUP($C31,#REF!,4,0),\"\")&IFERROR(\"；\"&VLOOKUP(C31,#REF!,3,0),\"\")","v":""},{"$f":"IFERROR(VLOOKUP(C31,#REF!,3,0),\"\")","v":""},{"$f":"IFERROR(VLOOKUP(C31,#REF!,3,0),\"\")","v":""},{"$f":"IFERROR(VLOOKUP(C31,#REF!,2,0),\"\")","v":""}]
["岗位84",{"$f":"IFERROR(VLOOKUP(A32,岗位信息表!$F$4:$H$87,2,0),\"\")","v":"综合类"},"会计",{"$f":"IFERROR(VLOOKUP($C32,#REF!,4,0),\"\")&IFERROR(\"；\"&VLOOKUP(C32,#REF!,3,0),\"\")","v":""},{"$f":"IFERROR(VLOOKUP(C32,#REF!,3,0),\"\")","v":""},{"$f":"IFERROR(VLOOKUP(C32,#REF!,3,0),\"\")","v":""},{"$f":"IFERROR(VLOOKUP(C32,#REF!,2,0),\"\")","v":""}]
["岗位94",{"$f":"IFERROR(VLOOKUP(A33,岗位信息表!$F$4:$H$87,2,0),\"\")","v":""},"医学检验",{"$f":"IFERROR(VLOOKUP($C33,#REF!,4,0),\"\")&IFERROR(\"；\"&VLOOKUP(C33,#REF!,3,0),\"\")","v":""},{"$f":"IFERROR(VLOOKUP(C33,#REF!,3,0),\"\")","v":""},{"$f":"IFERROR(VLOOKUP(C33,#REF!,3,0),\"\")","v":""},{"$f":"IFERROR(VLOOKUP(C33,#REF!,2,0),\"\")","v":""}]
["岗位120",{"$f":"IFERROR(VLOOKUP(A34,岗位信息表!$F$4:$H$87,2,0),\"\")","v":""},"高级护理",{"$f":"IFERROR(VLOOKUP($C34,#REF!,4,0),\"\")&IFERROR(\"；\"&VLOOKUP(C34,#REF!,3,0),\"\")","v":""},{"$f":"IFERROR(VLOOKUP(C34,#REF!,3,0),\"\")","v":""},{"$f":"IFERROR(VLOOKUP(C34,#REF!,3,0),\"\")","v":""},{"$f":"IFERROR(VLOOKUP(C34,#REF!,2,0),\"\")","v":""}]
["岗位121",{"$f":"IFERROR(VLOOKUP(A35,岗位信息表!$F$4:$H$87,2,0),\"\")","v":""},"高级护理",{"$f":"IFERROR(VLOOKUP($C35,#REF!,4,0),\"\")&IFERROR(\"；\"&VLOOKUP(C35,#REF!,3,0),\"\")","v":""},{"$f":"IFERROR(VLOOKUP(C35,#REF!,3,0),\"\")","v":""},{"$f":"IFERROR(VLOOKUP(C35,#REF!,3,0),\"\")","v":""},{"$f":"IFERROR(VLOOKUP(C35,#REF!,2,0),\"\")","v":""}]
["岗位129",{"$f":"IFERROR(VLOOKUP(A36,岗位信息表!$F$4:$H$87,2,0),\"\")","v":""},"机械设计制造及自动化",{"$f":"IFERROR(VLOOKUP($C36,#REF!,4,0),\"\")&IFERROR(\"；\"&VLOOKUP(C36,#REF!,3,0),\"\")","v":""},{"$f":"IFERROR(VLOOKUP(C36,#REF!,3,0),\"\")","v":""},{"$f":"IFERROR(VLOOKUP(C36,#REF!,3,0),\"\")","v":""},{"$f":"IFERROR(VLOOKUP(C36,#REF!,2,0),\"\")","v":""}]
["岗位145",{"$f":"IFERROR(VLOOKUP(A37,岗位信息表!$F$4:$H$87,2,0),\"\")","v":""},"电气工程",{"$f":"IFERROR(VLOOKUP($C37,#REF!,4,0),\"\")&IFERROR(\"；\"&VLOOKUP(C37,#REF!,3,0),\"\")","v":""},{"$f":"IFERROR(VLOOKUP(C37,#REF!,3,0),\"\")","v":""},{"$f":"IFERROR(VLOOKUP(C37,#REF!,3,0),\"\")","v":""},{"$f":"IFERROR(VLOOKUP(C37,#REF!,2,0),\"\")","v":""}]
["岗位146",{"$f":"IFERROR(VLOOKUP(A38,岗位信息表!$F$4:$H$87,2,0),\"\")","v":""},"车辆工程相关专业",{"$f":"IFERROR(VLOOKUP($C38,#REF!,4,0),\"\")&IFERROR(\"；\"&VLOOKUP(C38,#REF!,3,0),\"\")","v":""},{"$f":"IFERROR(VLOOKUP(C38,#REF!,3,0),\"\")","v":""},{"$f":"IFERROR(VLOOKUP(C38,#REF!,3,0),\"\")","v":""},{"$f":"IFERROR(VLOOKUP(C38,#REF!,2,0),\"\")","v":""}]
["岗位147",{"$f":"IFERROR(VLOOKUP(A39,岗位信息表!$F$4:$H$87,2,0),\"\")","v":""},"机械制造及自动化\n",{"$f":"IFERROR(VLOOKUP($C39,#REF!,4,0),\"\")&IFERROR(\"；\"&VLOOKUP(C39,#REF!,3,0),\"\")","v":""},{"$f":"IFERROR(VLOOKUP(C39,#REF!,3,0),\"\")","v":""},{"$f":"IFERROR(VLOOKUP(C39,#REF!,3,0),\"\")","v":""},{"$f":"IFERROR(VLOOKUP(C39,#REF!,2,0),\"\")","v":""}]
["岗位147",{"$f":"IFERROR(VLOOKUP(A40,岗位信息表!$F$4:$H$87,2,0),\"\")","v":""},"高级制造技术\n",{"$f":"IFERROR(VLOOKUP($C40,#REF!,4,0),\"\")&IFERROR(\"；\"&VLOOKUP(C40,#REF!,3,0),\"\")","v":""},{"$f":"IFERROR(VLOOKUP(C40,#REF!,3,0),\"\")","v":""},{"$f":"IFERROR(VLOOKUP(C40,#REF!,3,0),\"\")","v":""},{"$f":"IFERROR(VLOOKUP(C40,#REF!,2,0),\"\")","v":""}]
["岗位147",{"$f":"IFERROR(VLOOKUP(A41,岗位信息表!$F$4:$H$87,2,0),\"\")","v":""},"机械工程",{"$f":"IFERROR(VLOOKUP($C41,#REF!,4,0),\"\")&IFERROR(\"；\"&VLOOKUP(C41,#REF!,3,0),\"\")","v":""},{"$f":"IFERROR(VLOOKUP(C41,#REF!,3,0),\"\")","v":""},{"$f":"IFERROR(VLOOKUP(C41,#REF!,3,0),\"\")","v":""},{"$f":"IFERROR(VLOOKUP(C41,#REF!,2,0),\"\")","v":""}]
["岗位148",{"$f":"IFERROR(VLOOKUP(A42,岗位信息表!$F$4:$H$87,2,0),\"\")","v":""},"集成电路工程\n",{"$f":"IFERROR(VLOOKUP($C42,#REF!,4,0),\"\")&IFERROR(\"；\"&VLOOKUP(C42,#REF!,3,0),\"\")","v":""},{"$f":"IFERROR(VLOOKUP(C42,#REF!,3,0),\"\")","v":""},{"$f":"IFERROR(VLOOKUP(C42,#REF!,3,0),\"\")","v":""},{"$f":"IFERROR(VLOOKUP(C42,#REF!,2,0),\"\")","v":""}]
["岗位148",{"$f":"IFERROR(VLOOKUP(A43,岗位信息表!$F$4:$H$87,2,0),\"\")","v":""},"控制科学与工程",{"$f":"IFERROR(VLOOKUP($C43,#REF!,4,0),\"\")&IFERROR(\"；\"&VLOOKUP(C43,#REF!,3,0),\"\")","v":""},{"$f":"IFERROR(VLOOKUP(C43,#REF!,3,0),\"\")","v":""},{"$f":"IFERROR(VLOOKUP(C43,#REF!,3,0),\"\")","v":""},{"$f":"IFERROR(VLOOKUP(C43,#REF!,2,0),\"\")","v":""}]
["岗位149",{"$f":"IFERROR(VLOOKUP(A44,岗位信息表!$F$4:$H$87,2,0),\"\")","v":""},"设计艺术学相关专业",{"$f":"IFERROR(VLOOKUP($C44,#REF!,4,0),\"\")&IFERROR(\"；\"&VLOOKUP(C44,#REF!,3,0),\"\")","v":""},{"$f":"IFERROR(VLOOKUP(C44,#REF!,3,0),\"\")","v":""},{"$f":"IFERROR(VLOOKUP(C44,#REF!,3,0),\"\")","v":""},{"$f":"IFERROR(VLOOKUP(C44,#REF!,2,0),\"\")","v":""}]
["岗位150",{"$f":"IFERROR(VLOOKUP(A45,岗位信息表!$F$4:$H$87,2,0),\"\")","v":""},"思想政治教育相关专业",{"$f":"IFERROR(VLOOKUP($C45,#REF!,4,0),\"\")&IFERROR(\"；\"&VLOOKUP(C45,#REF!,3,0),\"\")","v":""},{"$f":"IFERROR(VLOOKUP(C45,#REF!,3,0),\"\")","v":""},{"$f":"IFERROR(VLOOKUP(C45,#REF!,3,0),\"\")","v":""},{"$f":"IFERROR(VLOOKUP(C45,#REF!,2,0),\"\")","v":""}]
["岗位150",{"$f":"IFERROR(VLOOKUP(A46,岗位信息表!$F$4:$H$87,2,0),\"\")","v":""},"马克思主义理论",{"$f":"IFERROR(VLOOKUP($C46,#REF!,4,0),\"\")&IFERROR(\"；\"&VLOOKUP(C46,#REF!,3,0),\"\")","v":""},{"$f":"IFERROR(VLOOKUP(C46,#REF!,3,0),\"\")","v":""},{"$f":"IFERROR(VLOOKUP(C46,#REF!,3,0),\"\")","v":""},{"$f":"IFERROR(VLOOKUP(C46,#REF!,2,0),\"\")","v":""}]
["岗位151",{"$f":"IFERROR(VLOOKUP(A47,岗位信息表!$F$4:$H$87,2,0),\"\")","v":""},"投资与金融管理",{"$f":"IFERROR(VLOOKUP($C47,#REF!,4,0),\"\")&IFERROR(\"；\"&VLOOKUP(C47,#REF!,3,0),\"\")","v":""},{"$f":"IFERROR(VLOOKUP(C47,#REF!,3,0),\"\")","v":""},{"$f":"IFERROR(VLOOKUP(C47,#REF!,3,0),\"\")","v":""},{"$f":"IFERROR(VLOOKUP(C47,#REF!,2,0),\"\")","v":""}]
["岗位151",{"$f":"IFERROR(VLOOKUP(A48,岗位信息表!$F$4:$H$87,2,0),\"\")","v":""},"金融与管理",{"$f":"IFERROR(VLOOKUP($C48,#REF!,4,0),\"\")&IFERROR(\"；\"&VLOOKUP(C48,#REF!,3,0),\"\")","v":""},{"$f":"IFERROR(VLOOKUP(C48,#REF!,3,0),\"\")","v":""},{"$f":"IFERROR(VLOOKUP(C48,#REF!,3,0),\"\")","v":""},{"$f":"IFERROR(VLOOKUP(C48,#REF!,2,0),\"\")","v":""}]
["岗位151",{"$f":"IFERROR(VLOOKUP(A49,岗位信息表!$F$4:$H$87,2,0),\"\")","v":""},"城乡规划学",{"$f":"IFERROR(VLOOKUP($C49,#REF!,4,0),\"\")&IFERROR(\"；\"&VLOOKUP(C49,#REF!,3,0),\"\")","v":""},{"$f":"IFERROR(VLOOKUP(C49,#REF!,3,0),\"\")","v":""},{"$f":"IFERROR(VLOOKUP(C49,#REF!,3,0),\"\")","v":""},{"$f":"IFERROR(VLOOKUP(C49,#REF!,2,0),\"\")","v":""}]
["岗位152",{"$f":"IFERROR(VLOOKUP(A50,岗位信息表!$F$4:$H$87,2,0),\"\")","v":""},"法律类",{"$f":"IFERROR(VLOOKUP($C50,#REF!,4,0),\"\")&IFERROR(\"；\"&VLOOKUP(C50,#REF!,3,0),\"\")","v":""},{"$f":"IFERROR(VLOOKUP(C50,#REF!,3,0),\"\")","v":""},{"$f":"IFERROR(VLOOKUP(C50,#REF!,3,0),\"\")","v":""},{"$f":"IFERROR(VLOOKUP(C50,#REF!,2,0),\"\")","v":""}]
["岗位153",{"$f":"IFERROR(VLOOKUP(A51,岗位信息表!$F$4:$H$87,2,0),\"\")","v":""},"数学",{"$f":"IFERROR(VLOOKUP($C51,#REF!,4,0),\"\")&IFERROR(\"；\"&VLOOKUP(C51,#REF!,3,0),\"\")","v":""},{"$f":"IFERROR(VLOOKUP(C51,#REF!,3,0),\"\")","v":""},{"$f":"IFERROR(VLOOKUP(C51,#REF!,3,0),\"\")","v":""},{"$f":"IFERROR(VLOOKUP(C51,#REF!,2,0),\"\")","v":""}]
["岗位154",{"$f":"IFERROR(VLOOKUP(A52,岗位信息表!$F$4:$H$87,2,0),\"\")","v":""},"汉语言文学教育",{"$f":"IFERROR(VLOOKUP($C52,#REF!,4,0),\"\")&IFERROR(\"；\"&VLOOKUP(C52,#REF!,3,0),\"\")","v":""},{"$f":"IFERROR(VLOOKUP(C52,#REF!,3,0),\"\")","v":""},{"$f":"IFERROR(VLOOKUP(C52,#REF!,3,0),\"\")","v":""},{"$f":"IFERROR(VLOOKUP(C52,#REF!,2,0),\"\")","v":""}]
["岗位154",{"$f":"IFERROR(VLOOKUP(A53,岗位信息表!$F$4:$H$87,2,0),\"\")","v":""},"中文应用",{"$f":"IFERROR(VLOOKUP($C53,#REF!,4,0),\"\")&IFERROR(\"；\"&VLOOKUP(C53,#REF!,3,0),\"\")","v":""},{"$f":"IFERROR(VLOOKUP(C53,#REF!,3,0),\"\")","v":""},{"$f":"IFERROR(VLOOKUP(C53,#REF!,3,0),\"\")","v":""},{"$f":"IFERROR(VLOOKUP(C53,#REF!,2,0),\"\")","v":""}]
["岗位155",{"$f":"IFERROR(VLOOKUP(A54,岗位信息表!$F$4:$H$87,2,0),\"\")","v":""},"英语相关专业",{"$f":"IFERROR(VLOOKUP($C54,#REF!,4,0),\"\")&IFERROR(\"；\"&VLOOKUP(C54,#REF!,3,0),\"\")","v":""},{"$f":"IFERROR(VLOOKUP(C54,#REF!,3,0),\"\")","v":""},{"$f":"IFERROR(VLOOKUP(C54,#REF!,3,0),\"\")","v":""},{"$f":"IFERROR(VLOOKUP(C54,#REF!,2,0),\"\")","v":""}]
["岗位156",{"$f":"IFERROR(VLOOKUP(A55,岗位信息表!$F$4:$H$87,2,0),\"\")","v":""},"餐饮、酒店管理相关专业",{"$f":"IFERROR(VLOOKUP($C55,#REF!,4,0),\"\")&IFERROR(\"；\"&VLOOKUP(C55,#REF!,3,0),\"\")","v":""},{"$f":"IFERROR(VLOOKUP(C55,#REF!,3,0),\"\")","v":""},{"$f":"IFERROR(VLOOKUP(C55,#REF!,3,0),\"\")","v":""},{"$f":"IFERROR(VLOOKUP(C55,#REF!,2,0),\"\")","v":""}]
["岗位157",{"$f":"IFERROR(VLOOKUP(A56,岗位信息表!$F$4:$H$87,2,0),\"\")","v":""},"餐饮、酒店管理相关专业",{"$f":"IFERROR(VLOOKUP($C56,#REF!,4,0),\"\")&IFERROR(\"；\"&VLOOKUP(C56,#REF!,3,0),\"\")","v":""},{"$f":"IFERROR(VLOOKUP(C56,#REF!,3,0),\"\")","v":""},{"$f":"IFERROR(VLOOKUP(C56,#REF!,3,0),\"\")","v":""},{"$f":"IFERROR(VLOOKUP(C56,#REF!,2,0),\"\")","v":""}]
["岗位158",{"$f":"IFERROR(VLOOKUP(A57,岗位信息表!$F$4:$H$87,2,0),\"\")","v":""},"汽车类相关专业",{"$f":"IFERROR(VLOOKUP($C57,#REF!,4,0),\"\")&IFERROR(\"；\"&VLOOKUP(C57,#REF!,3,0),\"\")","v":""},{"$f":"IFERROR(VLOOKUP(C57,#REF!,3,0),\"\")","v":""},{"$f":"IFERROR(VLOOKUP(C57,#REF!,3,0),\"\")","v":""},{"$f":"IFERROR(VLOOKUP(C57,#REF!,2,0),\"\")","v":""}]
["岗位159",{"$f":"IFERROR(VLOOKUP(A58,岗位信息表!$F$4:$H$87,2,0),\"\")","v":""},"心理学相关专业",{"$f":"IFERROR(VLOOKUP($C58,#REF!,4,0),\"\")&IFERROR(\"；\"&VLOOKUP(C58,#REF!,3,0),\"\")","v":""},{"$f":"IFERROR(VLOOKUP(C58,#REF!,3,0),\"\")","v":""},{"$f":"IFERROR(VLOOKUP(C58,#REF!,3,0),\"\")","v":""},{"$f":"IFERROR(VLOOKUP(C58,#REF!,2,0),\"\")","v":""}]
["岗位160",{"$f":"IFERROR(VLOOKUP(A59,岗位信息表!$F$4:$H$87,2,0),\"\")","v":""},"舞蹈相关专业",{"$f":"IFERROR(VLOOKUP($C59,#REF!,4,0),\"\")&IFERROR(\"；\"&VLOOKUP(C59,#REF!,3,0),\"\")","v":""},{"$f":"IFERROR(VLOOKUP(C59,#REF!,3,0),\"\")","v":""},{"$f":"IFERROR(VLOOKUP(C59,#REF!,3,0),\"\")","v":""},{"$f":"IFERROR(VLOOKUP(C59,#REF!,2,0),\"\")","v":""}]
["岗位161",{"$f":"IFERROR(VLOOKUP(A60,岗位信息表!$F$4:$H$87,2,0),\"\")","v":""},"艺术设计（装饰雕塑）",{"$f":"IFERROR(VLOOKUP($C60,#REF!,4,0),\"\")&IFERROR(\"；\"&VLOOKUP(C60,#REF!,3,0),\"\")","v":""},{"$f":"IFERROR(VLOOKUP(C60,#REF!,3,0),\"\")","v":""},{"$f":"IFERROR(VLOOKUP(C60,#REF!,3,0),\"\")","v":""},{"$f":"IFERROR(VLOOKUP(C60,#REF!,2,0),\"\")","v":""}]
["岗位163",{"$f":"IFERROR(VLOOKUP(A61,岗位信息表!$F$4:$H$87,2,0),\"\")","v":""},"国际贸易与英语",{"$f":"IFERROR(VLOOKUP($C61,#REF!,4,0),\"\")&IFERROR(\"；\"&VLOOKUP(C61,#REF!,3,0),\"\")","v":""},{"$f":"IFERROR(VLOOKUP(C61,#REF!,3,0),\"\")","v":""},{"$f":"IFERROR(VLOOKUP(C61,#REF!,3,0),\"\")","v":""},{"$f":"IFERROR(VLOOKUP(C61,#REF!,2,0),\"\")","v":""}]
["岗位165",{"$f":"IFERROR(VLOOKUP(A62,岗位信息表!$F$4:$H$87,2,0),\"\")","v":""},"控制科学与工程",{"$f":"IFERROR(VLOOKUP($C62,#REF!,4,0),\"\")&IFERROR(\"；\"&VLOOKUP(C62,#REF!,3,0),\"\")","v":""},{"$f":"IFERROR(VLOOKUP(C62,#REF!,3,0),\"\")","v":""},{"$f":"IFERROR(VLOOKUP(C62,#REF!,3,0),\"\")","v":""},{"$f":"IFERROR(VLOOKUP(C62,#REF!,2,0),\"\")","v":""}]
["岗位166",{"$f":"IFERROR(VLOOKUP(A63,岗位信息表!$F$4:$H$87,2,0),\"\")","v":""},"机械类",{"$f":"IFERROR(VLOOKUP($C63,#REF!,4,0),\"\")&IFERROR(\"；\"&VLOOKUP(C63,#REF!,3,0),\"\")","v":""},{"$f":"IFERROR(VLOOKUP(C63,#REF!,3,0),\"\")","v":""},{"$f":"IFERROR(VLOOKUP(C63,#REF!,3,0),\"\")","v":""},{"$f":"IFERROR(VLOOKUP(C63,#REF!,2,0),\"\")","v":""}]
["岗位172",{"$f":"IFERROR(VLOOKUP(A64,岗位信息表!$F$4:$H$87,2,0),\"\")","v":""},"会计",{"$f":"IFERROR(VLOOKUP($C64,#REF!,4,0),\"\")&IFERROR(\"；\"&VLOOKUP(C64,#REF!,3,0),\"\")","v":""},{"$f":"IFERROR(VLOOKUP(C64,#REF!,3,0),\"\")","v":""},{"$f":"IFERROR(VLOOKUP(C64,#REF!,3,0),\"\")","v":""},{"$f":"IFERROR(VLOOKUP(C64,#REF!,2,0),\"\")","v":""}]
["岗位173",{"$f":"IFERROR(VLOOKUP(A65,岗位信息表!$F$4:$H$87,2,0),\"\")","v":""},"会计",{"$f":"IFERROR(VLOOKUP($C65,#REF!,4,0),\"\")&IFERROR(\"；\"&VLOOKUP(C65,#REF!,3,0),\"\")","v":""},{"$f":"IFERROR(VLOOKUP(C65,#REF!,3,0),\"\")","v":""},{"$f":"IFERROR(VLOOKUP(C65,#REF!,3,0),\"\")","v":""},{"$f":"IFERROR(VLOOKUP(C65,#REF!,2,0),\"\")","v":""}]
["岗位174",{"$f":"IFERROR(VLOOKUP(A66,岗位信息表!$F$4:$H$87,2,0),\"\")","v":""},"环境科学与工程",{"$f":"IFERROR(VLOOKUP($C66,#REF!,4,0),\"\")&IFERROR(\"；\"&VLOOKUP(C66,#REF!,3,0),\"\")","v":""},{"$f":"IFERROR(VLOOKUP(C66,#REF!,3,0),\"\")","v":""},{"$f":"IFERROR(VLOOKUP(C66,#REF!,3,0),\"\")","v":""},{"$f":"IFERROR(VLOOKUP(C66,#REF!,2,0),\"\")","v":""}]
["岗位174",{"$f":"IFERROR(VLOOKUP(A67,岗位信息表!$F$4:$H$87,2,0),\"\")","v":""},"大气科学",{"$f":"IFERROR(VLOOKUP($C67,#REF!,4,0),\"\")&IFERROR(\"；\"&VLOOKUP(C67,#REF!,3,0),\"\")","v":""},{"$f":"IFERROR(VLOOKUP(C67,#REF!,3,0),\"\")","v":""},{"$f":"IFERROR(VLOOKUP(C67,#REF!,3,0),\"\")","v":""},{"$f":"IFERROR(VLOOKUP(C67,#REF!,2,0),\"\")","v":""}]
["岗位174",{"$f":"IFERROR(VLOOKUP(A68,岗位信息表!$F$4:$H$87,2,0),\"\")","v":""},"海洋科学",{"$f":"IFERROR(VLOOKUP($C68,#REF!,4,0),\"\")&IFERROR(\"；\"&VLOOKUP(C68,#REF!,3,0),\"\")","v":""},{"$f":"IFERROR(VLOOKUP(C68,#REF!,3,0),\"\")","v":""},{"$f":"IFERROR(VLOOKUP(C68,#REF!,3,0),\"\")","v":""},{"$f":"IFERROR(VLOOKUP(C68,#REF!,2,0),\"\")","v":""}]
["岗位174",{"$f":"IFERROR(VLOOKUP(A69,岗位信息表!$F$4:$H$87,2,0),\"\")","v":""},"冶金工程",{"$f":"IFERROR(VLOOKUP($C69,#REF!,4,0),\"\")&IFERROR(\"；\"&VLOOKUP(C69,#REF!,3,0),\"\")","v":""},{"$f":"IFERROR(VLOOKUP(C69,#REF!,3,0),\"\")","v":""},{"$f":"IFERROR(VLOOKUP(C69,#REF!,3,0),\"\")","v":""},{"$f":"IFERROR(VLOOKUP(C69,#REF!,2,0),\"\")","v":""}]
["岗位175",{"$f":"IFERROR(VLOOKUP(A70,岗位信息表!$F$4:$H$87,2,0),\"\")","v":""},"环境科学与工程",{"$f":"IFERROR(VLOOKUP($C70,#REF!,4,0),\"\")&IFERROR(\"；\"&VLOOKUP(C70,#REF!,3,0),\"\")","v":""},{"$f":"IFERROR(VLOOKUP(C70,#REF!,3,0),\"\")","v":""},{"$f":"IFERROR(VLOOKUP(C70,#REF!,3,0),\"\")","v":""},{"$f":"IFERROR(VLOOKUP(C70,#REF!,2,0),\"\")","v":""}]
["岗位175",{"$f":"IFERROR(VLOOKUP(A71,岗位信息表!$F$4:$H$87,2,0),\"\")","v":""},"大气科学",{"$f":"IFERROR(VLOOKUP($C71,#REF!,4,0),\"\")&IFERROR(\"；\"&VLOOKUP(C71,#REF!,3,0),\"\")","v":""},{"$f":"IFERROR(VLOOKUP(C71,#REF!,3,0),\"\")","v":""},{"$f":"IFERROR(VLOOKUP(C71,#REF!,3,0),\"\")","v":""},{"$f":"IFERROR(VLOOKUP(C71,#REF!,2,0),\"\")","v":""}]
["岗位175",{"$f":"IFERROR(VLOOKUP(A72,岗位信息表!$F$4:$H$87,2,0),\"\")","v":""},"海洋科学",{"$f":"IFERROR(VLOOKUP($C72,#REF!,4,0),\"\")&IFERROR(\"；\"&VLOOKUP(C72,#REF!,3,0),\"\")","v":""},{"$f":"IFERROR(VLOOKUP(C72,#REF!,3,0),\"\")","v":""},{"$f":"IFERROR(VLOOKUP(C72,#REF!,3,0),\"\")","v":""},{"$f":"IFERROR(VLOOKUP(C72,#REF!,2,0),\"\")","v":""}]
["岗位175",{"$f":"IFERROR(VLOOKUP(A73,岗位信息表!$F$4:$H$87,2,0),\"\")","v":""},"化学工程与技术",{"$f":"IFERROR(VLOOKUP($C73,#REF!,4,0),\"\")&IFERROR(\"；\"&VLOOKUP(C73,#REF!,3,0),\"\")","v":""},{"$f":"IFERROR(VLOOKUP(C73,#REF!,3,0),\"\")","v":""},{"$f":"IFERROR(VLOOKUP(C73,#REF!,3,0),\"\")","v":""},{"$f":"IFERROR(VLOOKUP(C73,#REF!,2,0),\"\")","v":""}]
["岗位175",{"$f":"IFERROR(VLOOKUP(A74,岗位信息表!$F$4:$H$87,2,0),\"\")","v":""},"控制科学与工程",{"$f":"IFERROR(VLOOKUP($C74,#REF!,4,0),\"\")&IFERROR(\"；\"&VLOOKUP(C74,#REF!,3,0),\"\")","v":""},{"$f":"IFERROR(VLOOKUP(C74,#REF!,3,0),\"\")","v":""},{"$f":"IFERROR(VLOOKUP(C74,#REF!,3,0),\"\")","v":""},{"$f":"IFERROR(VLOOKUP(C74,#REF!,2,0),\"\")","v":""}]
["岗位175",{"$f":"IFERROR(VLOOKUP(A75,岗位信息表!$F$4:$H$87,2,0),\"\")","v":""},"冶金工程",{"$f":"IFERROR(VLOOKUP($C75,#REF!,4,0),\"\")&IFERROR(\"；\"&VLOOKUP(C75,#REF!,3,0),\"\")","v":""},{"$f":"IFERROR(VLOOKUP(C75,#REF!,3,0),\"\")","v":""},{"$f":"IFERROR(VLOOKUP(C75,#REF!,3,0),\"\")","v":""},{"$f":"IFERROR(VLOOKUP(C75,#REF!,2,0),\"\")","v":""}]
["岗位176",{"$f":"IFERROR(VLOOKUP(A76,岗位信息表!$F$4:$H$87,2,0),\"\")","v":""},"环境科学与工程",{"$f":"IFERROR(VLOOKUP($C76,#REF!,4,0),\"\")&IFERROR(\"；\"&VLOOKUP(C76,#REF!,3,0),\"\")","v":""},{"$f":"IFERROR(VLOOKUP(C76,#REF!,3,0),\"\")","v":""},{"$f":"IFERROR(VLOOKUP(C76,#REF!,3,0),\"\")","v":""},{"$f":"IFERROR(VLOOKUP(C76,#REF!,2,0),\"\")","v":""}]
["岗位176",{"$f":"IFERROR(VLOOKUP(A77,岗位信息表!$F$4:$H$87,2,0),\"\")","v":""},"大气科学",{"$f":"IFERROR(VLOOKUP($C77,#REF!,4,0),\"\")&IFERROR(\"；\"&VLOOKUP(C77,#REF!,3,0),\"\")","v":""},{"$f":"IFERROR(VLOOKUP(C77,#REF!,3,0),\"\")","v":""},{"$f":"IFERROR(VLOOKUP(C77,#REF!,3,0),\"\")","v":""},{"$f":"IFERROR(VLOOKUP(C77,#REF!,2,0),\"\")","v":""}]
["岗位176",{"$f":"IFERROR(VLOOKUP(A78,岗位信息表!$F$4:$H$87,2,0),\"\")","v":""},"海洋科学",{"$f":"IFERROR(VLOOKUP($C78,#REF!,4,0),\"\")&IFERROR(\"；\"&VLOOKUP(C78,#REF!,3,0),\"\")","v":""},{"$f":"IFERROR(VLOOKUP(C78,#REF!,3,0),\"\")","v":""},{"$f":"IFERROR(VLOOKUP(C78,#REF!,3,0),\"\")","v":""},{"$f":"IFERROR(VLOOKUP(C78,#REF!,2,0),\"\")","v":""}]
["岗位176",{"$f":"IFERROR(VLOOKUP(A79,岗位信息表!$F$4:$H$87,2,0),\"\")","v":""},"化学工程与技术",{"$f":"IFERROR(VLOOKUP($C79,#REF!,4,0),\"\")&IFERROR(\"；\"&VLOOKUP(C79,#REF!,3,0),\"\")","v":""},{"$f":"IFERROR(VLOOKUP(C79,#REF!,3,0),\"\")","v":""},{"$f":"IFERROR(VLOOKUP(C79,#REF!,3,0),\"\")","v":""},{"$f":"IFERROR(VLOOKUP(C79,#REF!,2,0),\"\")","v":""}]
["岗位176",{"$f":"IFERROR(VLOOKUP(A80,岗位信息表!$F$4:$H$87,2,0),\"\")","v":""},"控制科学与工程",{"$f":"IFERROR(VLOOKUP($C80,#REF!,4,0),\"\")&IFERROR(\"；\"&VLOOKUP(C80,#REF!,3,0),\"\")","v":""},{"$f":"IFERROR(VLOOKUP(C80,#REF!,3,0),\"\")","v":""},{"$f":"IFERROR(VLOOKUP(C80,#REF!,3,0),\"\")","v":""},{"$f":"IFERROR(VLOOKUP(C80,#REF!,2,0),\"\")","v":""}]
["岗位176",{"$f":"IFERROR(VLOOKUP(A81,岗位信息表!$F$4:$H$87,2,0),\"\")","v":""},"冶金工程",{"$f":"IFERROR(VLOOKUP($C81,#REF!,4,0),\"\")&IFERROR(\"；\"&VLOOKUP(C81,#REF!,3,0),\"\")","v":""},{"$f":"IFERROR(VLOOKUP(C81,#REF!,3,0),\"\")","v":""},{"$f":"IFERROR(VLOOKUP(C81,#REF!,3,0),\"\")","v":""},{"$f":"IFERROR(VLOOKUP(C81,#REF!,2,0),\"\")","v":""}]
["岗位178",{"$f":"IFERROR(VLOOKUP(A82,岗位信息表!$F$4:$H$87,2,0),\"\")","v":""},"船舶与海洋工程",{"$f":"IFERROR(VLOOKUP($C82,#REF!,4,0),\"\")&IFERROR(\"；\"&VLOOKUP(C82,#REF!,3,0),\"\")","v":""},{"$f":"IFERROR(VLOOKUP(C82,#REF!,3,0),\"\")","v":""},{"$f":"IFERROR(VLOOKUP(C82,#REF!,3,0),\"\")","v":""},{"$f":"IFERROR(VLOOKUP(C82,#REF!,2,0),\"\")","v":""}]
["岗位179",{"$f":"IFERROR(VLOOKUP(A83,岗位信息表!$F$4:$H$87,2,0),\"\")","v":""},"海岸带综合管理",{"$f":"IFERROR(VLOOKUP($C83,#REF!,4,0),\"\")&IFERROR(\"；\"&VLOOKUP(C83,#REF!,3,0),\"\")","v":""},{"$f":"IFERROR(VLOOKUP(C83,#REF!,3,0),\"\")","v":""},{"$f":"IFERROR(VLOOKUP(C83,#REF!,3,0),\"\")","v":""},{"$f":"IFERROR(VLOOKUP(C83,#REF!,2,0),\"\")","v":""}]
["岗位181",{"$f":"IFERROR(VLOOKUP(A84,岗位信息表!$F$4:$H$87,2,0),\"\")","v":""},"会计",{"$f":"IFERROR(VLOOKUP($C84,#REF!,4,0),\"\")&IFERROR(\"；\"&VLOOKUP(C84,#REF!,3,0),\"\")","v":""},{"$f":"IFERROR(VLOOKUP(C84,#REF!,3,0),\"\")","v":""},{"$f":"IFERROR(VLOOKUP(C84,#REF!,3,0),\"\")","v":""},{"$f":"IFERROR(VLOOKUP(C84,#REF!,2,0),\"\")","v":""}]
["岗位181",{"$f":"IFERROR(VLOOKUP(A85,岗位信息表!$F$4:$H$87,2,0),\"\")","v":""},"财务会计",{"$f":"IFERROR(VLOOKUP($C85,#REF!,4,0),\"\")&IFERROR(\"；\"&VLOOKUP(C85,#REF!,3,0),\"\")","v":""},{"$f":"IFERROR(VLOOKUP(C85,#REF!,3,0),\"\")","v":""},{"$f":"IFERROR(VLOOKUP(C85,#REF!,3,0),\"\")","v":""},{"$f":"IFERROR(VLOOKUP(C85,#REF!,2,0),\"\")","v":""}]
["岗位181",{"$f":"IFERROR(VLOOKUP(A86,岗位信息表!$F$4:$H$87,2,0),\"\")","v":""},"财会",{"$f":"IFERROR(VLOOKUP($C86,#REF!,4,0),\"\")&IFERROR(\"；\"&VLOOKUP(C86,#REF!,3,0),\"\")","v":""},{"$f":"IFERROR(VLOOKUP(C86,#REF!,3,0),\"\")","v":""},{"$f":"IFERROR(VLOOKUP(C86,#REF!,3,0),\"\")","v":""},{"$f":"IFERROR(VLOOKUP(C86,#REF!,2,0),\"\")","v":""}]
["岗位181",{"$f":"IFERROR(VLOOKUP(A87,岗位信息表!$F$4:$H$87,2,0),\"\")","v":""},"会计电算化",{"$f":"IFERROR(VLOOKUP($C87,#REF!,4,0),\"\")&IFERROR(\"；\"&VLOOKUP(C87,#REF!,3,0),\"\")","v":""},{"$f":"IFERROR(VLOOKUP(C87,#REF!,3,0),\"\")","v":""},{"$f":"IFERROR(VLOOKUP(C87,#REF!,3,0),\"\")","v":""},{"$f":"IFERROR(VLOOKUP(C87,#REF!,2,0),\"\")","v":""}]
["岗位181",{"$f":"IFERROR(VLOOKUP(A88,岗位信息表!$F$4:$H$87,2,0),\"\")","v":""},"财务电算化",{"$f":"IFERROR(VLOOKUP($C88,#REF!,4,0),\"\")&IFERROR(\"；\"&VLOOKUP(C88,#REF!,3,0),\"\")","v":""},{"$f":"IFERROR(VLOOKUP(C88,#REF!,3,0),\"\")","v":""},{"$f":"IFERROR(VLOOKUP(C88,#REF!,3,0),\"\")","v":""},{"$f":"IFERROR(VLOOKUP(C88,#REF!,2,0),\"\")","v":""}]
["岗位182",{"$f":"IFERROR(VLOOKUP(A89,岗位信息表!$F$4:$H$87,2,0),\"\")","v":""},"法律",{"$f":"IFERROR(VLOOKUP($C89,#REF!,4,0),\"\")&IFERROR(\"；\"&VLOOKUP(C89,#REF!,3,0),\"\")","v":""},{"$f":"IFERROR(VLOOKUP(C89,#REF!,3,0),\"\")","v":""},{"$f":"IFERROR(VLOOKUP(C89,#REF!,3,0),\"\")","v":""},{"$f":"IFERROR(VLOOKUP(C89,#REF!,2,0),\"\")","v":""}]
["岗位183",{"$f":"IFERROR(VLOOKUP(A90,岗位信息表!$F$4:$H$87,2,0),\"\")","v":""},"法律类专业",{"$f":"IFERROR(VLOOKUP($C90,#REF!,4,0),\"\")&IFERROR(\"；\"&VLOOKUP(C90,#REF!,3,0),\"\")","v":""},{"$f":"IFERROR(VLOOKUP(C90,#REF!,3,0),\"\")","v":""},{"$f":"IFERROR(VLOOKUP(C90,#REF!,3,0),\"\")","v":""},{"$f":"IFERROR(VLOOKUP(C90,#REF!,2,0),\"\")","v":""}]
["岗位184",{"$f":"IFERROR(VLOOKUP(A91,岗位信息表!$F$4:$H$87,2,0),\"\")","v":""},"法律类专业",{"$f":"IFERROR(VLOOKUP($C91,#REF!,4,0),\"\")&IFERROR(\"；\"&VLOOKUP(C91,#REF!,3,0),\"\")","v":""},{"$f":"IFERROR(VLOOKUP(C91,#REF!,3,0),\"\")","v":""},{"$f":"IFERROR(VLOOKUP(C91,#REF!,3,0),\"\")","v":""},{"$f":"IFERROR(VLOOKUP(C91,#REF!,2,0),\"\")","v":""}]
["岗位185",{"$f":"IFERROR(VLOOKUP(A92,岗位信息表!$F$4:$H$87,2,0),\"\")","v":""},"建筑工程",{"$f":"IFERROR(VLOOKUP($C92,#REF!,4,0),\"\")&IFERROR(\"；\"&VLOOKUP(C92,#REF!,3,0),\"\")","v":""},{"$f":"IFERROR(VLOOKUP(C92,#REF!,3,0),\"\")","v":""},{"$f":"IFERROR(VLOOKUP(C92,#REF!,3,0),\"\")","v":""},{"$f":"IFERROR(VLOOKUP(C92,#REF!,2,0),\"\")","v":""}]
["岗位185",{"$f":"IFERROR(VLOOKUP(A93,岗位信息表!$F$4:$H$87,2,0),\"\")","v":""},"工业与民用建筑",{"$f":"IFERROR(VLOOKUP($C93,#REF!,4,0),\"\")&IFERROR(\"；\"&VLOOKUP(C93,#REF!,3,0),\"\")","v":""},{"$f":"IFERROR(VLOOKUP(C93,#REF!,3,0),\"\")","v":""},{"$f":"IFERROR(VLOOKUP(C93,#REF!,3,0),\"\")","v":""},{"$f":"IFERROR(VLOOKUP(C93,#REF!,2,0),\"\")","v":""}]
["岗位185",{"$f":"IFERROR(VLOOKUP(A94,岗位信息表!$F$4:$H$87,2,0),\"\")","v":""},"建筑与土木工程",{"$f":"IFERROR(VLOOKUP($C94,#REF!,4,0),\"\")&IFERROR(\"；\"&VLOOKUP(C94,#REF!,3,0),\"\")","v":""},{"$f":"IFERROR(VLOOKUP(C94,#REF!,3,0),\"\")","v":""},{"$f":"IFERROR(VLOOKUP(C94,#REF!,3,0),\"\")","v":""},{"$f":"IFERROR(VLOOKUP(C94,#REF!,2,0),\"\")","v":""}]
["岗位186",{"$f":"IFERROR(VLOOKUP(A95,岗位信息表!$F$4:$H$87,2,0),\"\")","v":""},"法律",{"$f":"IFERROR(VLOOKUP($C95,#REF!,4,0),\"\")&IFERROR(\"；\"&VLOOKUP(C95,#REF!,3,0),\"\")","v":""},{"$f":"IFERROR(VLOOKUP(C95,#REF!,3,0),\"\")","v":""},{"$f":"IFERROR(VLOOKUP(C95,#REF!,3,0),\"\")","v":""},{"$f":"IFERROR(VLOOKUP(C95,#REF!,2,0),\"\")","v":""}]
["岗位186",{"$f":"IFERROR(VLOOKUP(A96,岗位信息表!$F$4:$H$87,2,0),\"\")","v":""},"行政诉讼法学",{"$f":"IFERROR(VLOOKUP($C96,#REF!,4,0),\"\")&IFERROR(\"；\"&VLOOKUP(C96,#REF!,3,0),\"\")","v":""},{"$f":"IFERROR(VLOOKUP(C96,#REF!,3,0),\"\")","v":""},{"$f":"IFERROR(VLOOKUP(C96,#REF!,3,0),\"\")","v":""},{"$f":"IFERROR(VLOOKUP(C96,#REF!,2,0),\"\")","v":""}]
["岗位187",{"$f":"IFERROR(VLOOKUP(A97,岗位信息表!$F$4:$H$87,2,0),\"\")","v":""},"计算机与信息管理",{"$f":"IFERROR(VLOOKUP($C97,#REF!,4,0),\"\")&IFERROR(\"；\"&VLOOKUP(C97,#REF!,3,0),\"\")","v":""},{"$f":"IFERROR(VLOOKUP(C97,#REF!,3,0),\"\")","v":""},{"$f":"IFERROR(VLOOKUP(C97,#REF!,3,0),\"\")","v":""},{"$f":"IFERROR(VLOOKUP(C97,#REF!,2,0),\"\")","v":""}]
["岗位187",{"$f":"IFERROR(VLOOKUP(A98,岗位信息表!$F$4:$H$87,2,0),\"\")","v":""},"应用软件工程",{"$f":"IFERROR(VLOOKUP($C98,#REF!,4,0),\"\")&IFERROR(\"；\"&VLOOKUP(C98,#REF!,3,0),\"\")","v":""},{"$f":"IFERROR(VLOOKUP(C98,#REF!,3,0),\"\")","v":""},{"$f":"IFERROR(VLOOKUP(C98,#REF!,3,0),\"\")","v":""},{"$f":"IFERROR(VLOOKUP(C98,#REF!,2,0),\"\")","v":""}]
["岗位189",{"$f":"IFERROR(VLOOKUP(A99,岗位信息表!$F$4:$H$87,2,0),\"\")","v":""},"建筑工程",{"$f":"IFERROR(VLOOKUP($C99,#REF!,4,0),\"\")&IFERROR(\"；\"&VLOOKUP(C99,#REF!,3,0),\"\")","v":""},{"$f":"IFERROR(VLOOKUP(C99,#REF!,3,0),\"\")","v":""},{"$f":"IFERROR(VLOOKUP(C99,#REF!,3,0),\"\")","v":""},{"$f":"IFERROR(VLOOKUP(C99,#REF!,2,0),\"\")","v":""}]
["岗位189",{"$f":"IFERROR(VLOOKUP(A100,岗位信息表!$F$4:$H$87,2,0),\"\")","v":""},"工业与民用建筑",{"$f":"IFERROR(VLOOKUP($C100,#REF!,4,0),\"\")&IFERROR(\"；\"&VLOOKUP(C100,#REF!,3,0),\"\")","v":""},{"$f":"IFERROR(VLOOKUP(C100,#REF!,3,0),\"\")","v":""},{"$f":"IFERROR(VLOOKUP(C100,#REF!,3,0),\"\")","v":""},{"$f":"IFERROR(VLOOKUP(C100,#REF!,2,0),\"\")","v":""}]
["岗位189",{"$f":"IFERROR(VLOOKUP(A101,岗位信息表!$F$4:$H$87,2,0),\"\")","v":""},"建筑与土木工程",{"$f":"IFERROR(VLOOKUP($C101,#REF!,4,0),\"\")&IFERROR(\"；\"&VLOOKUP(C101,#REF!,3,0),\"\")","v":""},{"$f":"IFERROR(VLOOKUP(C101,#REF!,3,0),\"\")","v":""},{"$f":"IFERROR(VLOOKUP(C101,#REF!,3,0),\"\")","v":""},{"$f":"IFERROR(VLOOKUP(C101,#REF!,2,0),\"\")","v":""}]
["岗位190",{"$f":"IFERROR(VLOOKUP(A102,岗位信息表!$F$4:$H$87,2,0),\"\")","v":""},"会计",{"$f":"IFERROR(VLOOKUP($C102,#REF!,4,0),\"\")&IFERROR(\"；\"&VLOOKUP(C102,#REF!,3,0),\"\")","v":""},{"$f":"IFERROR(VLOOKUP(C102,#REF!,3,0),\"\")","v":""},{"$f":"IFERROR(VLOOKUP(C102,#REF!,3,0),\"\")","v":""},{"$f":"IFERROR(VLOOKUP(C102,#REF!,2,0),\"\")","v":""}]
["岗位190",{"$f":"IFERROR(VLOOKUP(A103,岗位信息表!$F$4:$H$87,2,0),\"\")","v":""},"财务会计",{"$f":"IFERROR(VLOOKUP($C103,#REF!,4,0),\"\")&IFERROR(\"；\"&VLOOKUP(C103,#REF!,3,0),\"\")","v":""},{"$f":"IFERROR(VLOOKUP(C103,#REF!,3,0),\"\")","v":""},{"$f":"IFERROR(VLOOKUP(C103,#REF!,3,0),\"\")","v":""},{"$f":"IFERROR(VLOOKUP(C103,#REF!,2,0),\"\")","v":""}]
["岗位191",{"$f":"IFERROR(VLOOKUP(A104,岗位信息表!$F$4:$H$87,2,0),\"\")","v":""},"建筑工程",{"$f":"IFERROR(VLOOKUP($C104,#REF!,4,0),\"\")&IFERROR(\"；\"&VLOOKUP(C104,#REF!,3,0),\"\")","v":""},{"$f":"IFERROR(VLOOKUP(C104,#REF!,3,0),\"\")","v":""},{"$f":"IFERROR(VLOOKUP(C104,#REF!,3,0),\"\")","v":""},{"$f":"IFERROR(VLOOKUP(C104,#REF!,2,0),\"\")","v":""}]
["岗位191",{"$f":"IFERROR(VLOOKUP(A105,岗位信息表!$F$4:$H$87,2,0),\"\")","v":""},"工业与民用建筑",{"$f":"IFERROR(VLOOKUP($C105,#REF!,4,0),\"\")&IFERROR(\"；\"&VLOOKUP(C105,#REF!,3,0),\"\")","v":""},{"$f":"IFERROR(VLOOKUP(C105,#REF!,3,0),\"\")","v":""},{"$f":"IFERROR(VLOOKUP(C105,#REF!,3,0),\"\")","v":""},{"$f":"IFERROR(VLOOKUP(C105,#REF!,2,0),\"\")","v":""}]
["岗位191",{"$f":"IFERROR(VLOOKUP(A106,岗位信息表!$F$4:$H$87,2,0),\"\")","v":""},"建筑与土木工程",{"$f":"IFERROR(VLOOKUP($C106,#REF!,4,0),\"\")&IFERROR(\"；\"&VLOOKUP(C106,#REF!,3,0),\"\")","v":""},{"$f":"IFERROR(VLOOKUP(C106,#REF!,3,0),\"\")","v":""},{"$f":"IFERROR(VLOOKUP(C106,#REF!,3,0),\"\")","v":""},{"$f":"IFERROR(VLOOKUP(C106,#REF!,2,0),\"\")","v":""}]
["岗位192",{"$f":"IFERROR(VLOOKUP(A107,岗位信息表!$F$4:$H$87,2,0),\"\")","v":""},"会计",{"$f":"IFERROR(VLOOKUP($C107,#REF!,4,0),\"\")&IFERROR(\"；\"&VLOOKUP(C107,#REF!,3,0),\"\")","v":""},{"$f":"IFERROR(VLOOKUP(C107,#REF!,3,0),\"\")","v":""},{"$f":"IFERROR(VLOOKUP(C107,#REF!,3,0),\"\")","v":""},{"$f":"IFERROR(VLOOKUP(C107,#REF!,2,0),\"\")","v":""}]
["岗位192",{"$f":"IFERROR(VLOOKUP(A108,岗位信息表!$F$4:$H$87,2,0),\"\")","v":""},"财务会计",{"$f":"IFERROR(VLOOKUP($C108,#REF!,4,0),\"\")&IFERROR(\"；\"&VLOOKUP(C108,#REF!,3,0),\"\")","v":""},{"$f":"IFERROR(VLOOKUP(C108,#REF!,3,0),\"\")","v":""},{"$f":"IFERROR(VLOOKUP(C108,#REF!,3,0),\"\")","v":""},{"$f":"IFERROR(VLOOKUP(C108,#REF!,2,0),\"\")","v":""}]
["岗位193",{"$f":"IFERROR(VLOOKUP(A109,岗位信息表!$F$4:$H$87,2,0),\"\")","v":""},"建筑工程",{"$f":"IFERROR(VLOOKUP($C109,#REF!,4,0),\"\")&IFERROR(\"；\"&VLOOKUP(C109,#REF!,3,0),\"\")","v":""},{"$f":"IFERROR(VLOOKUP(C109,#REF!,3,0),\"\")","v":""},{"$f":"IFERROR(VLOOKUP(C109,#REF!,3,0),\"\")","v":""},{"$f":"IFERROR(VLOOKUP(C109,#REF!,2,0),\"\")","v":""}]
["岗位193",{"$f":"IFERROR(VLOOKUP(A110,岗位信息表!$F$4:$H$87,2,0),\"\")","v":""},"工业与民用建筑",{"$f":"IFERROR(VLOOKUP($C110,#REF!,4,0),\"\")&IFERROR(\"；\"&VLOOKUP(C110,#REF!,3,0),\"\")","v":""},{"$f":"IFERROR(VLOOKUP(C110,#REF!,3,0),\"\")","v":""},{"$f":"IFERROR(VLOOKUP(C110,#REF!,3,0),\"\")","v":""},{"$f":"IFERROR(VLOOKUP(C110,#REF!,2,0),\"\")","v":""}]
["岗位193",{"$f":"IFERROR(VLOOKUP(A111,岗位信息表!$F$4:$H$87,2,0),\"\")","v":""},"建筑与土木工程",{"$f":"IFERROR(VLOOKUP($C111,#REF!,4,0),\"\")&IFERROR(\"；\"&VLOOKUP(C111,#REF!,3,0),\"\")","v":""},{"$f":"IFERROR(VLOOKUP(C111,#REF!,3,0),\"\")","v":""},{"$f":"IFERROR(VLOOKUP(C111,#REF!,3,0),\"\")","v":""},{"$f":"IFERROR(VLOOKUP(C111,#REF!,2,0),\"\")","v":""}]
["岗位194",{"$f":"IFERROR(VLOOKUP(A112,岗位信息表!$F$4:$H$87,2,0),\"\")","v":""},"建筑工程",{"$f":"IFERROR(VLOOKUP($C112,#REF!,4,0),\"\")&IFERROR(\"；\"&VLOOKUP(C112,#REF!,3,0),\"\")","v":""},{"$f":"IFERROR(VLOOKUP(C112,#REF!,3,0),\"\")","v":""},{"$f":"IFERROR(VLOOKUP(C112,#REF!,3,0),\"\")","v":""},{"$f":"IFERROR(VLOOKUP(C112,#REF!,2,0),\"\")","v":""}]
["岗位194",{"$f":"IFERROR(VLOOKUP(A113,岗位信息表!$F$4:$H$87,2,0),\"\")","v":""},"工业与民用建筑",{"$f":"IFERROR(VLOOKUP($C113,#REF!,4,0),\"\")&IFERROR(\"；\"&VLOOKUP(C113,#REF!,3,0),\"\")","v":""},{"$f":"IFERROR(VLOOKUP(C113,#REF!,3,0),\"\")","v":""},{"$f":"IFERROR(VLOOKUP(C113,#REF!,3,0),\"\")","v":""},{"$f":"IFERROR(VLOOKUP(C113,#REF!,2,0),\"\")","v":""}]
["岗位194",{"$f":"IFERROR(VLOOKUP(A114,岗位信息表!$F$4:$H$87,2,0),\"\")","v":""},"建筑与土木工程",{"$f":"IFERROR(VLOOKUP($C114,#REF!,4,0),\"\")&IFERROR(\"；\"&VLOOKUP(C114,#REF!,3,0),\"\")","v":""},{"$f":"IFERROR(VLOOKUP(C114,#REF!,3,0),\"\")","v":""},{"$f":"IFERROR(VLOOKUP(C114,#REF!,3,0),\"\")","v":""},{"$f":"IFERROR(VLOOKUP(C114,#REF!,2,0),\"\")","v":""}]
["岗位194",{"$f":"IFERROR(VLOOKUP(A115,岗位信息表!$F$4:$H$87,2,0),\"\")","v":""},"建筑工程管理",{"$f":"IFERROR(VLOOKUP($C115,#REF!,4,0),\"\")&IFERROR(\"；\"&VLOOKUP(C115,#REF!,3,0),\"\")","v":""},{"$f":"IFERROR(VLOOKUP(C115,#REF!,3,0),\"\")","v":""},{"$f":"IFERROR(VLOOKUP(C115,#REF!,3,0),\"\")","v":""},{"$f":"IFERROR(VLOOKUP(C115,#REF!,2,0),\"\")","v":""}]
["岗位195",{"$f":"IFERROR(VLOOKUP(A116,岗位信息表!$F$4:$H$87,2,0),\"\")","v":""},"城市燃气工程",{"$f":"IFERROR(VLOOKUP($C116,#REF!,4,0),\"\")&IFERROR(\"；\"&VLOOKUP(C116,#REF!,3,0),\"\")","v":""},{"$f":"IFERROR(VLOOKUP(C116,#REF!,3,0),\"\")","v":""},{"$f":"IFERROR(VLOOKUP(C116,#REF!,3,0),\"\")","v":""},{"$f":"IFERROR(VLOOKUP(C116,#REF!,2,0),\"\")","v":""}]
["岗位195",{"$f":"IFERROR(VLOOKUP(A117,岗位信息表!$F$4:$H$87,2,0),\"\")","v":""},"供热通风与空调工程",{"$f":"IFERROR(VLOOKUP($C117,#REF!,4,0),\"\")&IFERROR(\"；\"&VLOOKUP(C117,#REF!,3,0),\"\")","v":""},{"$f":"IFERROR(VLOOKUP(C117,#REF!,3,0),\"\")","v":""},{"$f":"IFERROR(VLOOKUP(C117,#REF!,3,0),\"\")","v":""},{"$f":"IFERROR(VLOOKUP(C117,#REF!,2,0),\"\")","v":""}]
["岗位195",{"$f":"IFERROR(VLOOKUP(A118,岗位信息表!$F$4:$H$87,2,0),\"\")","v":""},"供热、供燃气、通风与空调工程",{"$f":"IFERROR(VLOOKUP($C118,#REF!,4,0),\"\")&IFERROR(\"；\"&VLOOKUP(C118,#REF!,3,0),\"\")","v":""},{"$f":"IFERROR(VLOOKUP(C118,#REF!,3,0),\"\")","v":""},{"$f":"IFERROR(VLOOKUP(C118,#REF!,3,0),\"\")","v":""},{"$f":"IFERROR(VLOOKUP(C118,#REF!,2,0),\"\")","v":""}]
["岗位196",{"$f":"IFERROR(VLOOKUP(A119,岗位信息表!$F$4:$H$87,2,0),\"\")","v":""},"城市燃气工程",{"$f":"IFERROR(VLOOKUP($C119,#REF!,4,0),\"\")&IFERROR(\"；\"&VLOOKUP(C119,#REF!,3,0),\"\")","v":""},{"$f":"IFERROR(VLOOKUP(C119,#REF!,3,0),\"\")","v":""},{"$f":"IFERROR(VLOOKUP(C119,#REF!,3,0),\"\")","v":""},{"$f":"IFERROR(VLOOKUP(C119,#REF!,2,0),\"\")","v":""}]
["岗位196",{"$f":"IFERROR(VLOOKUP(A120,岗位信息表!$F$4:$H$87,2,0),\"\")","v":""},"供热通风与空调工程",{"$f":"IFERROR(VLOOKUP($C120,#REF!,4,0),\"\")&IFERROR(\"；\"&VLOOKUP(C120,#REF!,3,0),\"\")","v":""},{"$f":"IFERROR(VLOOKUP(C120,#REF!,3,0),\"\")","v":""},{"$f":"IFERROR(VLOOKUP(C120,#REF!,3,0),\"\")","v":""},{"$f":"IFERROR(VLOOKUP(C120,#REF!,2,0),\"\")","v":""}]
["岗位196",{"$f":"IFERROR(VLOOKUP(A121,岗位信息表!$F$4:$H$87,2,0),\"\")","v":""},"供热、供燃气、通风与空调工程",{"$f":"IFERROR(VLOOKUP($C121,#REF!,4,0),\"\")&IFERROR(\"；\"&VLOOKUP(C121,#REF!,3,0),\"\")","v":""},{"$f":"IFERROR(VLOOKUP(C121,#REF!,3,0),\"\")","v":""},{"$f":"IFERROR(VLOOKUP(C121,#REF!,3,0),\"\")","v":""},{"$f":"IFERROR(VLOOKUP(C121,#REF!,2,0),\"\")","v":""}]
["岗位198",{"$f":"IFERROR(VLOOKUP(A122,岗位信息表!$F$4:$H$87,2,0),\"\")","v":""},"会计",{"$f":"IFERROR(VLOOKUP($C122,#REF!,4,0),\"\")&IFERROR(\"；\"&VLOOKUP(C122,#REF!,3,0),\"\")","v":""},{"$f":"IFERROR(VLOOKUP(C122,#REF!,3,0),\"\")","v":""},{"$f":"IFERROR(VLOOKUP(C122,#REF!,3,0),\"\")","v":""},{"$f":"IFERROR(VLOOKUP(C122,#REF!,2,0),\"\")","v":""}]
["岗位201",{"$f":"IFERROR(VLOOKUP(A123,岗位信息表!$F$4:$H$87,2,0),\"\")","v":""},"计算机科学技术",{"$f":"IFERROR(VLOOKUP($C123,#REF!,4,0),\"\")&IFERROR(\"；\"&VLOOKUP(C123,#REF!,3,0),\"\")","v":""},{"$f":"IFERROR(VLOOKUP(C123,#REF!,3,0),\"\")","v":""},{"$f":"IFERROR(VLOOKUP(C123,#REF!,3,0),\"\")","v":""},{"$f":"IFERROR(VLOOKUP(C123,#REF!,2,0),\"\")","v":""}]
["岗位201",{"$f":"IFERROR(VLOOKUP(A124,岗位信息表!$F$4:$H$87,2,0),\"\")","v":""},"计算机网络技术",{"$f":"IFERROR(VLOOKUP($C124,#REF!,4,0),\"\")&IFERROR(\"；\"&VLOOKUP(C124,#REF!,3,0),\"\")","v":""},{"$f":"IFERROR(VLOOKUP(C124,#REF!,3,0),\"\")","v":""},{"$f":"IFERROR(VLOOKUP(C124,#REF!,3,0),\"\")","v":""},{"$f":"IFERROR(VLOOKUP(C124,#REF!,2,0),\"\")","v":""}]
["岗位201",{"$f":"IFERROR(VLOOKUP(A125,岗位信息表!$F$4:$H$87,2,0),\"\")","v":""},"计算机多媒体技术",{"$f":"IFERROR(VLOOKUP($C125,#REF!,4,0),\"\")&IFERROR(\"；\"&VLOOKUP(C125,#REF!,3,0),\"\")","v":""},{"$f":"IFERROR(VLOOKUP(C125,#REF!,3,0),\"\")","v":""},{"$f":"IFERROR(VLOOKUP(C125,#REF!,3,0),\"\")","v":""},{"$f":"IFERROR(VLOOKUP(C125,#REF!,2,0),\"\")","v":""}]
["岗位202",{"$f":"IFERROR(VLOOKUP(A126,岗位信息表!$F$4:$H$87,2,0),\"\")","v":""},"财务管理类",{"$f":"IFERROR(VLOOKUP($C126,#REF!,4,0),\"\")&IFERROR(\"；\"&VLOOKUP(C126,#REF!,3,0),\"\")","v":""},{"$f":"IFERROR(VLOOKUP(C126,#REF!,3,0),\"\")","v":""},{"$f":"IFERROR(VLOOKUP(C126,#REF!,3,0),\"\")","v":""},{"$f":"IFERROR(VLOOKUP(C126,#REF!,2,0),\"\")","v":""}]
["岗位202",{"$f":"IFERROR(VLOOKUP(A127,岗位信息表!$F$4:$H$87,2,0),\"\")","v":""},"会计类",{"$f":"IFERROR(VLOOKUP($C127,#REF!,4,0),\"\")&IFERROR(\"；\"&VLOOKUP(C127,#REF!,3,0),\"\")","v":""},{"$f":"IFERROR(VLOOKUP(C127,#REF!,3,0),\"\")","v":""},{"$f":"IFERROR(VLOOKUP(C127,#REF!,3,0),\"\")","v":""},{"$f":"IFERROR(VLOOKUP(C127,#REF!,2,0),\"\")","v":""}]
["岗位203",{"$f":"IFERROR(VLOOKUP(A128,岗位信息表!$F$4:$H$87,2,0),\"\")","v":""},"财务管理类",{"$f":"IFERROR(VLOOKUP($C128,#REF!,4,0),\"\")&IFERROR(\"；\"&VLOOKUP(C128,#REF!,3,0),\"\")","v":""},{"$f":"IFERROR(VLOOKUP(C128,#REF!,3,0),\"\")","v":""},{"$f":"IFERROR(VLOOKUP(C128,#REF!,3,0),\"\")","v":""},{"$f":"IFERROR(VLOOKUP(C128,#REF!,2,0),\"\")","v":""}]
["岗位203",{"$f":"IFERROR(VLOOKUP(A129,岗位信息表!$F$4:$H$87,2,0),\"\")","v":""},"会计类",{"$f":"IFERROR(VLOOKUP($C129,#REF!,4,0),\"\")&IFERROR(\"；\"&VLOOKUP(C129,#REF!,3,0),\"\")","v":""},{"$f":"IFERROR(VLOOKUP(C129,#REF!,3,0),\"\")","v":""},{"$f":"IFERROR(VLOOKUP(C129,#REF!,3,0),\"\")","v":""},{"$f":"IFERROR(VLOOKUP(C129,#REF!,2,0),\"\")","v":""}]
["岗位205",{"$f":"IFERROR(VLOOKUP(A130,岗位信息表!$F$4:$H$87,2,0),\"\")","v":""},"经济管理类",{"$f":"IFERROR(VLOOKUP($C130,#REF!,4,0),\"\")&IFERROR(\"；\"&VLOOKUP(C130,#REF!,3,0),\"\")","v":""},{"$f":"IFERROR(VLOOKUP(C130,#REF!,3,0),\"\")","v":""},{"$f":"IFERROR(VLOOKUP(C130,#REF!,3,0),\"\")","v":""},{"$f":"IFERROR(VLOOKUP(C130,#REF!,2,0),\"\")","v":""}]
["岗位205",{"$f":"IFERROR(VLOOKUP(A131,岗位信息表!$F$4:$H$87,2,0),\"\")","v":""},"中文类",{"$f":"IFERROR(VLOOKUP($C131,#REF!,4,0),\"\")&IFERROR(\"；\"&VLOOKUP(C131,#REF!,3,0),\"\")","v":""},{"$f":"IFERROR(VLOOKUP(C131,#REF!,3,0),\"\")","v":""},{"$f":"IFERROR(VLOOKUP(C131,#REF!,3,0),\"\")","v":""},{"$f":"IFERROR(VLOOKUP(C131,#REF!,2,0),\"\")","v":""}]
["岗位206",{"$f":"IFERROR(VLOOKUP(A132,岗位信息表!$F$4:$H$87,2,0),\"\")","v":""},"法律类",{"$f":"IFERROR(VLOOKUP($C132,#REF!,4,0),\"\")&IFERROR(\"；\"&VLOOKUP(C132,#REF!,3,0),\"\")","v":""},{"$f":"IFERROR(VLOOKUP(C132,#REF!,3,0),\"\")","v":""},{"$f":"IFERROR(VLOOKUP(C132,#REF!,3,0),\"\")","v":""},{"$f":"IFERROR(VLOOKUP(C132,#REF!,2,0),\"\")","v":""}]
["岗位207",{"$f":"IFERROR(VLOOKUP(A133,岗位信息表!$F$4:$H$87,2,0),\"\")","v":""},"船舶与海洋工程",{"$f":"IFERROR(VLOOKUP($C133,#REF!,4,0),\"\")&IFERROR(\"；\"&VLOOKUP(C133,#REF!,3,0),\"\")","v":""},{"$f":"IFERROR(VLOOKUP(C133,#REF!,3,0),\"\")","v":""},{"$f":"IFERROR(VLOOKUP(C133,#REF!,3,0),\"\")","v":""},{"$f":"IFERROR(VLOOKUP(C133,#REF!,2,0),\"\")","v":""}]
["岗位208",{"$f":"IFERROR(VLOOKUP(A134,岗位信息表!$F$4:$H$87,2,0),\"\")","v":""},"船舶与海洋工程",{"$f":"IFERROR(VLOOKUP($C134,#REF!,4,0),\"\")&IFERROR(\"；\"&VLOOKUP(C134,#REF!,3,0),\"\")","v":""},{"$f":"IFERROR(VLOOKUP(C134,#REF!,3,0),\"\")","v":""},{"$f":"IFERROR(VLOOKUP(C134,#REF!,3,0),\"\")","v":""},{"$f":"IFERROR(VLOOKUP(C134,#REF!,2,0),\"\")","v":""}]
["岗位209",{"$f":"IFERROR(VLOOKUP(A135,岗位信息表!$F$4:$H$87,2,0),\"\")","v":""},"电子与信息工程",{"$f":"IFERROR(VLOOKUP($C135,#REF!,4,0),\"\")&IFERROR(\"；\"&VLOOKUP(C135,#REF!,3,0),\"\")","v":""},{"$f":"IFERROR(VLOOKUP(C135,#REF!,3,0),\"\")","v":""},{"$f":"IFERROR(VLOOKUP(C135,#REF!,3,0),\"\")","v":""},{"$f":"IFERROR(VLOOKUP(C135,#REF!,2,0),\"\")","v":""}]
["岗位210",{"$f":"IFERROR(VLOOKUP(A136,岗位信息表!$F$4:$H$87,2,0),\"\")","v":""},"光学工程相关专业",{"$f":"IFERROR(VLOOKUP($C136,#REF!,4,0),\"\")&IFERROR(\"；\"&VLOOKUP(C136,#REF!,3,0),\"\")","v":""},{"$f":"IFERROR(VLOOKUP(C136,#REF!,3,0),\"\")","v":""},{"$f":"IFERROR(VLOOKUP(C136,#REF!,3,0),\"\")","v":""},{"$f":"IFERROR(VLOOKUP(C136,#REF!,2,0),\"\")","v":""}]
["岗位211",{"$f":"IFERROR(VLOOKUP(A137,岗位信息表!$F$4:$H$87,2,0),\"\")","v":""},"会计",{"$f":"IFERROR(VLOOKUP($C137,#REF!,4,0),\"\")&IFERROR(\"；\"&VLOOKUP(C137,#REF!,3,0),\"\")","v":""},{"$f":"IFERROR(VLOOKUP(C137,#REF!,3,0),\"\")","v":""},{"$f":"IFERROR(VLOOKUP(C137,#REF!,3,0),\"\")","v":""},{"$f":"IFERROR(VLOOKUP(C137,#REF!,2,0),\"\")","v":""}]
[null,null,"环境科学与工程",{"$f":"IFERROR(VLOOKUP($C138,#REF!,4,0),\"\")&IFERROR(\"；\"&VLOOKUP(C138,#REF!,3,0),\"\")","v":""},{"$f":"IFERROR(VLOOKUP(C138,#REF!,3,0),\"\")","v":""},{"$f":"IFERROR(VLOOKUP(C138,#REF!,3,0),\"\")","v":""}]
[null,null,"大气科学",{"$f":"IFERROR(VLOOKUP($C139,#REF!,4,0),\"\")&IFERROR(\"；\"&VLOOKUP(C139,#REF!,3,0),\"\")","v":""},{"$f":"IFERROR(VLOOKUP(C139,#REF!,3,0),\"\")","v":""},{"$f":"IFERROR(VLOOKUP(C139,#REF!,3,0),\"\")","v":""}]
[null,null,"海洋科学",{"$f":"IFERROR(VLOOKUP($C140,#REF!,4,0),\"\")&IFERROR(\"；\"&VLOOKUP(C140,#REF!,3,0),\"\")","v":""},{"$f":"IFERROR(VLOOKUP(C140,#REF!,3,0),\"\")","v":""},{"$f":"IFERROR(VLOOKUP(C140,#REF!,3,0),\"\")","v":""}]
[null,null,"冶金工程",{"$f":"IFERROR(VLOOKUP($C141,#REF!,4,0),\"\")&IFERROR(\"；\"&VLOOKUP(C141,#REF!,3,0),\"\")","v":""},{"$f":"IFERROR(VLOOKUP(C141,#REF!,3,0),\"\")","v":""},{"$f":"IFERROR(VLOOKUP(C141,#REF!,3,0),\"\")","v":""}]
[null,null,"化学工程与技术",{"$f":"IFERROR(VLOOKUP($C142,#REF!,4,0),\"\")&IFERROR(\"；\"&VLOOKUP(C142,#REF!,3,0),\"\")","v":""},{"$f":"IFERROR(VLOOKUP(C142,#REF!,3,0),\"\")","v":""},{"$f":"IFERROR(VLOOKUP(C142,#REF!,3,0),\"\")","v":""}]
[null,null,"机械工程",{"$f":"IFERROR(VLOOKUP($C143,#REF!,4,0),\"\")&IFERROR(\"；\"&VLOOKUP(C143,#REF!,3,0),\"\")","v":""},{"$f":"IFERROR(VLOOKUP(C143,#REF!,3,0),\"\")","v":""},{"$f":"IFERROR(VLOOKUP(C143,#REF!,3,0),\"\")","v":""}]
[{"$nulls":3},{"$f":"IFERROR(VLOOKUP($C144,#REF!,4,0),\"\")&IFERROR(\"；\"&VLOOKUP(C144,#REF!,3,0),\"\")","v":""},{"$f":"IFERROR(VLOOKUP(C144,#REF!,3,0),\"\")","v":""},{"$f":"IFERROR(VLOOKUP(C144,#REF!,3,0),\"\")","v":""}]
["岗位1","博士研究生","麻醉学",{"$f":"IFERROR(VLOOKUP($C145,#REF!,4,0),\"\")&IFERROR(\"；\"&VLOOKUP(C145,#REF!,3,0),\"\")","v":""},{"$f":"IFERROR(VLOOKUP(C145,#REF!,3,0),\"\")","v":""},{"$f":"IFERROR(VLOOKUP(C145,#REF!,3,0),\"\")","v":""}]
["岗位2","博士研究生","影像医学与核医学",{"$f":"IFERROR(VLOOKUP($C146,#REF!,4,0),\"\")&IFERROR(\"；\"&VLOOKUP(C146,#REF!,3,0),\"\")","v":""},{"$f":"IFERROR(VLOOKUP(C146,#REF!,3,0),\"\")","v":""},{"$f":"IFERROR(VLOOKUP(C146,#REF!,3,0),\"\")","v":""}]
["岗位3","博士研究生","遗传学",{"$f":"IFERROR(VLOOKUP($C147,#REF!,4,0),\"\")&IFERROR(\"；\"&VLOOKUP(C147,#REF!,3,0),\"\")","v":""},{"$f":"IFERROR(VLOOKUP(C147,#REF!,3,0),\"\")","v":""},{"$f":"IFERROR(VLOOKUP(C147,#REF!,3,0),\"\")","v":""}]
["岗位4","硕士研究生","内科学",{"$f":"IFERROR(VLOOKUP($C148,#REF!,4,0),\"\")&IFERROR(\"；\"&VLOOKUP(C148,#REF!,3,0),\"\")","v":""},{"$f":"IFERROR(VLOOKUP(C148,#REF!,3,0),\"\")","v":""},{"$f":"IFERROR(VLOOKUP(C148,#REF!,3,0),\"\")","v":""}]
["岗位5","硕士研究生","神经病学",{"$f":"IFERROR(VLOOKUP($C149,#REF!,4,0),\"\")&IFERROR(\"；\"&VLOOKUP(C149,#REF!,3,0),\"\")","v":""},{"$f":"IFERROR(VLOOKUP(C149,#REF!,3,0),\"\")","v":""},{"$f":"IFERROR(VLOOKUP(C149,#REF!,3,0),\"\")","v":""}]
["岗位6","硕士研究生","外科学",{"$f":"IFERROR(VLOOKUP($C150,#REF!,4,0),\"\")&IFERROR(\"；\"&VLOOKUP(C150,#REF!,3,0),\"\")","v":""},{"$f":"IFERROR(VLOOKUP(C150,#REF!,3,0),\"\")","v":""},{"$f":"IFERROR(VLOOKUP(C150,#REF!,3,0),\"\")","v":""}]
["岗位7","硕士研究生","外科学",{"$f":"IFERROR(VLOOKUP($C151,#REF!,4,0),\"\")&IFERROR(\"；\"&VLOOKUP(C151,#REF!,3,0),\"\")","v":""},{"$f":"IFERROR(VLOOKUP(C151,#REF!,3,0),\"\")","v":""},{"$f":"IFERROR(VLOOKUP(C151,#REF!,3,0),\"\")","v":""}]
["岗位8","硕士研究生","肿瘤学",{"$f":"IFERROR(VLOOKUP($C152,#REF!,4,0),\"\")&IFERROR(\"；\"&VLOOKUP(C152,#REF!,3,0),\"\")","v":""},{"$f":"IFERROR(VLOOKUP(C152,#REF!,3,0),\"\")","v":""},{"$f":"IFERROR(VLOOKUP(C152,#REF!,3,0),\"\")","v":""}]
["岗位9","硕士研究生","妇产科学",{"$f":"IFERROR(VLOOKUP($C153,#REF!,4,0),\"\")&IFERROR(\"；\"&VLOOKUP(C153,#REF!,3,0),\"\")","v":""},{"$f":"IFERROR(VLOOKUP(C153,#REF!,3,0),\"\")","v":""},{"$f":"IFERROR(VLOOKUP(C153,#REF!,3,0),\"\")","v":""}]
["岗位10","硕士研究生","眼科学",{"$f":"IFERROR(VLOOKUP($C154,#REF!,4,0),\"\")&IFERROR(\"；\"&VLOOKUP(C154,#REF!,3,0),\"\")","v":""},{"$f":"IFERROR(VLOOKUP(C154,#REF!,3,0),\"\")","v":""},{"$f":"IFERROR(VLOOKUP(C154,#REF!,3,0),\"\")","v":""}]
["岗位11","硕士研究生","急诊医学",{"$f":"IFERROR(VLOOKUP($C155,#REF!,4,0),\"\")&IFERROR(\"；\"&VLOOKUP(C155,#REF!,3,0),\"\")","v":""},{"$f":"IFERROR(VLOOKUP(C155,#REF!,3,0),\"\")","v":""},{"$f":"IFERROR(VLOOKUP(C155,#REF!,3,0),\"\")","v":""}]
["岗位11","硕士研究生","内科学",{"$f":"IFERROR(VLOOKUP($C156,#REF!,4,0),\"\")&IFERROR(\"；\"&VLOOKUP(C156,#REF!,3,0),\"\")","v":""},{"$f":"IFERROR(VLOOKUP(C156,#REF!,3,0),\"\")","v":""},{"$f":"IFERROR(VLOOKUP(C156,#REF!,3,0),\"\")","v":""}]
["岗位12","硕士研究生","外科学",{"$f":"IFERROR(VLOOKUP($C157,#REF!,4,0),\"\")&IFERROR(\"；\"&VLOOKUP(C157,#REF!,3,0),\"\")","v":""},{"$f":"IFERROR(VLOOKUP(C157,#REF!,3,0),\"\")","v":""},{"$f":"IFERROR(VLOOKUP(C157,#REF!,3,0),\"\")","v":""}]
["岗位13","硕士研究生","老年医学",{"$f":"IFERROR(VLOOKUP($C158,#REF!,4,0),\"\")&IFERROR(\"；\"&VLOOKUP(C158,#REF!,3,0),\"\")","v":""},{"$f":"IFERROR(VLOOKUP(C158,#REF!,3,0),\"\")","v":""},{"$f":"IFERROR(VLOOKUP(C158,#REF!,3,0),\"\")","v":""}]
["岗位13","硕士研究生","全科医学",{"$f":"IFERROR(VLOOKUP($C159,#REF!,4,0),\"\")&IFERROR(\"；\"&VLOOKUP(C159,#REF!,3,0),\"\")","v":""},{"$f":"IFERROR(VLOOKUP(C159,#REF!,3,0),\"\")","v":""},{"$f":"IFERROR(VLOOKUP(C159,#REF!,3,0),\"\")","v":""}]
["岗位14","硕士研究生","麻醉学",{"$f":"IFERROR(VLOOKUP($C160,#REF!,4,0),\"\")&IFERROR(\"；\"&VLOOKUP(C160,#REF!,3,0),\"\")","v":""},{"$f":"IFERROR(VLOOKUP(C160,#REF!,3,0),\"\")","v":""},{"$f":"IFERROR(VLOOKUP(C160,#REF!,3,0),\"\")","v":""}]
["岗位15","硕士研究生","病理学与病理生理学",{"$f":"IFERROR(VLOOKUP($C161,#REF!,4,0),\"\")&IFERROR(\"；\"&VLOOKUP(C161,#REF!,3,0),\"\")","v":""},{"$f":"IFERROR(VLOOKUP(C161,#REF!,3,0),\"\")","v":""},{"$f":"IFERROR(VLOOKUP(C161,#REF!,3,0),\"\")","v":""}]
["岗位15","硕士研究生","临床病理学",{"$f":"IFERROR(VLOOKUP($C162,#REF!,4,0),\"\")&IFERROR(\"；\"&VLOOKUP(C162,#REF!,3,0),\"\")","v":""},{"$f":"IFERROR(VLOOKUP(C162,#REF!,3,0),\"\")","v":""},{"$f":"IFERROR(VLOOKUP(C162,#REF!,3,0),\"\")","v":""}]
["岗位16","硕士研究生","影像医学与核医学",{"$f":"IFERROR(VLOOKUP($C163,#REF!,4,0),\"\")&IFERROR(\"；\"&VLOOKUP(C163,#REF!,3,0),\"\")","v":""},{"$f":"IFERROR(VLOOKUP(C163,#REF!,3,0),\"\")","v":""},{"$f":"IFERROR(VLOOKUP(C163,#REF!,3,0),\"\")","v":""}]
["岗位17","硕士研究生","影像医学与核医学",{"$f":"IFERROR(VLOOKUP($C164,#REF!,4,0),\"\")&IFERROR(\"；\"&VLOOKUP(C164,#REF!,3,0),\"\")","v":""},{"$f":"IFERROR(VLOOKUP(C164,#REF!,3,0),\"\")","v":""},{"$f":"IFERROR(VLOOKUP(C164,#REF!,3,0),\"\")","v":""}]
["岗位18","硕士研究生","影像医学与核医学",{"$f":"IFERROR(VLOOKUP($C165,#REF!,4,0),\"\")&IFERROR(\"；\"&VLOOKUP(C165,#REF!,3,0),\"\")","v":""},{"$f":"IFERROR(VLOOKUP(C165,#REF!,3,0),\"\")","v":""},{"$f":"IFERROR(VLOOKUP(C165,#REF!,3,0),\"\")","v":""}]
["岗位19","硕士研究生","影像医学与核医学",{"$f":"IFERROR(VLOOKUP($C166,#REF!,4,0),\"\")&IFERROR(\"；\"&VLOOKUP(C166,#REF!,3,0),\"\")","v":""},{"$f":"IFERROR(VLOOKUP(C166,#REF!,3,0),\"\")","v":""},{"$f":"IFERROR(VLOOKUP(C166,#REF!,3,0),\"\")","v":""}]
["岗位20","硕士研究生","影像医学与核医学",{"$f":"IFERROR(VLOOKUP($C167,#REF!,4,0),\"\")&IFERROR(\"；\"&VLOOKUP(C167,#REF!,3,0),\"\")","v":""},{"$f":"IFERROR(VLOOKUP(C167,#REF!,3,0),\"\")","v":""},{"$f":"IFERROR(VLOOKUP(C167,#REF!,3,0),\"\")","v":""}]
["岗位21","硕士研究生","中医骨伤科学",{"$f":"IFERROR(VLOOKUP($C168,#REF!,4,0),\"\")&IFERROR(\"；\"&VLOOKUP(C168,#REF!,3,0),\"\")","v":""},{"$f":"IFERROR(VLOOKUP(C168,#REF!,3,0),\"\")","v":""},{"$f":"IFERROR(VLOOKUP(C168,#REF!,3,0),\"\")","v":""}]
["岗位22","硕士研究生","药剂学",{"$f":"IFERROR(VLOOKUP($C169,#REF!,4,0),\"\")&IFERROR(\"；\"&VLOOKUP(C169,#REF!,3,0),\"\")","v":""},{"$f":"IFERROR(VLOOKUP(C169,#REF!,3,0),\"\")","v":""},{"$f":"IFERROR(VLOOKUP(C169,#REF!,3,0),\"\")","v":""}]
["岗位22","硕士研究生","药理学",{"$f":"IFERROR(VLOOKUP($C170,#REF!,4,0),\"\")&IFERROR(\"；\"&VLOOKUP(C170,#REF!,3,0),\"\")","v":""},{"$f":"IFERROR(VLOOKUP(C170,#REF!,3,0),\"\")","v":""},{"$f":"IFERROR(VLOOKUP(C170,#REF!,3,0),\"\")","v":""}]
["岗位22","硕士研究生","药物化学",{"$f":"IFERROR(VLOOKUP($C171,#REF!,4,0),\"\")&IFERROR(\"；\"&VLOOKUP(C171,#REF!,3,0),\"\")","v":""},{"$f":"IFERROR(VLOOKUP(C171,#REF!,3,0),\"\")","v":""},{"$f":"IFERROR(VLOOKUP(C171,#REF!,3,0),\"\")","v":""}]
["岗位22","硕士研究生","药物分析学",{"$f":"IFERROR(VLOOKUP($C172,#REF!,4,0),\"\")&IFERROR(\"；\"&VLOOKUP(C172,#REF!,3,0),\"\")","v":""},{"$f":"IFERROR(VLOOKUP(C172,#REF!,3,0),\"\")","v":""},{"$f":"IFERROR(VLOOKUP(C172,#REF!,3,0),\"\")","v":""}]
["岗位22","硕士研究生","药学",{"$f":"IFERROR(VLOOKUP($C173,#REF!,4,0),\"\")&IFERROR(\"；\"&VLOOKUP(C173,#REF!,3,0),\"\")","v":""},{"$f":"IFERROR(VLOOKUP(C173,#REF!,3,0),\"\")","v":""},{"$f":"IFERROR(VLOOKUP(C173,#REF!,3,0),\"\")","v":""}]
["岗位22","硕士研究生","临床药学",{"$f":"IFERROR(VLOOKUP($C174,#REF!,4,0),\"\")&IFERROR(\"；\"&VLOOKUP(C174,#REF!,3,0),\"\")","v":""},{"$f":"IFERROR(VLOOKUP(C174,#REF!,3,0),\"\")","v":""},{"$f":"IFERROR(VLOOKUP(C174,#REF!,3,0),\"\")","v":""}]
["岗位22","硕士研究生","中药学",{"$f":"IFERROR(VLOOKUP($C175,#REF!,4,0),\"\")&IFERROR(\"；\"&VLOOKUP(C175,#REF!,3,0),\"\")","v":""},{"$f":"IFERROR(VLOOKUP(C175,#REF!,3,0),\"\")","v":""},{"$f":"IFERROR(VLOOKUP(C175,#REF!,3,0),\"\")","v":""}]
["岗位23","硕士研究生","临床检验诊断学",{"$f":"IFERROR(VLOOKUP($C176,#REF!,4,0),\"\")&IFERROR(\"；\"&VLOOKUP(C176,#REF!,3,0),\"\")","v":""},{"$f":"IFERROR(VLOOKUP(C176,#REF!,3,0),\"\")","v":""},{"$f":"IFERROR(VLOOKUP(C176,#REF!,3,0),\"\")","v":""}]
["岗位23","硕士研究生","免疫学",{"$f":"IFERROR(VLOOKUP($C177,#REF!,4,0),\"\")&IFERROR(\"；\"&VLOOKUP(C177,#REF!,3,0),\"\")","v":""},{"$f":"IFERROR(VLOOKUP(C177,#REF!,3,0),\"\")","v":""},{"$f":"IFERROR(VLOOKUP(C177,#REF!,3,0),\"\")","v":""}]
["岗位23","硕士研究生","生物化学与分子生物学",{"$f":"IFERROR(VLOOKUP($C178,#REF!,4,0),\"\")&IFERROR(\"；\"&VLOOKUP(C178,#REF!,3,0),\"\")","v":""},{"$f":"IFERROR(VLOOKUP(C178,#REF!,3,0),\"\")","v":""},{"$f":"IFERROR(VLOOKUP(C178,#REF!,3,0),\"\")","v":""}]
["岗位23","硕士研究生","微生物学",{"$f":"IFERROR(VLOOKUP($C179,#REF!,4,0),\"\")&IFERROR(\"；\"&VLOOKUP(C179,#REF!,3,0),\"\")","v":""},{"$f":"IFERROR(VLOOKUP(C179,#REF!,3,0),\"\")","v":""},{"$f":"IFERROR(VLOOKUP(C179,#REF!,3,0),\"\")","v":""}]
["岗位24","硕士研究生","公共卫生与预防医学",{"$f":"IFERROR(VLOOKUP($C180,#REF!,4,0),\"\")&IFERROR(\"；\"&VLOOKUP(C180,#REF!,3,0),\"\")","v":""},{"$f":"IFERROR(VLOOKUP(C180,#REF!,3,0),\"\")","v":""},{"$f":"IFERROR(VLOOKUP(C180,#REF!,3,0),\"\")","v":""}]
["岗位25","硕士研究生","营养与食品卫生学",{"$f":"IFERROR(VLOOKUP($C181,#REF!,4,0),\"\")&IFERROR(\"；\"&VLOOKUP(C181,#REF!,3,0),\"\")","v":""},{"$f":"IFERROR(VLOOKUP(C181,#REF!,3,0),\"\")","v":""},{"$f":"IFERROR(VLOOKUP(C181,#REF!,3,0),\"\")","v":""}]
["岗位26","本科","医学影像学",{"$f":"IFERROR(VLOOKUP($C182,#REF!,4,0),\"\")&IFERROR(\"；\"&VLOOKUP(C182,#REF!,3,0),\"\")","v":""},{"$f":"IFERROR(VLOOKUP(C182,#REF!,3,0),\"\")","v":""},{"$f":"IFERROR(VLOOKUP(C182,#REF!,3,0),\"\")","v":""}]
["岗位27","本科","医学影像学",{"$f":"IFERROR(VLOOKUP($C183,#REF!,4,0),\"\")&IFERROR(\"；\"&VLOOKUP(C183,#REF!,3,0),\"\")","v":""},{"$f":"IFERROR(VLOOKUP(C183,#REF!,3,0),\"\")","v":""},{"$f":"IFERROR(VLOOKUP(C183,#REF!,3,0),\"\")","v":""}]
["岗位28","本科","医学影像学",{"$f":"IFERROR(VLOOKUP($C184,#REF!,4,0),\"\")&IFERROR(\"；\"&VLOOKUP(C184,#REF!,3,0),\"\")","v":""},{"$f":"IFERROR(VLOOKUP(C184,#REF!,3,0),\"\")","v":""},{"$f":"IFERROR(VLOOKUP(C184,#REF!,3,0),\"\")","v":""}]
["岗位29","本科","医学影像学",{"$f":"IFERROR(VLOOKUP($C185,#REF!,4,0),\"\")&IFERROR(\"；\"&VLOOKUP(C185,#REF!,3,0),\"\")","v":""},{"$f":"IFERROR(VLOOKUP(C185,#REF!,3,0),\"\")","v":""},{"$f":"IFERROR(VLOOKUP(C185,#REF!,3,0),\"\")","v":""}]
["岗位30","本科","医学影像学",{"$f":"IFERROR(VLOOKUP($C186,#REF!,4,0),\"\")&IFERROR(\"；\"&VLOOKUP(C186,#REF!,3,0),\"\")","v":""},{"$f":"IFERROR(VLOOKUP(C186,#REF!,3,0),\"\")","v":""},{"$f":"IFERROR(VLOOKUP(C186,#REF!,3,0),\"\")","v":""}]
["岗位31","本科","医学检验",{"$f":"IFERROR(VLOOKUP($C187,#REF!,4,0),\"\")&IFERROR(\"；\"&VLOOKUP(C187,#REF!,3,0),\"\")","v":""},{"$f":"IFERROR(VLOOKUP(C187,#REF!,3,0),\"\")","v":""},{"$f":"IFERROR(VLOOKUP(C187,#REF!,3,0),\"\")","v":""}]
["岗位31","本科","医学检验技术",{"$f":"IFERROR(VLOOKUP($C188,#REF!,4,0),\"\")&IFERROR(\"；\"&VLOOKUP(C188,#REF!,3,0),\"\")","v":""},{"$f":"IFERROR(VLOOKUP(C188,#REF!,3,0),\"\")","v":""},{"$f":"IFERROR(VLOOKUP(C188,#REF!,3,0),\"\")","v":""}]
["岗位32","本科","医学检验",{"$f":"IFERROR(VLOOKUP($C189,#REF!,4,0),\"\")&IFERROR(\"；\"&VLOOKUP(C189,#REF!,3,0),\"\")","v":""},{"$f":"IFERROR(VLOOKUP(C189,#REF!,3,0),\"\")","v":""},{"$f":"IFERROR(VLOOKUP(C189,#REF!,3,0),\"\")","v":""}]
["岗位32","本科","医学检验技术",{"$f":"IFERROR(VLOOKUP($C190,#REF!,4,0),\"\")&IFERROR(\"；\"&VLOOKUP(C190,#REF!,3,0),\"\")","v":""},{"$f":"IFERROR(VLOOKUP(C190,#REF!,3,0),\"\")","v":""},{"$f":"IFERROR(VLOOKUP(C190,#REF!,3,0),\"\")","v":""}]
["岗位33","本科","康复治疗学",{"$f":"IFERROR(VLOOKUP($C191,#REF!,4,0),\"\")&IFERROR(\"；\"&VLOOKUP(C191,#REF!,3,0),\"\")","v":""},{"$f":"IFERROR(VLOOKUP(C191,#REF!,3,0),\"\")","v":""},{"$f":"IFERROR(VLOOKUP(C191,#REF!,3,0),\"\")","v":""}]
["岗位34","本科","药学",{"$f":"IFERROR(VLOOKUP($C192,#REF!,4,0),\"\")&IFERROR(\"；\"&VLOOKUP(C192,#REF!,3,0),\"\")","v":""},{"$f":"IFERROR(VLOOKUP(C192,#REF!,3,0),\"\")","v":""},{"$f":"IFERROR(VLOOKUP(C192,#REF!,3,0),\"\")","v":""}]
["岗位34","本科","临床药学",{"$f":"IFERROR(VLOOKUP($C193,#REF!,4,0),\"\")&IFERROR(\"；\"&VLOOKUP(C193,#REF!,3,0),\"\")","v":""},{"$f":"IFERROR(VLOOKUP(C193,#REF!,3,0),\"\")","v":""},{"$f":"IFERROR(VLOOKUP(C193,#REF!,3,0),\"\")","v":""}]
["岗位35","本科","医学影像技术",{"$f":"IFERROR(VLOOKUP($C194,#REF!,4,0),\"\")&IFERROR(\"；\"&VLOOKUP(C194,#REF!,3,0),\"\")","v":""},{"$f":"IFERROR(VLOOKUP(C194,#REF!,3,0),\"\")","v":""},{"$f":"IFERROR(VLOOKUP(C194,#REF!,3,0),\"\")","v":""}]
["岗位36","本科","医学影像技术",{"$f":"IFERROR(VLOOKUP($C195,#REF!,4,0),\"\")&IFERROR(\"；\"&VLOOKUP(C195,#REF!,3,0),\"\")","v":""},{"$f":"IFERROR(VLOOKUP(C195,#REF!,3,0),\"\")","v":""},{"$f":"IFERROR(VLOOKUP(C195,#REF!,3,0),\"\")","v":""}]
["岗位37","本科","护理学类",{"$f":"IFERROR(VLOOKUP($C196,#REF!,4,0),\"\")&IFERROR(\"；\"&VLOOKUP(C196,#REF!,3,0),\"\")","v":""},{"$f":"IFERROR(VLOOKUP(C196,#REF!,3,0),\"\")","v":""},{"$f":"IFERROR(VLOOKUP(C196,#REF!,3,0),\"\")","v":""}]
["岗位38","专科","护理学类",{"$f":"IFERROR(VLOOKUP($C197,#REF!,4,0),\"\")&IFERROR(\"；\"&VLOOKUP(C197,#REF!,3,0),\"\")","v":""},{"$f":"IFERROR(VLOOKUP(C197,#REF!,3,0),\"\")","v":""},{"$f":"IFERROR(VLOOKUP(C197,#REF!,3,0),\"\")","v":""}]
["岗位39","专科","护理学类",{"$f":"IFERROR(VLOOKUP($C198,#REF!,4,0),\"\")&IFERROR(\"；\"&VLOOKUP(C198,#REF!,3,0),\"\")","v":""},{"$f":"IFERROR(VLOOKUP(C198,#REF!,3,0),\"\")","v":""},{"$f":"IFERROR(VLOOKUP(C198,#REF!,3,0),\"\")","v":""}]